BEGIN:VCALENDAR
VERSION:2.0
PRODID:-//Freiwilligenagentur Bielefeld - ECPv6.15.20//NONSGML v1.0//EN
CALSCALE:GREGORIAN
METHOD:PUBLISH
X-ORIGINAL-URL:https://freiwilligenagentur-bielefeld.de
X-WR-CALDESC:Veranstaltungen für Freiwilligenagentur Bielefeld
REFRESH-INTERVAL;VALUE=DURATION:PT1H
X-Robots-Tag:noindex
X-PUBLISHED-TTL:PT1H
BEGIN:VTIMEZONE
TZID:Europe/Berlin
BEGIN:DAYLIGHT
TZOFFSETFROM:+0100
TZOFFSETTO:+0200
TZNAME:CEST
DTSTART:20240331T010000
END:DAYLIGHT
BEGIN:STANDARD
TZOFFSETFROM:+0200
TZOFFSETTO:+0100
TZNAME:CET
DTSTART:20241027T010000
END:STANDARD
BEGIN:DAYLIGHT
TZOFFSETFROM:+0100
TZOFFSETTO:+0200
TZNAME:CEST
DTSTART:20250330T010000
END:DAYLIGHT
BEGIN:STANDARD
TZOFFSETFROM:+0200
TZOFFSETTO:+0100
TZNAME:CET
DTSTART:20251026T010000
END:STANDARD
BEGIN:DAYLIGHT
TZOFFSETFROM:+0100
TZOFFSETTO:+0200
TZNAME:CEST
DTSTART:20260329T010000
END:DAYLIGHT
BEGIN:STANDARD
TZOFFSETFROM:+0200
TZOFFSETTO:+0100
TZNAME:CET
DTSTART:20261025T010000
END:STANDARD
END:VTIMEZONE
BEGIN:VEVENT
DTSTART;TZID=Europe/Berlin:20250610T170000
DTEND;TZID=Europe/Berlin:20250610T181500
DTSTAMP:20260423T024907
CREATED:20250512T113618Z
LAST-MODIFIED:20250512T113620Z
UID:10000020-1749574800-1749579300@freiwilligenagentur-bielefeld.de
SUMMARY:DSEEerklärt Unternehmenszusammenarbeit Teil 1: Hand in Hand – Erfolgreiche Kooperationen zwischen Wirtschaft und Vereinen
DESCRIPTION:Kos­ten­lo­ses Semi­nar der DSEE \n\n\n\nKurz­be­schrei­bung: Vie­le Unter­neh­men enga­gie­ren sich gesell­schaft­lich und arbei­ten mit gemein­nüt­zi­gen Orga­ni­sa­tio­nen zusam­men. In die­sem Online-Semi­nar erfahrt ihr\, war­um sol­che Koope­ra­tio­nen wich­tig sind und wel­che Vor­tei­le sie für euren Ver­ein bie­ten. Wir zei­gen euch\, wel­che For­men die­se Zusam­men­ar­beit anneh­men kann\, wel­che Erwar­tun­gen Unter­neh­men an ihre Partner:innen haben und wie bei­de Sei­ten von­ein­an­der pro­fi­tie­ren kön­nen. Ihr lernt\, wie ihr Unter­neh­men als star­ke Part­ner gewinnt und gemein­sam nach­hal­ti­gen Mehr­wert schafft! \n\n\n\nRefe­rent: André Koch-Engel­mann \n\n\n\n\n\n\n\nAndré Koch-Engel­mann ist Geschäfts­füh­rer von UPJ und seit über 20 Jah­ren im gemein­nüt­zi­gen Sek­tor tätig. Von Anfang an beglei­tet ihn die Fra­ge\, wie durch die Zusam­men­ar­beit von mög­lichs­te Vie­len gesell­schaft­li­cher Mehr­wert ent­steht. Bei UPJ ver­ant­wor­tet er daher fol­ge­rich­tig den Arbeits­be­reich zu loka­lem Enga­ge­ment von Unter­neh­men und sek­to­ren­ver­bin­den­den Koope­ra­tio­nen. \n\n\n\nInfo und Anmel­dung: #DSEE­er­klärt Unter­neh­mens­zu­sam­men­ar­beit Teil 1: Hand in Hand — Erfolg­rei­che Koope­ra­tio­nen zwi­schen Wirt­schaft und Ver­ei­nen — Deut­sche Stif­tung für Enga­ge­ment und Ehren­amt
URL:https://freiwilligenagentur-bielefeld.de/veranstaltung/dseeerklaert-unternehmenszusammenarbeit-teil-1-hand-in-hand-erfolgreiche-kooperationen-zwischen-wirtschaft-und-vereinen
CATEGORIES:Workshop / Fortbildung
END:VEVENT
END:VCALENDAR