BEGIN:VCALENDAR
VERSION:2.0
PRODID:-//Freiwilligenagentur Bielefeld - ECPv6.15.20//NONSGML v1.0//EN
CALSCALE:GREGORIAN
METHOD:PUBLISH
X-WR-CALNAME:Freiwilligenagentur Bielefeld
X-ORIGINAL-URL:https://freiwilligenagentur-bielefeld.de
X-WR-CALDESC:Veranstaltungen für Freiwilligenagentur Bielefeld
REFRESH-INTERVAL;VALUE=DURATION:PT1H
X-Robots-Tag:noindex
X-PUBLISHED-TTL:PT1H
BEGIN:VTIMEZONE
TZID:Europe/Berlin
BEGIN:DAYLIGHT
TZOFFSETFROM:+0100
TZOFFSETTO:+0200
TZNAME:CEST
DTSTART:20240331T010000
END:DAYLIGHT
BEGIN:STANDARD
TZOFFSETFROM:+0200
TZOFFSETTO:+0100
TZNAME:CET
DTSTART:20241027T010000
END:STANDARD
BEGIN:DAYLIGHT
TZOFFSETFROM:+0100
TZOFFSETTO:+0200
TZNAME:CEST
DTSTART:20250330T010000
END:DAYLIGHT
BEGIN:STANDARD
TZOFFSETFROM:+0200
TZOFFSETTO:+0100
TZNAME:CET
DTSTART:20251026T010000
END:STANDARD
BEGIN:DAYLIGHT
TZOFFSETFROM:+0100
TZOFFSETTO:+0200
TZNAME:CEST
DTSTART:20260329T010000
END:DAYLIGHT
BEGIN:STANDARD
TZOFFSETFROM:+0200
TZOFFSETTO:+0100
TZNAME:CET
DTSTART:20261025T010000
END:STANDARD
END:VTIMEZONE
BEGIN:VEVENT
DTSTART;TZID=Europe/Berlin:20250616T170000
DTEND;TZID=Europe/Berlin:20250616T183000
DTSTAMP:20260423T024439
CREATED:20250508T134917Z
LAST-MODIFIED:20250508T140516Z
UID:10000008-1750093200-1750098600@freiwilligenagentur-bielefeld.de
SUMMARY:Junge Engagierte fördern? Einblicke und Mitgestaltung ermöglichen!
DESCRIPTION:Kos­ten­lo­ser Work­shop der Lan­des­ser­vice­stel­le NRW. \n\n\n\nWie könnt ihr jun­ge Men­schen schon früh für euren Ver­ein gewin­nen? Wie kann ihnen der Ein­stieg erleich­tert wer­den und wel­che For­ma­te pas­sen zu ihrem All­tag und ihren Inter­es­sen? Wie kön­nen sie am akti­ven Ver­eins­le­ben betei­ligt wer­den? \n\n\n\nVie­le jun­ge Men­schen wol­len sich ein­brin­gen – aber nicht dau­er­haft bin­den. Des­halb pas­sen fle­xi­ble Ehren­amts­mo­del­le oft bes­ser zu ihren Lebens­rea­li­tä­ten. Gefragt sind daher neue For­ma­te\, die auch im Ver­ein funk­tio­nie­ren kön­nen: pro­jekt­be­zo­ge­ne Auf­ga­ben\, fle­xi­ble Zeit­mo­del­le und vor allem auch Mit­spra­che­mög­lich­kei­ten im Ver­eins­ge­sche­hen. \n\n\n\nIm Online-Work­shop erfahrt ihr von Sebas­ti­an West­phal von der Ehren­amts­agen­tur Gel­sen­kir­chen e.V.\, wie der Hel­den­pass es schafft\, jun­ge Men­schen für das Enga­ge­ment zu begeis­tern. Ihr erfahrt\, wel­che For­ma­te zur Lebens­welt jun­ger Men­schen pas­sen\, wie ihr jun­ge Men­schen schon früh an euren Ver­ein her­an­füh­ren könnt und wie ihr eure Struk­tur so wei­ter­denkt\, dass ihr lang­fris­tig gemein­sam stär­ker wer­det. \n\n\n\nFor­mat: \n\n\n\n\nOnline via Zoom Mee­ting\n\n\n\nZum Aus­tausch und Mit­ma­chen – bit­te mit Kame­ra und Mikro­fon\n\n\n\nEure Fra­gen per Chat und Wort­mel­dung\n\n\n\n\nAnmel­dung und Info: Jun­ge Enga­gier­te för­dern? Ein­bli­cke und Mit­ge­stal­tung ermög­li­chen!
URL:https://freiwilligenagentur-bielefeld.de/veranstaltung/junge-engagierte-foerdern-einblicke-und-mitgestaltung-ermoeglichen
END:VEVENT
END:VCALENDAR