BEGIN:VCALENDAR
VERSION:2.0
PRODID:-//Freiwilligenagentur Bielefeld - ECPv6.15.20//NONSGML v1.0//EN
CALSCALE:GREGORIAN
METHOD:PUBLISH
X-ORIGINAL-URL:https://freiwilligenagentur-bielefeld.de
X-WR-CALDESC:Veranstaltungen für Freiwilligenagentur Bielefeld
REFRESH-INTERVAL;VALUE=DURATION:PT1H
X-Robots-Tag:noindex
X-PUBLISHED-TTL:PT1H
BEGIN:VTIMEZONE
TZID:Europe/Berlin
BEGIN:DAYLIGHT
TZOFFSETFROM:+0100
TZOFFSETTO:+0200
TZNAME:CEST
DTSTART:20240331T010000
END:DAYLIGHT
BEGIN:STANDARD
TZOFFSETFROM:+0200
TZOFFSETTO:+0100
TZNAME:CET
DTSTART:20241027T010000
END:STANDARD
BEGIN:DAYLIGHT
TZOFFSETFROM:+0100
TZOFFSETTO:+0200
TZNAME:CEST
DTSTART:20250330T010000
END:DAYLIGHT
BEGIN:STANDARD
TZOFFSETFROM:+0200
TZOFFSETTO:+0100
TZNAME:CET
DTSTART:20251026T010000
END:STANDARD
BEGIN:DAYLIGHT
TZOFFSETFROM:+0100
TZOFFSETTO:+0200
TZNAME:CEST
DTSTART:20260329T010000
END:DAYLIGHT
BEGIN:STANDARD
TZOFFSETFROM:+0200
TZOFFSETTO:+0100
TZNAME:CET
DTSTART:20261025T010000
END:STANDARD
END:VTIMEZONE
BEGIN:VEVENT
DTSTART;TZID=Europe/Berlin:20250625T170000
DTEND;TZID=Europe/Berlin:20250625T181500
DTSTAMP:20260423T024857
CREATED:20250512T114034Z
LAST-MODIFIED:20250512T114036Z
UID:10000022-1750870800-1750875300@freiwilligenagentur-bielefeld.de
SUMMARY:Gemeinsam gestalten: Ehrenamtliches Engagement lebendig machen
DESCRIPTION:Kos­ten­lo­ses Semi­ni­ar der West­fa­len­aka­de­mie \n\n\n\nEnga­gier­te Ver­eins­mit­glie­der sind der Schlüs­sel zu einem leben­di­gen und nach­hal­ti­gen Ver­eins­le­ben – doch vie­le Ver­ei­ne ste­hen vor der Her­aus­for­de­rung\, die­se Men­schen zu fin­den und lang­fris­tig zu bin­den. In die­sem inter­ak­ti­ven Online-Work­shop ler­nen Sie pra­xis­nah und anwend­bar\, wie Sie Ehren­amt­li­che gezielt anspre­chen\, wel­che Enga­ge­ment-Typen es gibt und wie Sie Men­schen im Ver­ein för­dern\, pas­send zu ihren Inter­es­sen und Fähig­kei­ten. Gemein­sam beleuch­ten wir Metho­den\, mit denen sich Ehren­amt­li­che ein­brin­gen und die Ver­eins­ar­beit aktiv mit­ge­stal­ten kön­nen. \n\n\n\nZiel­grup­pe: Ehren­amt­li­che und Ver­eins­ver­ant­wort­li­che\, die ihre Mit­glie­der moti­vie­ren und lang­fris­tig bin­den möch­ten. \n\n\n\nMetho­den: Infor­ma­ti­on und Wis­sens­ver­mitt­lung in klei­nen Prä­sen­ta­tio­nen\, Aus­tausch in Klein­grup­pen\, Dis­kus­si­on und inter­ak­ti­ve Erar­bei­tung von Lösungs­an­sät­zen. \n\n\n\nVor­aus­set­zun­gen: Für eine leben­di­ge und inter­ak­ti­ve Teil­nah­me am Online-Semi­nar ist die Nut­zung von Mikro­fon und Kame­ra erfor­der­lich und aus­drück­lich erwünscht – so schaf­fen wir gemein­sam eine akti­ve Aus­tausch-Atmo­sphä­re\, die über eine rein pas­si­ve Teil­nah­me hin­aus­geht. \n\n\n\nDa die Anzahl an Plät­zen sehr begrenzt ist\, möch­ten wir Sie bit­ten\, sich nur anzu­mel­den\, wenn Sie sicher teil­neh­men kön­nen. Soll­ten Sie ver­hin­dert sein\, mel­den Sie sich bit­te per Mail an seminare@westfalen-akademie.nrw ab\, damit wir Ihren Platz frei­ge­ben kön­nen. \n\n\n\nInfo und Anmel­dung unter: Gemein­sam gestal­ten: Ehren­amt­li­ches Enga­ge­ment leben­dig machen – West­fa­len Aka­de­mie
URL:https://freiwilligenagentur-bielefeld.de/veranstaltung/gemeinsam-gestalten-ehrenamtliches-engagement-lebendig-machen
CATEGORIES:Workshop / Fortbildung
END:VEVENT
BEGIN:VEVENT
DTSTART;TZID=Europe/Berlin:20250625T170000
DTEND;TZID=Europe/Berlin:20250625T183000
DTSTAMP:20260423T024858
CREATED:20250508T135721Z
LAST-MODIFIED:20250512T084047Z
UID:10000009-1750870800-1750876200@freiwilligenagentur-bielefeld.de
SUMMARY:Tue Gutes und profitiere davon – mit Engagementnachweis NRW und Co.
DESCRIPTION:Kos­ten­lo­ser Work­shop der Lan­des­ser­vice­stel­le NRW. \n\n\n\nWie kön­nen Ver­ei­ne den enga­gier­ten Ein­satz ihrer Mit­glie­der sicht­bar machen? Was für eine Rol­le spie­len dabei Zer­ti­fi­ka­te? Und wel­che Instru­men­te bie­tet das Land Nord­rhein-West­fa­len\, um bür­ger­schaft­li­ches Enga­ge­ment anzu­er­ken­nen? \n\n\n\nGemein­nüt­zi­ge Ver­ei­ne\, die den wert­vol­len Ein­satz ihrer Enga­gier­ten aner­ken­nen möch­ten – auch\, damit das Enga­ge­ment ihrer Ehren­amt­li­chen zum Bei­spiel bei Bewer­bungs­pro­zes­sen nach­ge­wie­sen wer­den kann\, haben die Mög­lich­keit\, den Enga­ge­ment­nach­weis NRW aus­zu­stel­len. \n\n\n\nEhren­amt­li­che\, die sich in beson­de­rem zeit­li­chen Maße für das Gemein­wohl enga­gie­ren\, kön­nen außer­dem die Ehren­amts­kar­te NRW bean­tra­gen und mit ihr zahl­rei­che Ver­güns­ti­gun­gen in Anspruch neh­men. Dafür stellt das Land auch eine prak­ti­sche App zur Ver­fü­gung. \n\n\n\nBei­de Instru­men­te der Aner­ken­nung stellt euch in die­sem Web­i­nar Kari­na Con­co­ni vom Refe­rat Bür­ger­schaft­li­ches Enga­ge­ment der Staats­kanz­lei des Lan­des Nord­rhein-West­fa­len vor. Sie zeigt euch\, unter wel­chen Vor­aus­set­zun­gen Ver­ei­ne die Aus­stel­lungs­be­rech­ti­gung für den Enga­ge­ment­nach­weis NRW erhal­ten. Außer­dem infor­miert sie dar­über\, wer eurer Mit­glie­der die Ehren­amts­kar­te NRW bean­tra­gen kann und was die Vor­tei­le der App sind. \n\n\n\nFor­mat: \n\n\n\n\nOnline via Zoom Mee­ting\n\n\n\nZum Aus­tausch und Mit­ma­chen – bit­te mit Kame­ra und Mikro­fon\n\n\n\nEure Fra­gen per Chat und Wort­mel­dung\n\n\n\n\nAnmel­dung und Info: Tue Gutes und pro­fi­tie­re davon – mit Enga­ge­ment­nach­weis NRW und Co.
URL:https://freiwilligenagentur-bielefeld.de/veranstaltung/tue-gutes-und-profitiere-davon-mit-engagementnachweis-nrw-und-co
LOCATION:Online
END:VEVENT
END:VCALENDAR