BEGIN:VCALENDAR
VERSION:2.0
PRODID:-//Freiwilligenagentur Bielefeld - ECPv6.15.20//NONSGML v1.0//EN
CALSCALE:GREGORIAN
METHOD:PUBLISH
X-WR-CALNAME:Freiwilligenagentur Bielefeld
X-ORIGINAL-URL:https://freiwilligenagentur-bielefeld.de
X-WR-CALDESC:Veranstaltungen für Freiwilligenagentur Bielefeld
REFRESH-INTERVAL;VALUE=DURATION:PT1H
X-Robots-Tag:noindex
X-PUBLISHED-TTL:PT1H
BEGIN:VTIMEZONE
TZID:Europe/Berlin
BEGIN:DAYLIGHT
TZOFFSETFROM:+0100
TZOFFSETTO:+0200
TZNAME:CEST
DTSTART:20240331T010000
END:DAYLIGHT
BEGIN:STANDARD
TZOFFSETFROM:+0200
TZOFFSETTO:+0100
TZNAME:CET
DTSTART:20241027T010000
END:STANDARD
BEGIN:DAYLIGHT
TZOFFSETFROM:+0100
TZOFFSETTO:+0200
TZNAME:CEST
DTSTART:20250330T010000
END:DAYLIGHT
BEGIN:STANDARD
TZOFFSETFROM:+0200
TZOFFSETTO:+0100
TZNAME:CET
DTSTART:20251026T010000
END:STANDARD
BEGIN:DAYLIGHT
TZOFFSETFROM:+0100
TZOFFSETTO:+0200
TZNAME:CEST
DTSTART:20260329T010000
END:DAYLIGHT
BEGIN:STANDARD
TZOFFSETFROM:+0200
TZOFFSETTO:+0100
TZNAME:CET
DTSTART:20261025T010000
END:STANDARD
END:VTIMEZONE
BEGIN:VEVENT
DTSTART;TZID=Europe/Berlin:20250626T150000
DTEND;TZID=Europe/Berlin:20250626T180000
DTSTAMP:20260423T024608
CREATED:20250512T114634Z
LAST-MODIFIED:20250512T114635Z
UID:10000023-1750950000-1750960800@freiwilligenagentur-bielefeld.de
SUMMARY:Mitglieder gewinnen für den Verein
DESCRIPTION:Kos­ten­lo­ses Semi­nar der West­fa­len­aka­de­mie \n\n\n\nDas Semi­nar ver­deut­licht über theo­re­ti­sche Inputs und krea­ti­ve Grup­pen­ar­bei­ten die Bedeu­tung der Mit­glie­der­ge­win­nung und Mit­glieds­pfle­ge als kon­ti­nu­ier­li­che Auf­ga­be im Ver­ein. Dabei spielt in einem Per­spek­ti­ven­wech­sel der Blick auf die Moti­ve und Bedürf­nis­se der Ziel­grup­pe eben­so eine Rol­le wie pra­xis­na­he Ideen zur Anspra­che neu­er Mit­glie­der. Nicht zuletzt geht es um die Fra­ge\, wie Ver­ei­ne es schaf­fen\, dass neue Mit­glie­der „am Ball blei­ben“ und viel­leicht noch wei­ter Inter­es­sier­te für den Ver­ein gewin­nen. \n\n\n\nInhal­te:• Grund­la­gen der Mit­glie­der­ge­win­nung• Wahr­neh­mung des Ver­eins durch die Ziel­grup­pe• Refle­xi­on und Ver­net­zung – Erfah­rungs­aus­tausch und Good-Prac­ti­ce-Bei­spie­le \n\n\n\nRefe­ren­tin:Die erfah­re­ne Frei­wil­li­gen­ma­na­ge­rin Anne­ke Git­ter­mann hat 15 Jah­re eine Frei­wil­li­gen­agen­tur gelei­tet und 10 Jah­re die Enga­ge­ment­för­de­rung einer evan­ge­li­schen Lan­des­kir­che. Sie ist (Mit-)Autorin ver­schie­de­ner Bücher zum The­ma. \n\n\n\nDas Semi­nar fin­det im Rah­men der Rei­he West­fa­len-Aka­de­mie vor Ort in Koope­ra­ti­on mit der Frei­wil­li­gen­zen­tra­le Hagen statt. \n\n\n\nAnmel­dung unter: Mit­glie­der gewin­nen für den Ver­ein – West­fa­len Aka­de­mie
URL:https://freiwilligenagentur-bielefeld.de/veranstaltung/mitglieder-gewinnen-fuer-den-verein
LOCATION:Rathaus an der Volme\, Rathausstr. 13\, Hagen\, Germany
CATEGORIES:Workshop / Fortbildung
END:VEVENT
BEGIN:VEVENT
DTSTART;TZID=Europe/Berlin:20250626T170000
DTEND;TZID=Europe/Berlin:20250626T181500
DTSTAMP:20260423T024609
CREATED:20250512T115159Z
LAST-MODIFIED:20250512T115201Z
UID:10000024-1750957200-1750961700@freiwilligenagentur-bielefeld.de
SUMMARY:DSEEinformiert: Mittelabrufe\, Mittelverwendung\, Verwendungsnachweise
DESCRIPTION:Kos­ten­lo­ses Online-Semi­nar der DSEE \n\n\n\nEurer För­der­an­trag ist bewil­ligt? Ihr steckt mit­ten in der Umset­zung eures bewil­lig­ten Pro­jek­tes oder sogar schon kurz vor dem Pro­jekt­ab­schluss? In jeder Pha­se eines För­der­pro­jek­tes gibt es Fra­gen zur finan­zi­el­len Abwick­lung: Wann und wie muss ein Mit­tel­ab­ruf ein­ge­reicht wer­den? Wie und wofür dür­fen die geneh­mig­ten Mit­tel ver­wen­det wer­den? Wel­che Doku­men­ta­ti­ons­pflich­ten gibt es? Wie funk­tio­niert ein Ver­wen­dungs­nach­weis? Was gehört in einen Sach­be­richt? \n\n\n\nDas kom­pak­te Online-Semi­nar beant­wor­tet eure Fra­gen rund um das The­ma För­der­mit­tel: vom ers­ten Mit­tel­ab­ruf über die kor­rek­te Ver­wen­dung der För­der­mit­tel bis hin zum Nach­weis der Mit­tel­ver­wen­dung zum Ende eures Pro­jek­tes. \n\n\n\nInfo und Anmel­dung unter: #DSEE­in­for­miert: Mit­tel­ab­ru­fe\, Mit­tel­ver­wen­dung\, Ver­wen­dungs­nach­wei­se — Deut­sche Stif­tung für Enga­ge­ment und Ehren­amt
URL:https://freiwilligenagentur-bielefeld.de/veranstaltung/dseeinformiert-mittelabrufe-mittelverwendung-verwendungsnachweise-2
CATEGORIES:Workshop / Fortbildung
END:VEVENT
END:VCALENDAR