BEGIN:VCALENDAR
VERSION:2.0
PRODID:-//Freiwilligenagentur Bielefeld - ECPv6.15.20//NONSGML v1.0//EN
CALSCALE:GREGORIAN
METHOD:PUBLISH
X-WR-CALNAME:Freiwilligenagentur Bielefeld
X-ORIGINAL-URL:https://freiwilligenagentur-bielefeld.de
X-WR-CALDESC:Veranstaltungen für Freiwilligenagentur Bielefeld
REFRESH-INTERVAL;VALUE=DURATION:PT1H
X-Robots-Tag:noindex
X-PUBLISHED-TTL:PT1H
BEGIN:VTIMEZONE
TZID:Europe/Berlin
BEGIN:DAYLIGHT
TZOFFSETFROM:+0100
TZOFFSETTO:+0200
TZNAME:CEST
DTSTART:20240331T010000
END:DAYLIGHT
BEGIN:STANDARD
TZOFFSETFROM:+0200
TZOFFSETTO:+0100
TZNAME:CET
DTSTART:20241027T010000
END:STANDARD
BEGIN:DAYLIGHT
TZOFFSETFROM:+0100
TZOFFSETTO:+0200
TZNAME:CEST
DTSTART:20250330T010000
END:DAYLIGHT
BEGIN:STANDARD
TZOFFSETFROM:+0200
TZOFFSETTO:+0100
TZNAME:CET
DTSTART:20251026T010000
END:STANDARD
BEGIN:DAYLIGHT
TZOFFSETFROM:+0100
TZOFFSETTO:+0200
TZNAME:CEST
DTSTART:20260329T010000
END:DAYLIGHT
BEGIN:STANDARD
TZOFFSETFROM:+0200
TZOFFSETTO:+0100
TZNAME:CET
DTSTART:20261025T010000
END:STANDARD
END:VTIMEZONE
BEGIN:VEVENT
DTSTART;TZID=Europe/Berlin:20250701T170000
DTEND;TZID=Europe/Berlin:20250701T183000
DTSTAMP:20260424T100611
CREATED:20250626T132311Z
LAST-MODIFIED:20250626T132314Z
UID:10000036-1751389200-1751394600@freiwilligenagentur-bielefeld.de
SUMMARY:„Danke für euren Einsatz!“ – Wertschätzung zum Ausdruck bringen
DESCRIPTION:Ver­an­stal­tungs­rei­he: Enga­giert in die Zukunft \n\n\n\nWar­um ist es so wich­tig\, wert­schät­zend zu kom­mu­ni­zie­ren? Was bedeu­tet das über­haupt und wel­che Mög­lich­kei­ten bie­ten sich an\, Wert­schät­zung vor allem gegen­über neu­en Enga­gier­ten zum Aus­druck zu brin­gen? \n\n\n\nSicht­bar­keit\, Zuspruch und aner­ken­nen­de Wor­te sind wich­ti­ge Instru­men­te\, um ein ange­neh­mes und offe­nes Umfeld zu ermög­li­chen. Außer­dem hel­fen sie dabei\, Unsi­cher­hei­ten abzu­bau­en und moti­vie­ren neue Mit­strei­ten­de in ihrem Tun. In die­sem Online-Work­shop erfahrt ihr\, wie ihr neue Enga­gier­te durch wert­schät­zen­de Kom­mu­ni­ka­ti­on för­dert und für die akti­ve Teil­ha­be in eurem Ver­ein begeis­tern könnt. Außer­dem zei­gen euch die Refe­rie­ren­den\, wie ihr Leis­tung sicht­ba­rer machen könnt und wel­che Mög­lich­kei­ten es noch gibt\, den Ein­satz von jun­gen Enga­gier­ten anzu­er­ken­nen. \n\n\n\nIm Work­shop gibt euch Ruben Hei­ni­cke vom DRK- Lan­des­ver­band West­fah­len Lip­pe e.V. wert­vol­le Ein­bli­cke in das The­ma Wert­schät­zen­de Kom­mu­ni­ka­ti­on und Sicht­bar­keit. Außer­dem gibt uns Inken Nam­o­ckel vom Tur­ner­bund Burg­stein­furt e.V. Ein­bli­cke in die Pra­xis. \n\n\n\nFor­mat: \n\n\n\n\nOnline via Zoom Mee­ting\n\n\n\nZum Aus­tausch und Mit­ma­chen – bit­te mit Kame­ra und Mikro­fon\n\n\n\nEure Fra­gen per Chat und Wort­mel­dung\n\n\n\n\nAnmel­dung und Info unter: „Dan­ke für euren Ein­satz!“ – Wert­schät­zung zum Aus­druck brin­gen
URL:https://freiwilligenagentur-bielefeld.de/veranstaltung/danke-fuer-euren-einsatz-wertschaetzung-zum-ausdruck-bringen-2
LOCATION:Online
END:VEVENT
END:VCALENDAR