BEGIN:VCALENDAR
VERSION:2.0
PRODID:-//Freiwilligenagentur Bielefeld - ECPv6.15.20//NONSGML v1.0//EN
CALSCALE:GREGORIAN
METHOD:PUBLISH
X-ORIGINAL-URL:https://freiwilligenagentur-bielefeld.de
X-WR-CALDESC:Veranstaltungen für Freiwilligenagentur Bielefeld
REFRESH-INTERVAL;VALUE=DURATION:PT1H
X-Robots-Tag:noindex
X-PUBLISHED-TTL:PT1H
BEGIN:VTIMEZONE
TZID:Europe/Berlin
BEGIN:DAYLIGHT
TZOFFSETFROM:+0100
TZOFFSETTO:+0200
TZNAME:CEST
DTSTART:20240331T010000
END:DAYLIGHT
BEGIN:STANDARD
TZOFFSETFROM:+0200
TZOFFSETTO:+0100
TZNAME:CET
DTSTART:20241027T010000
END:STANDARD
BEGIN:DAYLIGHT
TZOFFSETFROM:+0100
TZOFFSETTO:+0200
TZNAME:CEST
DTSTART:20250330T010000
END:DAYLIGHT
BEGIN:STANDARD
TZOFFSETFROM:+0200
TZOFFSETTO:+0100
TZNAME:CET
DTSTART:20251026T010000
END:STANDARD
BEGIN:DAYLIGHT
TZOFFSETFROM:+0100
TZOFFSETTO:+0200
TZNAME:CEST
DTSTART:20260329T010000
END:DAYLIGHT
BEGIN:STANDARD
TZOFFSETFROM:+0200
TZOFFSETTO:+0100
TZNAME:CET
DTSTART:20261025T010000
END:STANDARD
END:VTIMEZONE
BEGIN:VEVENT
DTSTART;TZID=Europe/Berlin:20250710T170000
DTEND;TZID=Europe/Berlin:20250710T183000
DTSTAMP:20260423T011111
CREATED:20250512T104130Z
LAST-MODIFIED:20250512T104131Z
UID:10000013-1752166800-1752172200@freiwilligenagentur-bielefeld.de
SUMMARY:Junge Engagierte fördern und Vorstandsnachwuchs gewinnen
DESCRIPTION:Ihr möch­tet neue Leu­te für die Vor­stands­ar­beit in eurem Ver­ein begeis­tern\, steht aber vor der Her­aus­for­de­rung\, Nach­wuchs zu fin­den? Ihr seid auf der Suche nach ganz neu­en Mög­lich­kei­ten\, Enga­gier­te für euren Vor­stand zu begeis­tern? Ihr wollt den aktu­el­len Vor­stand dafür gewin­nen\, für die Zukunft eures Ver­eins neue Wege zu gehen? \n\n\n\nIn die­sem Online-Work­shop wer­fen wir gemein­sam mit Sarah Kiss­ler einen Blick dar­auf\, wel­che Her­aus­for­de­run­gen der Nach­wuchs­ge­win­nung im Ver­eins­vor­stand im Wege ste­hen und vor allem\, wel­che Hebel es gibt\, sie zu meis­tern. Denn Sie hat im Pro­jekt „Zukunft Ehren­amt sichern“ in den ver­gan­ge­nen Jah­ren tie­fe Ein­bli­cke in das The­ma gewon­nen und berich­tet über die Erkennt­nis­se aus die­sem Pro­jekt. Außer­dem erfahrt ihr von Inken Nam­o­ckel\, selbst jun­ge stell­ver­tre­ten­de Vor­sit­zen­de beim Tur­ner­bund Burg­stein­furt\, wie der Ver­ein es geschafft hat\, sei­ne Gre­mi­en zu stär­ken und neue Ehren­amt­le­rin­nen und Ehren­amt­ler auch für ver­ant­wor­tungs­vol­le Posi­tio­nen zu begeis­tern. \n\n\n\nFor­mat: \n\n\n\nEure Fra­gen per Chat und Wort­mel­dung \n\n\n\nOnline via Zoom Mee­ting \n\n\n\nZum Aus­tausch und Mit­ma­chen – bit­te mit Kame­ra und Mikro­fon \n\n\n\nAnmel­dung und Infos unter: Jun­ge Enga­gier­te för­dern und Vor­stands­nach­wuchs gewin­nen
URL:https://freiwilligenagentur-bielefeld.de/veranstaltung/junge-engagierte-foerdern-und-vorstandsnachwuchs-gewinnen
CATEGORIES:Workshop / Fortbildung
END:VEVENT
END:VCALENDAR