BEGIN:VCALENDAR
VERSION:2.0
PRODID:-//Freiwilligenagentur Bielefeld - ECPv6.15.20//NONSGML v1.0//EN
CALSCALE:GREGORIAN
METHOD:PUBLISH
X-ORIGINAL-URL:https://freiwilligenagentur-bielefeld.de
X-WR-CALDESC:Veranstaltungen für Freiwilligenagentur Bielefeld
REFRESH-INTERVAL;VALUE=DURATION:PT1H
X-Robots-Tag:noindex
X-PUBLISHED-TTL:PT1H
BEGIN:VTIMEZONE
TZID:Europe/Berlin
BEGIN:DAYLIGHT
TZOFFSETFROM:+0100
TZOFFSETTO:+0200
TZNAME:CEST
DTSTART:20240331T010000
END:DAYLIGHT
BEGIN:STANDARD
TZOFFSETFROM:+0200
TZOFFSETTO:+0100
TZNAME:CET
DTSTART:20241027T010000
END:STANDARD
BEGIN:DAYLIGHT
TZOFFSETFROM:+0100
TZOFFSETTO:+0200
TZNAME:CEST
DTSTART:20250330T010000
END:DAYLIGHT
BEGIN:STANDARD
TZOFFSETFROM:+0200
TZOFFSETTO:+0100
TZNAME:CET
DTSTART:20251026T010000
END:STANDARD
BEGIN:DAYLIGHT
TZOFFSETFROM:+0100
TZOFFSETTO:+0200
TZNAME:CEST
DTSTART:20260329T010000
END:DAYLIGHT
BEGIN:STANDARD
TZOFFSETFROM:+0200
TZOFFSETTO:+0100
TZNAME:CET
DTSTART:20261025T010000
END:STANDARD
END:VTIMEZONE
BEGIN:VEVENT
DTSTART;TZID=Europe/Berlin:20250822T120000
DTEND;TZID=Europe/Berlin:20250822T140000
DTSTAMP:20260422T232722
CREATED:20250804T111127Z
LAST-MODIFIED:20250804T111147Z
UID:10000039-1755864000-1755871200@freiwilligenagentur-bielefeld.de
SUMMARY:Text-Level-up - Vereinsanträge & Co
DESCRIPTION:Bes­ser tex­ten mit KI-Power \n\n\n\n\n\nEin lee­res Blatt und kei­ne Ideen? Oder das Gefühl\, immer wie­der die­sel­ben Sät­ze zu schrei­ben? Damit ist jetzt Schluss. In unse­rem Work­shop lernst du\, wie du mit­hil­fe von KI dei­ne Anträ­ge\, Berich­te und alle ande­ren Tex­te mit Klar­heit\, Struk­tur und Prä­zi­si­on ver­fasst. Kein Wirr­warr mehr\, son­dern Tex­te\, die auf den Punkt kom­men und über­zeu­gen. Lass dich inspi­rie­ren und bring dei­ne Tex­te mit prak­ti­schen Tipps auf das nächs­te Level. \n\n\n\nKontaktangaben\n\n\n\nehrenamt-zweinull@posteo.de \n\n\n\nSey­en­gas­se 5\, 50678 Köln\, Innen­stadt\, Ger­ma­ny \n\n\n\nInfos und Anmel­dung unter: Text-Level-up — Ver­eins­an­trä­ge & Co | Ehren­amt 2.0
URL:https://freiwilligenagentur-bielefeld.de/veranstaltung/text-level-up-vereinsantraege-co
LOCATION:Online
CATEGORIES:Workshop / Fortbildung
END:VEVENT
END:VCALENDAR