BEGIN:VCALENDAR
VERSION:2.0
PRODID:-//Freiwilligenagentur Bielefeld - ECPv6.15.20//NONSGML v1.0//EN
CALSCALE:GREGORIAN
METHOD:PUBLISH
X-ORIGINAL-URL:https://freiwilligenagentur-bielefeld.de
X-WR-CALDESC:Veranstaltungen für Freiwilligenagentur Bielefeld
REFRESH-INTERVAL;VALUE=DURATION:PT1H
X-Robots-Tag:noindex
X-PUBLISHED-TTL:PT1H
BEGIN:VTIMEZONE
TZID:Europe/Berlin
BEGIN:DAYLIGHT
TZOFFSETFROM:+0100
TZOFFSETTO:+0200
TZNAME:CEST
DTSTART:20240331T010000
END:DAYLIGHT
BEGIN:STANDARD
TZOFFSETFROM:+0200
TZOFFSETTO:+0100
TZNAME:CET
DTSTART:20241027T010000
END:STANDARD
BEGIN:DAYLIGHT
TZOFFSETFROM:+0100
TZOFFSETTO:+0200
TZNAME:CEST
DTSTART:20250330T010000
END:DAYLIGHT
BEGIN:STANDARD
TZOFFSETFROM:+0200
TZOFFSETTO:+0100
TZNAME:CET
DTSTART:20251026T010000
END:STANDARD
BEGIN:DAYLIGHT
TZOFFSETFROM:+0100
TZOFFSETTO:+0200
TZNAME:CEST
DTSTART:20260329T010000
END:DAYLIGHT
BEGIN:STANDARD
TZOFFSETFROM:+0200
TZOFFSETTO:+0100
TZNAME:CET
DTSTART:20261025T010000
END:STANDARD
END:VTIMEZONE
BEGIN:VEVENT
DTSTART;TZID=Europe/Berlin:20250930T170000
DTEND;TZID=Europe/Berlin:20250930T181500
DTSTAMP:20260422T201252
CREATED:20250807T114636Z
LAST-MODIFIED:20250807T114657Z
UID:10000055-1759251600-1759256100@freiwilligenagentur-bielefeld.de
SUMMARY:#DSEEerklärt: Mit Sicherheit engagiert- Haftungsrisiken erkennen und minimieren
DESCRIPTION:Ob Vor­stand\, Kas­sen­war­tin oder Pro­jekt­lei­ter – wer im Ver­ein Ver­ant­wor­tung trägt\, kann bei Pflicht­ver­let­zun­gen per­sön­lich haf­ten. In die­sem Online-Semi­nar zei­gen wir euch\, wo die größ­ten Risi­ken für Ehren- und Haupt­amt­li­che lie­gen und wie ihr die­se wirk­sam mini­mie­ren könnt. Ihr erfahrt\, wel­che gesetz­li­chen Rege­lun­gen gel­ten\, wie Sat­zung und Geschäfts­ord­nung schüt­zen kön­nen\, wel­che typi­schen Haf­tungs­fal­len es gibt und wel­che Ver­si­che­run­gen sinn­voll absi­chern. \n\n\n\nZiel­grup­pe: Das Online-Semi­nar rich­tet sich vor allem an Vor­stän­de\, haupt­amt­li­che Geschäfts­füh­rer und alle\, die Ver­ant­wor­tung imVer­ein über­neh­men. \n\n\n\nRefe­rent: Dr. Dirk Schwenn \n\n\n\nInfos und Anmel­dung unter: #DSEE­er­klärt: Mit Sicher­heit enga­giert- Haf­tungs­ri­si­ken erken­nen und mini­mie­ren — Deut­sche Stif­tung für Enga­ge­ment und Ehren­amt
URL:https://freiwilligenagentur-bielefeld.de/veranstaltung/dseeerklaert-mit-sicherheit-engagiert-haftungsrisiken-erkennen-und-minimieren
LOCATION:Online
CATEGORIES:Workshop / Fortbildung
ORGANIZER;CN="Deutsche Stiftung f%C3%BCr Engagement und Ehrenamt":MAILTO:hallo@d.s.e.e.de
END:VEVENT
BEGIN:VEVENT
DTSTART;TZID=Europe/Berlin:20250930T180000
DTEND;TZID=Europe/Berlin:20250930T213000
DTSTAMP:20260422T201252
CREATED:20250908T082012Z
LAST-MODIFIED:20250908T082038Z
UID:10000078-1759255200-1759267800@freiwilligenagentur-bielefeld.de
SUMMARY:Digital Gedacht\, Zukunft Gemacht: Abendcamp
DESCRIPTION:Digi­tal Gedacht\, Zukunft Gemacht ist das Ideen­camp für Dei­nen Ver­ein. Es lie­fert Ori­en­tie­rung und Über­blick zu den wich­tigs­ten Tools und Stra­te­gien für einen wirk­sa­me­ren Ver­eins­all­tag. Und\, wirk­lich wahr\, Du ent­wi­ckelst live einen ver­eins­in­di­vi­du­el­len Zukunfts­fahr­plan. \n\n\n\nHerz­stück der Kon­fe­renz ist unse­re selbst­ent­wi­ckel­te künst­li­che Intel­li­genz AIro­n­men\, die jeden Ver­ein in Win­des­ei­le ver­or­tet. Sie ana­ly­siert ver­eins­in­di­vi­du­ell den gegen­wär­ti­gen digi­tal­stra­te­gi­schen Ent­wick­lungs­stand und erar­bei­tet einen per­sön­li­chen Zukunfts­fahr­plan. Aber es wird nicht nur tech­nisch\, son­dern auch prak­tisch & per­sön­lich: Pro­bier neue Tools aus und erfah­re unmit­tel­bar von ech­ten Praktiker:innen\, wel­che Stra­te­gien einen gleich­sam pro­duk­ti­ven\, aber auch ent­spann­ten Ver­eins­all­tag ermög­li­chen. Im Ergeb­nis ver­stehst Du die gro­ßen stra­te­gi­schen Zusam­men­hän­ge\, erprobst kon­kre­te digi­ta­le All­tags­hel­fer und lernst Ver­eins­leu­te ken­nen\, bei denen es bereits läuft. Sei dabei und schal­te mit NRWs Moder­ni­sie­rungs­of­fen­si­ve die Super­kräf­te Dei­nes Ver­eins frei. \n\n\n\nDu ver­lässt das Ideen­camp mit: \n\n\n\n\nEinem ver­eins­in­di­vi­du­el­len Zukunfts­fahr­plan\, der digi­tal­stra­te­gi­sche Hand­lungs­fel­der offen­bart\n\n\n\nEiner Über­sicht der bes­ten Tools und Metho­den für einen leich­te­ren Ver­eins­all­tag\n\n\n\nStra­te­gi­schem Grund­wis­sen zur sys­te­ma­ti­schen Wirk­sam­keits­stei­ge­rung Dei­nes Ver­eins\n\n\n\nAuthen­ti­schen Ein­bli­cken von Praktiker:innen in digi­tal-agil Ver­eins­ab­läu­fe\n\n\n\nFreu­de und neu­en Kon­tak­ten zu Enga­gier­ten und Haupt­amt­li­chen aus ganz NRW\n\n\n\n\nDie hybri­de Kon­fe­renz kannst Du sowohl live vor Ort in der alten Feu­er­wa­che in Köln oder digi­tal zuge­schal­tet\, besu­chen. \n\n\n\nInfo und Anmel­dung unter: https://www.ehrenamt-zweinull.com/events/digital-gedacht-zukunft-gemacht-abendcamp‑1
URL:https://freiwilligenagentur-bielefeld.de/veranstaltung/digital-gedacht-zukunft-gemacht-abendcamp
LOCATION:Alte Feuerwache\, Melchiorstraße 3\, Köln
CATEGORIES:Austausch und Begegnung,Workshop / Fortbildung
END:VEVENT
END:VCALENDAR