BEGIN:VCALENDAR
VERSION:2.0
PRODID:-//Freiwilligenagentur Bielefeld - ECPv6.15.20//NONSGML v1.0//EN
CALSCALE:GREGORIAN
METHOD:PUBLISH
X-ORIGINAL-URL:https://freiwilligenagentur-bielefeld.de
X-WR-CALDESC:Veranstaltungen für Freiwilligenagentur Bielefeld
REFRESH-INTERVAL;VALUE=DURATION:PT1H
X-Robots-Tag:noindex
X-PUBLISHED-TTL:PT1H
BEGIN:VTIMEZONE
TZID:Europe/Berlin
BEGIN:DAYLIGHT
TZOFFSETFROM:+0100
TZOFFSETTO:+0200
TZNAME:CEST
DTSTART:20240331T010000
END:DAYLIGHT
BEGIN:STANDARD
TZOFFSETFROM:+0200
TZOFFSETTO:+0100
TZNAME:CET
DTSTART:20241027T010000
END:STANDARD
BEGIN:DAYLIGHT
TZOFFSETFROM:+0100
TZOFFSETTO:+0200
TZNAME:CEST
DTSTART:20250330T010000
END:DAYLIGHT
BEGIN:STANDARD
TZOFFSETFROM:+0200
TZOFFSETTO:+0100
TZNAME:CET
DTSTART:20251026T010000
END:STANDARD
BEGIN:DAYLIGHT
TZOFFSETFROM:+0100
TZOFFSETTO:+0200
TZNAME:CEST
DTSTART:20260329T010000
END:DAYLIGHT
BEGIN:STANDARD
TZOFFSETFROM:+0200
TZOFFSETTO:+0100
TZNAME:CET
DTSTART:20261025T010000
END:STANDARD
END:VTIMEZONE
BEGIN:VEVENT
DTSTART;TZID=Europe/Berlin:20251001T150000
DTEND;TZID=Europe/Berlin:20251001T173000
DTSTAMP:20260422T201143
CREATED:20250512T120430Z
LAST-MODIFIED:20250812T090915Z
UID:10000027-1759330800-1759339800@freiwilligenagentur-bielefeld.de
SUMMARY:Umgang mit herausforderndem Verhalten
DESCRIPTION:Die Kon­fron­ta­ti­on mit her­aus­for­dern­den Ver­hal­tens­wei­sen gehört zu den schwie­rigs­ten Situa­tio­nen in der Beglei­tung vonMen­schen mit Unter­stüt­zungs­be­darf. In die­ser Ver­an­stal­tung soll im gemein­sa­men Erfah­rungs­aus­tausch ein Ansatz zumUmgang mit her­aus­for­dernd erleb­ten Ver­hal­tens­wei­sen vor­ge­stellt wer­den. Die­ser bie­tet Stra­te­gien\, um span­nungs-gela­de­ne Situa­tio­nen zu ent­schär­fen\, ohne sich in einen Macht­kampf zu bege­ben oder die Wür­de des Men­schen mitBeein­träch­ti­gung zu ver­let­zen. \n\n\n\nANMELDUNGENper E‑Mail an: Neue.Schmiede.Ehrenamt@bethel.deoder Sie geben Ihre Anmel­dung ein­fach in derNeu­en Schmie­de ab. \n\n\n\nAnmel­de­frist 22.09.25 \n\n\n\nVer­an­stal­tungs­ort: Weit­sicht
URL:https://freiwilligenagentur-bielefeld.de/veranstaltung/umgang-mit-herausforderndem-verhalten
LOCATION:Neue Schmiede\, Handwerkerstr. 7\, Bielefeld\, Germany
CATEGORIES:Austausch und Begegnung,Workshop / Fortbildung
END:VEVENT
BEGIN:VEVENT
DTSTART;TZID=Europe/Berlin:20251001T170000
DTEND;TZID=Europe/Berlin:20251001T181500
DTSTAMP:20260422T201144
CREATED:20250807T115021Z
LAST-MODIFIED:20250807T115040Z
UID:10000056-1759338000-1759342500@freiwilligenagentur-bielefeld.de
SUMMARY:#DSEEerklärt: Deine Güte\, meine Güte? Vergütungen und Sozialversicherung im Verein
DESCRIPTION:Ob Ehren­amts­pau­scha­le\, Mini­job oder Auf­wands­ent­schä­di­gung – die Ver­gü­tung im Ver­ein ist mit vie­len steu­er­li­chen und sozi­al­ver­si­che­rungs­recht­li­chen Fra­gen ver­bun­den. In die­sem Online-Semi­nar erfahrt ihr\, was erlaubt ist\, wo Risi­ken lau­ern und wie ihr Ver­gü­tun­gen rechts­si­cher gestal­tet. Wir zei­gen euch ver­schie­de­ne Ver­gü­tungs­for­men\, klä­ren\, wann Sozi­al­ver­si­che­rungs­pflicht besteht\, und geben Tipps zur Ver­mei­dung typi­scher Feh­ler. \n\n\n\nZiel­grup­pe: Das Online-Semi­nar rich­tet sich vor allem an Vor­stän­de\, haupt­amt­li­che Geschäfts­füh­rer und Per­so­nal­ver­ant­wort­li­che. \n\n\n\nRefe­rent: Tho­mas Krü­ger \n\n\n\nInfos und Anmel­dung unter: #DSEE­er­klärt: Dei­ne Güte\, mei­ne Güte? Ver­gü­tun­gen und Sozi­al­ver­si­che­rung im Ver­ein — Deut­sche Stif­tung für Enga­ge­ment und Ehren­amt
URL:https://freiwilligenagentur-bielefeld.de/veranstaltung/dseeerklaert-deine-guete-meine-guete-verguetungen-und-sozialversicherung-im-verein
LOCATION:Online
CATEGORIES:Workshop / Fortbildung
ORGANIZER;CN="Deutsche Stiftung f%C3%BCr Engagement und Ehrenamt":MAILTO:hallo@d.s.e.e.de
END:VEVENT
END:VCALENDAR