BEGIN:VCALENDAR
VERSION:2.0
PRODID:-//Freiwilligenagentur Bielefeld - ECPv6.15.20//NONSGML v1.0//EN
CALSCALE:GREGORIAN
METHOD:PUBLISH
X-ORIGINAL-URL:https://freiwilligenagentur-bielefeld.de
X-WR-CALDESC:Veranstaltungen für Freiwilligenagentur Bielefeld
REFRESH-INTERVAL;VALUE=DURATION:PT1H
X-Robots-Tag:noindex
X-PUBLISHED-TTL:PT1H
BEGIN:VTIMEZONE
TZID:Europe/Berlin
BEGIN:DAYLIGHT
TZOFFSETFROM:+0100
TZOFFSETTO:+0200
TZNAME:CEST
DTSTART:20240331T010000
END:DAYLIGHT
BEGIN:STANDARD
TZOFFSETFROM:+0200
TZOFFSETTO:+0100
TZNAME:CET
DTSTART:20241027T010000
END:STANDARD
BEGIN:DAYLIGHT
TZOFFSETFROM:+0100
TZOFFSETTO:+0200
TZNAME:CEST
DTSTART:20250330T010000
END:DAYLIGHT
BEGIN:STANDARD
TZOFFSETFROM:+0200
TZOFFSETTO:+0100
TZNAME:CET
DTSTART:20251026T010000
END:STANDARD
BEGIN:DAYLIGHT
TZOFFSETFROM:+0100
TZOFFSETTO:+0200
TZNAME:CEST
DTSTART:20260329T010000
END:DAYLIGHT
BEGIN:STANDARD
TZOFFSETFROM:+0200
TZOFFSETTO:+0100
TZNAME:CET
DTSTART:20261025T010000
END:STANDARD
END:VTIMEZONE
BEGIN:VEVENT
DTSTART;TZID=Europe/Berlin:20251006T160000
DTEND;TZID=Europe/Berlin:20251006T193000
DTSTAMP:20260422T201117
CREATED:20250814T112332Z
LAST-MODIFIED:20250814T121544Z
UID:10000070-1759766400-1759779000@freiwilligenagentur-bielefeld.de
SUMMARY:Auf Augenhöhe streiten Abschluss: Konflikte bearbeiten & begleiten
DESCRIPTION:Du enga­gierst dich ehren­amt­lich und arbei­test mitMen­schen aus unter­schied­li­chen Lebens­rea­li­tä­ten –viel­leicht mit Migra­ti­ons- oder Flucht­hin­ter­grund?Dann weißt du: Wo Men­schen zusam­men­kom­men\,ent­ste­hen auch mal Span­nun­gen oder Miss­ver­ständ­nis­se.In unse­rem drei­tei­li­gen Ange­bot bekommst du Impul­se\,wie du Kon­flik­te früh­zei­tig erken­nen\, bes­ser ein­ord­nenund kon­struk­tiv beglei­ten kannst – auf Augen­hö­he undmit Hal­tung. \n\n\n\nWas dich erwar­tet: \n\n\n\nAuf Augen­hö­he strei­ten – Abschluss: Kon­flik­te bear­bei­ten & beglei­ten \n\n\n\n\nRück­blick & Ver­tie­fung\n\n\n\nEin­blick ins kom­mu­na­le Kon­flikt­ma­nage­ment\n\n\n\nGemein­sa­mes Abend­essen & Aus­klang\n\n\n\n\nWar­um mit­ma­chen? \n\n\n\nDu triffst ande­re Enga­gier­te aus der Stadt­ge­sell­schaft und stärkst den Zusam­men­halt durch dein Enga­ge­ment \n\n\n\nDu wirst siche­rer im Umgang mit Kon­flik­ten \n\n\n\nDu lernst Metho­den\, die du direkt in dei­nemEhren­amt nut­zen kannst \n\n\n\nAnmel­dung:
URL:https://freiwilligenagentur-bielefeld.de/veranstaltung/auf-augenhoehe-streiten-abschluss-konflikte-bearbeiten-begleiten
LOCATION:Neues Rathaus\, Niederwall 23\, 33602 Bielefeld\, Germany
CATEGORIES:Austausch und Begegnung,Workshop / Fortbildung
ORGANIZER;CN="Stadt Bielefeld Kommunales Integrationszentrum  Neues Rathaus Niederwall 23 33602 Bielefeld":MAILTO:komm.integrationszentrum@bielefeld.de
END:VEVENT
END:VCALENDAR