BEGIN:VCALENDAR
VERSION:2.0
PRODID:-//Freiwilligenagentur Bielefeld - ECPv6.15.20//NONSGML v1.0//EN
CALSCALE:GREGORIAN
METHOD:PUBLISH
X-WR-CALNAME:Freiwilligenagentur Bielefeld
X-ORIGINAL-URL:https://freiwilligenagentur-bielefeld.de
X-WR-CALDESC:Veranstaltungen für Freiwilligenagentur Bielefeld
REFRESH-INTERVAL;VALUE=DURATION:PT1H
X-Robots-Tag:noindex
X-PUBLISHED-TTL:PT1H
BEGIN:VTIMEZONE
TZID:Europe/Berlin
BEGIN:DAYLIGHT
TZOFFSETFROM:+0100
TZOFFSETTO:+0200
TZNAME:CEST
DTSTART:20240331T010000
END:DAYLIGHT
BEGIN:STANDARD
TZOFFSETFROM:+0200
TZOFFSETTO:+0100
TZNAME:CET
DTSTART:20241027T010000
END:STANDARD
BEGIN:DAYLIGHT
TZOFFSETFROM:+0100
TZOFFSETTO:+0200
TZNAME:CEST
DTSTART:20250330T010000
END:DAYLIGHT
BEGIN:STANDARD
TZOFFSETFROM:+0200
TZOFFSETTO:+0100
TZNAME:CET
DTSTART:20251026T010000
END:STANDARD
BEGIN:DAYLIGHT
TZOFFSETFROM:+0100
TZOFFSETTO:+0200
TZNAME:CEST
DTSTART:20260329T010000
END:DAYLIGHT
BEGIN:STANDARD
TZOFFSETFROM:+0200
TZOFFSETTO:+0100
TZNAME:CET
DTSTART:20261025T010000
END:STANDARD
END:VTIMEZONE
BEGIN:VEVENT
DTSTART;TZID=Europe/Berlin:20251016T153000
DTEND;TZID=Europe/Berlin:20251016T183000
DTSTAMP:20260422T200840
CREATED:20250812T090634Z
LAST-MODIFIED:20250812T090652Z
UID:10000066-1760628600-1760639400@freiwilligenagentur-bielefeld.de
SUMMARY:Einfühlsam begleiten – Kommunikation und demenzsensibles Verhalten im Alltag
DESCRIPTION:Ein ers­ter guter Kon­takt\, ein ech­tes Gegen­über­sein\, ein Lächeln\, das ankommt – der Ein­stieg in die Beglei­tung von Men­schen mit Demenz beginnt mit einer Hal­tung der Acht­sam­keit\, Offen­heit und Zuge­wandt­heit. Wie ent­steht ein ver­trau­ens­vol­ler Draht? Wie las­sen sich Nähe und Sicher­heit ver­mit­teln? Die­se Fort­bil­dung rich­tet sich an frei­wil­lig Enga­gier­te und Inter­es­sier­te\, die ers­te Ein­bli­cke in den Umgang mit demen­zi­ell ver­än­der­ten Men­schen gewin­nen oder ihre kom­mu­ni­ka­ti­ven Fähig­kei­ten ver­tie­fen möch­ten. \n\n\n\nInhal­te der Fort­bil­dung: \n\n\n\n\nGrund­la­gen der Kom­mu­ni­ka­ti­on mit Men­schen mit Demenz\n\n\n\nBedeu­tung von Mimik\, Ges­tik und Kör­per­spra­che\n\n\n\nBezie­hungs­auf­bau: Ver­trau­en schaf­fen\, Reso­nanz ermög­li­chen\n\n\n\nPrak­ti­sche Tipps für Gesprä­che\, Beglei­tun­gen und gemein­sa­me Akti­vi­tä­ten\n\n\n\nZeit für Aus­tausch\, Refle­xi­on und per­sön­li­che Fra­gen\n\n\n\n\nZiel:Die Fort­bil­dung ver­mit­telt grund­le­gen­des Wis­sen und gibt pra­xis­na­he Impul­se\, um ers­te oder wei­te­re Schrit­te im Kon­takt mit Men­schen mit Demenz bewusst\, acht­sam und mit mehr Selbst­ver­trau­en zu gehen. \n\n\n\nAnmed­lung an Frei­wil­li­gen­agen­tur Bie­le­feld e.V.
URL:https://freiwilligenagentur-bielefeld.de/veranstaltung/einfuehlsam-begleiten-kommunikation-und-demenzsensibles-verhalten-im-alltag
LOCATION:Seminarraum SO2\, Kavalleriestraße 17\, Bielefeld\, Germany
ORGANIZER;CN="Freiwilligenagentur Bielefeld":MAILTO:info@freiwilligenagentur-bielefeld.de
END:VEVENT
END:VCALENDAR