BEGIN:VCALENDAR
VERSION:2.0
PRODID:-//Freiwilligenagentur Bielefeld - ECPv6.15.20//NONSGML v1.0//EN
CALSCALE:GREGORIAN
METHOD:PUBLISH
X-ORIGINAL-URL:https://freiwilligenagentur-bielefeld.de
X-WR-CALDESC:Veranstaltungen für Freiwilligenagentur Bielefeld
REFRESH-INTERVAL;VALUE=DURATION:PT1H
X-Robots-Tag:noindex
X-PUBLISHED-TTL:PT1H
BEGIN:VTIMEZONE
TZID:Europe/Berlin
BEGIN:DAYLIGHT
TZOFFSETFROM:+0100
TZOFFSETTO:+0200
TZNAME:CEST
DTSTART:20240331T010000
END:DAYLIGHT
BEGIN:STANDARD
TZOFFSETFROM:+0200
TZOFFSETTO:+0100
TZNAME:CET
DTSTART:20241027T010000
END:STANDARD
BEGIN:DAYLIGHT
TZOFFSETFROM:+0100
TZOFFSETTO:+0200
TZNAME:CEST
DTSTART:20250330T010000
END:DAYLIGHT
BEGIN:STANDARD
TZOFFSETFROM:+0200
TZOFFSETTO:+0100
TZNAME:CET
DTSTART:20251026T010000
END:STANDARD
BEGIN:DAYLIGHT
TZOFFSETFROM:+0100
TZOFFSETTO:+0200
TZNAME:CEST
DTSTART:20260329T010000
END:DAYLIGHT
BEGIN:STANDARD
TZOFFSETFROM:+0200
TZOFFSETTO:+0100
TZNAME:CET
DTSTART:20261025T010000
END:STANDARD
END:VTIMEZONE
BEGIN:VEVENT
DTSTART;TZID=Europe/Berlin:20251028T170000
DTEND;TZID=Europe/Berlin:20251028T181500
DTSTAMP:20260422T170243
CREATED:20250807T115529Z
LAST-MODIFIED:20250807T115550Z
UID:10000058-1761670800-1761675300@freiwilligenagentur-bielefeld.de
SUMMARY:#DSEEerklärt Vereinsfinanzen: Klug vorsorgen – Rücklagen richtig bilden
DESCRIPTION:Rück­la­gen schaf­fen finan­zi­el­le Sicher­heit – sie hel­fen\, zukünf­ti­ge Pro­jek­te zu rea­li­sie­ren\, finan­zi­el­le Eng­päs­se zu über­brü­cken oder lang­fris­tig zu pla­nen. Doch die Rück­la­gen­bil­dung im gemein­nüt­zi­gen Ver­ein folgt kla­ren Regeln. In die­sem Web­i­nar erfahrt ihr\, wel­che Rück­la­gen erlaubt sind\, wie ihr sie kor­rekt bil­det und was das Finanz­amt erwar­tet. Beson­ders für Ver­ei­ne mit jähr­li­chen Ein­nah­men über 45.000 € ist das The­ma Pflicht – denn wenn sie Über­schüs­se erzie­len\, müs­sen sie sich mit zeit­na­her Mit­tel­ver­wen­dung und Rück­la­gen­bil­dung aus­ein­an­der­set­zen.Wir zei­gen euch\, wie das rechts­si­cher und sinn­voll gelingt. \n\n\n\nRefe­rent: Karu-Levin Grun­wald-Delitz \n\n\n\nInfos und Anmel­dung unter: #DSEE­er­klärt Ver­eins­fi­nan­zen: Klug vor­sor­gen – Rück­la­gen rich­tig bil­den — Deut­sche Stif­tung für Enga­ge­ment und Ehren­amt
URL:https://freiwilligenagentur-bielefeld.de/veranstaltung/dseeerklaert-vereinsfinanzen-klug-vorsorgen-ruecklagen-richtig-bilden
LOCATION:Online
CATEGORIES:Workshop / Fortbildung
ORGANIZER;CN="Deutsche Stiftung f%C3%BCr Engagement und Ehrenamt":MAILTO:hallo@d.s.e.e.de
END:VEVENT
END:VCALENDAR