BEGIN:VCALENDAR
VERSION:2.0
PRODID:-//Freiwilligenagentur Bielefeld - ECPv6.15.20//NONSGML v1.0//EN
CALSCALE:GREGORIAN
METHOD:PUBLISH
X-ORIGINAL-URL:https://freiwilligenagentur-bielefeld.de
X-WR-CALDESC:Veranstaltungen für Freiwilligenagentur Bielefeld
REFRESH-INTERVAL;VALUE=DURATION:PT1H
X-Robots-Tag:noindex
X-PUBLISHED-TTL:PT1H
BEGIN:VTIMEZONE
TZID:Europe/Berlin
BEGIN:DAYLIGHT
TZOFFSETFROM:+0100
TZOFFSETTO:+0200
TZNAME:CEST
DTSTART:20240331T010000
END:DAYLIGHT
BEGIN:STANDARD
TZOFFSETFROM:+0200
TZOFFSETTO:+0100
TZNAME:CET
DTSTART:20241027T010000
END:STANDARD
BEGIN:DAYLIGHT
TZOFFSETFROM:+0100
TZOFFSETTO:+0200
TZNAME:CEST
DTSTART:20250330T010000
END:DAYLIGHT
BEGIN:STANDARD
TZOFFSETFROM:+0200
TZOFFSETTO:+0100
TZNAME:CET
DTSTART:20251026T010000
END:STANDARD
BEGIN:DAYLIGHT
TZOFFSETFROM:+0100
TZOFFSETTO:+0200
TZNAME:CEST
DTSTART:20260329T010000
END:DAYLIGHT
BEGIN:STANDARD
TZOFFSETFROM:+0200
TZOFFSETTO:+0100
TZNAME:CET
DTSTART:20261025T010000
END:STANDARD
END:VTIMEZONE
BEGIN:VEVENT
DTSTART;TZID=Europe/Berlin:20251029T170000
DTEND;TZID=Europe/Berlin:20251029T181500
DTSTAMP:20260422T170335
CREATED:20250807T115907Z
LAST-MODIFIED:20250807T115927Z
UID:10000059-1761757200-1761761700@freiwilligenagentur-bielefeld.de
SUMMARY:#DSEEerklärt Vereinsfinanzen: Alles im Griff – Einnahmen\, Ausgaben und Ausnahmen im Verein
DESCRIPTION:Ob Spen­den\, Gel­der aus dem Kuchen­ver­kauf oder Annehm­lich­kei­ten für Mit­glie­der – wer im Ver­ein Geld bewegt\, muss wis­sen\, was erlaubt ist. In die­sem Online-Semi­nar erfahrt ihr anhand typi­scher Geschäfts­vor­fäl­le\, wel­che Ein­nah­men wel­cher steu­er­li­chen Sphä­re zuge­ord­net wer­den und wel­che Aus­ga­ben im Rah­men der Gemein­nüt­zig­keit zuläs­sig sind. Dabei geht es kon­kret um The­men wie: Geschen­ke und Ent­gel­te für Mit­glie­der und Vor­stän­de\, Spen­den­be­schei­ni­gun­gen\, Ehren­amts­pau­scha­le\, Spen­de oder Spon­so­ring sowie Umsatz und Ein­nah­me. Wir geben euch einen ver­ständ­li­chen Über­blick\, damit euer Ver­ein rechts­si­cher mit Geld umgeht. \n\n\n\nRefe­rent: Karu-Levin Grun­wald-Delitz \n\n\n\nInfos und Anmel­dung unter: #DSEE­er­klärt Ver­eins­fi­nan­zen: Alles im Griff – Ein­nah­men\, Aus­ga­ben und Aus­nah­men im Ver­ein — Deut­sche Stif­tung für Enga­ge­ment und Ehren­amt
URL:https://freiwilligenagentur-bielefeld.de/veranstaltung/dseeerklaert-vereinsfinanzen-alles-im-griff-einnahmen-ausgaben-und-ausnahmen-im-verein
LOCATION:Online
CATEGORIES:Workshop / Fortbildung
ORGANIZER;CN="Deutsche Stiftung f%C3%BCr Engagement und Ehrenamt":MAILTO:hallo@d.s.e.e.de
END:VEVENT
BEGIN:VEVENT
DTSTART;TZID=Europe/Berlin:20251029T170000
DTEND;TZID=Europe/Berlin:20251029T190000
DTSTAMP:20260422T170335
CREATED:20251027T122741Z
LAST-MODIFIED:20251027T122808Z
UID:10000082-1761757200-1761764400@freiwilligenagentur-bielefeld.de
SUMMARY:Neu im Vorstand - was nun?
DESCRIPTION:Die Über­nah­me eines Vor­stands­am­tes in einem Ver­ein ist mit weit­rei­chen­den Ver­ant­wort­lich­kei­ten ver­bun­den\, die über rein orga­ni­sa­to­ri­sche Auf­ga­ben hin­aus­ge­hen. Oft sind sich Vor­stands­mit­glie­der nicht der Risi­ken bewusst\, die das ehren­amt­li­che Enga­ge­ment in nahe­zu allen Berei­chen der Ver­eins­ar­beit mit sich bringt. Ob bei der Pla­nung von Ver­an­stal­tun­gen\, der Ver­wal­tung der Finan­zen oder der Ein­hal­tung von Daten­schutz­vor­ga­ben – Pflicht­ver­let­zun­gen kön­nen erheb­li­che Kon­se­quen­zen haben. \n\n\n\nIn die­sem kom­pak­ten Online-Semi­nar erfah­ren Sie\, wie Sie Ihre Vor­stands­ar­beit rechts­si­cher gestal­ten und typi­sche Fall­stri­cke ver­mei­den. Rechts­an­walt Micha­el Röcken\, Exper­te im Ver­eins- und Ver­bands­recht\, führt Sie pra­xis­nah durch alle rele­van­ten The­men – von den ers­ten Schrit­ten im Amt bis zu den Ver­tre­tungs­be­fug­nis­sen und Pflich­ten des Ver­eins­vor­stands. \n\n\n\nEs wird ein Über­blick über die recht­li­che Stel­lung des Vor­stands und die dar­aus resul­tie­ren­den Kon­se­quen­zen gege­ben wie auch ein „Fahr­plan“ für die ers­ten 100 Tage. Hier wer­den Fra­gen behan­delt\, wie \n\n\n\n\nWie orga­ni­sie­re ich nach einer Wahl die Über­ga­be von Unter­la­gen von bis­he­ri­gen Vor­stands­mit­glie­dern? Wor­auf muss ich hier beson­ders ach­ten?\n\n\n\nBestands­auf­nah­me im Ver­ein: Wie ver­schaf­fe ich mir einen Über­blick zum aktu­el­len Stand in den Berei­chen Daten­schutz\, Finan­zen\, Steu­ern und Ver­eins­recht?\n\n\n\nWel­che Rech­te und wel­che Pflich­ten habe ich als Vor­stand?\n\n\n\n\nBrei­ter Raum wird den Fra­gen der Teil­neh­mer ein­ge­räumt. \n\n\n\nDas Web­i­nar eig­net sich nicht nur für Men­schen\, die an einer Vor­stands­ar­beit in einem Ver­ein inter­es­siert sind\, son­dern auch für frisch gewähl­te wie auch für Vor­stand­mit­glie­der\, die bereits im Amt sind und ihr Wis­sen auf­fri­schen wol­len. \n\n\n\nInfos und Anmel­dung unter: https://www.westfalen-akademie.nrw/programm/neu-im-vorstand/
URL:https://freiwilligenagentur-bielefeld.de/veranstaltung/neu-im-vorstand-was-nun
LOCATION:Online
CATEGORIES:Informationsveranstaltung,Workshop / Fortbildung
END:VEVENT
END:VCALENDAR