BEGIN:VCALENDAR
VERSION:2.0
PRODID:-//Freiwilligenagentur Bielefeld - ECPv6.15.20//NONSGML v1.0//EN
CALSCALE:GREGORIAN
METHOD:PUBLISH
X-WR-CALNAME:Freiwilligenagentur Bielefeld
X-ORIGINAL-URL:https://freiwilligenagentur-bielefeld.de
X-WR-CALDESC:Veranstaltungen für Freiwilligenagentur Bielefeld
REFRESH-INTERVAL;VALUE=DURATION:PT1H
X-Robots-Tag:noindex
X-PUBLISHED-TTL:PT1H
BEGIN:VTIMEZONE
TZID:Europe/Berlin
BEGIN:DAYLIGHT
TZOFFSETFROM:+0100
TZOFFSETTO:+0200
TZNAME:CEST
DTSTART:20240331T010000
END:DAYLIGHT
BEGIN:STANDARD
TZOFFSETFROM:+0200
TZOFFSETTO:+0100
TZNAME:CET
DTSTART:20241027T010000
END:STANDARD
BEGIN:DAYLIGHT
TZOFFSETFROM:+0100
TZOFFSETTO:+0200
TZNAME:CEST
DTSTART:20250330T010000
END:DAYLIGHT
BEGIN:STANDARD
TZOFFSETFROM:+0200
TZOFFSETTO:+0100
TZNAME:CET
DTSTART:20251026T010000
END:STANDARD
BEGIN:DAYLIGHT
TZOFFSETFROM:+0100
TZOFFSETTO:+0200
TZNAME:CEST
DTSTART:20260329T010000
END:DAYLIGHT
BEGIN:STANDARD
TZOFFSETFROM:+0200
TZOFFSETTO:+0100
TZNAME:CET
DTSTART:20261025T010000
END:STANDARD
END:VTIMEZONE
BEGIN:VEVENT
DTSTART;TZID=Europe/Berlin:20251030T170000
DTEND;TZID=Europe/Berlin:20251030T200000
DTSTAMP:20260422T165114
CREATED:20251027T123419Z
LAST-MODIFIED:20251027T123442Z
UID:10000083-1761843600-1761854400@freiwilligenagentur-bielefeld.de
SUMMARY:KI im Vereinsalltag
DESCRIPTION:Macht KI es mög­lich\, dass wir uns end­lich wie­der auf unse­re eigent­li­che Arbeit fokus­sie­ren? Kön­nen KI-Tools bes­se­re Bil­dungs­an­ge­bo­te ent­wer­fen\, span­nen­de News­let­ter für uns schrei­ben\, vira­le Social-Media-Posts gene­rie­ren\, Bele­ge für die Buch­hal­tung buchen und unse­re Video-Tuto­ri­als in ande­re Spra­chen syn­chro­ni­sie­ren oder unter­ti­teln? Und wenn wir allein nicht wei­ter­wis­sen\, unter­rich­ten sie uns\, brain­stor­men für uns oder pro­gram­mie­ren die pas­sen­den Makros\, um Daten zu über­tra­gen\, aus­zu­wer­ten oder zu pro­gnos­ti­zie­ren? \n\n\n\nIn einer Mischung aus Vor­trag\, gemein­sa­men Aus­pro­bie­ren und kol­le­gia­ler Bera­tung ent­wi­ckeln wir Ansät­ze\, wie KI dei­ne Arbeit all­täg­lich ver­bes­sern oder beschleu­ni­gen kann. \n\n\n\nNach dem Work­shop kennst du \n\n\n\n\ndie Grund­la­gen gene­ra­ti­ver KI\,\n\n\n\n ers­te Tools und\n\n\n\nmei­ne KLA­RO-Promp­ting-Tipps.\n\n\n\n\nUnd du hast hof­fent­lich einen Hau­fen Ideen\, wie KI dei­ne Arbeit erleich­tern kann und jede Men­ge Lust\, sel­ber anzu­fan­gen. \n\n\n\nVor­aus­set­zun­gen: \n\n\n\nAm meis­ten nimmst du mit\, wenn du schon vor­ab ein biss­chen sel­ber mit KI expe­ri­men­tiert.Pro­bier also gern schon mal etwas mit ChatGPT\, Gemi­ni oder Clau­de aus und bring dei­neFra­gen und Erfah­run­gen mit. \n\n\n\nZur  Refe­ren­tin: \n\n\n\nJulia Jun­ge ist neu­gie­ri­ge Welt­ver­bes­se­rin\, krea­ti­ve Digi­ta­li­sie­rungs­exper­tin und aus­ge­bil­de­te Trai­ne­rin\, Mode­ra­to­rin und Orga­ni­sa­ti­ons­coach. Sie arbei­tet seit 25 Jah­ren ehren­amt­lich und haupt­amt­lich in und für NGOs und teilt mit euch ihre Begeis­te­rung und ihr Know-how zu den neu­en Mög­lich­kei­ten von Gene­ra­ti­ver KI für euren Arbeits­all­tag. \n\n\n\nBit­te beach­ten Sie: \n\n\n\nDa die Anzahl an Plät­zen sehr begrenzt ist\, möch­ten wir dich bit­ten\, dich nur anzu­mel­den\, wenn du sicher teil­neh­men kannst. Soll­test du ver­hin­dert sein\, mel­de dich bit­te per Mail an seminare@westfalen-akademie.nrw ab\, damit wir dei­nen Platz frei­ge­ben kön­nen. \n\n\n\nInfo und Anmel­dung unter: https://www.westfalen-akademie.nrw/programm/ki-im-vereinsalltag/
URL:https://freiwilligenagentur-bielefeld.de/veranstaltung/ki-im-vereinsalltag
LOCATION:Online
CATEGORIES:Workshop / Fortbildung
END:VEVENT
END:VCALENDAR