BEGIN:VCALENDAR
VERSION:2.0
PRODID:-//Freiwilligenagentur Bielefeld - ECPv6.15.20//NONSGML v1.0//EN
CALSCALE:GREGORIAN
METHOD:PUBLISH
X-WR-CALNAME:Freiwilligenagentur Bielefeld
X-ORIGINAL-URL:https://freiwilligenagentur-bielefeld.de
X-WR-CALDESC:Veranstaltungen für Freiwilligenagentur Bielefeld
REFRESH-INTERVAL;VALUE=DURATION:PT1H
X-Robots-Tag:noindex
X-PUBLISHED-TTL:PT1H
BEGIN:VTIMEZONE
TZID:Europe/Berlin
BEGIN:DAYLIGHT
TZOFFSETFROM:+0100
TZOFFSETTO:+0200
TZNAME:CEST
DTSTART:20240331T010000
END:DAYLIGHT
BEGIN:STANDARD
TZOFFSETFROM:+0200
TZOFFSETTO:+0100
TZNAME:CET
DTSTART:20241027T010000
END:STANDARD
BEGIN:DAYLIGHT
TZOFFSETFROM:+0100
TZOFFSETTO:+0200
TZNAME:CEST
DTSTART:20250330T010000
END:DAYLIGHT
BEGIN:STANDARD
TZOFFSETFROM:+0200
TZOFFSETTO:+0100
TZNAME:CET
DTSTART:20251026T010000
END:STANDARD
BEGIN:DAYLIGHT
TZOFFSETFROM:+0100
TZOFFSETTO:+0200
TZNAME:CEST
DTSTART:20260329T010000
END:DAYLIGHT
BEGIN:STANDARD
TZOFFSETFROM:+0200
TZOFFSETTO:+0100
TZNAME:CET
DTSTART:20261025T010000
END:STANDARD
END:VTIMEZONE
BEGIN:VEVENT
DTSTART;TZID=Europe/Berlin:20251106T160000
DTEND;TZID=Europe/Berlin:20251106T180000
DTSTAMP:20260422T170456
CREATED:20250512T120941Z
LAST-MODIFIED:20251103T120841Z
UID:10000028-1762444800-1762452000@freiwilligenagentur-bielefeld.de
SUMMARY:Reflexion: „Mein Ehrenamt“
DESCRIPTION:Sich aus­tau­schen\, Bal­last abwer­fen\, ver­net­zen\, Lösun­gen fin­den… dafür ist Platz in die­ser Refle­xi­ons­run­de\, zu der wir alleehren­amt­lich Enga­gier­ten aus den ver­schie­de­nen Stif­tungs­be­rei­chen ein­la­den möch­ten. Wer­fen Sie einen Blick über denTel­ler­rand\, ler­nen Sie ande­re Enga­ge­ment­be­rei­che ken­nen und pro­fi­tie­ren Sie von den viel­fäl­ti­gen Erfah­run­gen ande­rer! \n\n\n\nANMELDUNGENper E‑Mail an: Neue.Schmiede.Ehrenamt@bethel.deoder Sie geben Ihre Anmel­dung ein­fach in derNeu­en Schmie­de ab. \n\n\n\nVer­an­stal­tungs­raum: Man­sar­de \n\n\n\nAnmel­de­frist 27.10.25
URL:https://freiwilligenagentur-bielefeld.de/veranstaltung/reflexion-mein-ehrenamt
LOCATION:Neue Schmiede\, Handwerkerstr. 7\, Bielefeld\, Germany
CATEGORIES:Austausch und Begegnung,Workshop / Fortbildung
END:VEVENT
BEGIN:VEVENT
DTSTART;TZID=Europe/Berlin:20251106T170000
DTEND;TZID=Europe/Berlin:20251106T181500
DTSTAMP:20260422T170457
CREATED:20250512T121144Z
LAST-MODIFIED:20250512T121146Z
UID:10000029-1762448400-1762452900@freiwilligenagentur-bielefeld.de
SUMMARY:DSEEinformiert: Mittelabrufe\, Mittelverwendung\, Verwendungsnachweise
DESCRIPTION:Kos­ten­lo­ses Online-Semi­nar der DSEE \n\n\n\nEurer För­der­an­trag ist bewil­ligt? Ihr steckt mit­ten in der Umset­zung eures bewil­lig­ten Pro­jek­tes oder sogar schon kurz vor dem Pro­jekt­ab­schluss? In jeder Pha­se eines För­der­pro­jek­tes gibt es Fra­gen zur finan­zi­el­len Abwick­lung: Wann und wie muss ein Mit­tel­ab­ruf ein­ge­reicht wer­den? Wie und wofür dür­fen die geneh­mig­ten Mit­tel ver­wen­det wer­den? Wel­che Doku­men­ta­ti­ons­pflich­ten gibt es? Wie funk­tio­niert ein Ver­wen­dungs­nach­weis? Was gehört in einen Sach­be­richt? \n\n\n\nDas kom­pak­te Online-Semi­nar beant­wor­tet eure Fra­gen rund um das The­ma För­der­mit­tel: vom ers­ten Mit­tel­ab­ruf über die kor­rek­te Ver­wen­dung der För­der­mit­tel bis hin zum Nach­weis der Mit­tel­ver­wen­dung zum Ende eures Pro­jek­tes. \n\n\n\nInfo und Anmel­dung unter: #DSEE­in­for­miert: Mit­tel­ab­ru­fe\, Mit­tel­ver­wen­dung\, Ver­wen­dungs­nach­wei­se — Deut­sche Stif­tung für Enga­ge­ment und Ehren­amt
URL:https://freiwilligenagentur-bielefeld.de/veranstaltung/dseeinformiert-mittelabrufe-mittelverwendung-verwendungsnachweise-4
CATEGORIES:Workshop / Fortbildung
END:VEVENT
END:VCALENDAR