BEGIN:VCALENDAR
VERSION:2.0
PRODID:-//Freiwilligenagentur Bielefeld - ECPv6.15.20//NONSGML v1.0//EN
CALSCALE:GREGORIAN
METHOD:PUBLISH
X-WR-CALNAME:Freiwilligenagentur Bielefeld
X-ORIGINAL-URL:https://freiwilligenagentur-bielefeld.de
X-WR-CALDESC:Veranstaltungen für Freiwilligenagentur Bielefeld
REFRESH-INTERVAL;VALUE=DURATION:PT1H
X-Robots-Tag:noindex
X-PUBLISHED-TTL:PT1H
BEGIN:VTIMEZONE
TZID:Europe/Berlin
BEGIN:DAYLIGHT
TZOFFSETFROM:+0100
TZOFFSETTO:+0200
TZNAME:CEST
DTSTART:20240331T010000
END:DAYLIGHT
BEGIN:STANDARD
TZOFFSETFROM:+0200
TZOFFSETTO:+0100
TZNAME:CET
DTSTART:20241027T010000
END:STANDARD
BEGIN:DAYLIGHT
TZOFFSETFROM:+0100
TZOFFSETTO:+0200
TZNAME:CEST
DTSTART:20250330T010000
END:DAYLIGHT
BEGIN:STANDARD
TZOFFSETFROM:+0200
TZOFFSETTO:+0100
TZNAME:CET
DTSTART:20251026T010000
END:STANDARD
BEGIN:DAYLIGHT
TZOFFSETFROM:+0100
TZOFFSETTO:+0200
TZNAME:CEST
DTSTART:20260329T010000
END:DAYLIGHT
BEGIN:STANDARD
TZOFFSETFROM:+0200
TZOFFSETTO:+0100
TZNAME:CET
DTSTART:20261025T010000
END:STANDARD
END:VTIMEZONE
BEGIN:VEVENT
DTSTART;TZID=Europe/Berlin:20251110T170000
DTEND;TZID=Europe/Berlin:20251110T183000
DTSTAMP:20260422T171143
CREATED:20250807T121604Z
LAST-MODIFIED:20251103T121946Z
UID:10000064-1762794000-1762799400@freiwilligenagentur-bielefeld.de
SUMMARY:Veranstaltungsreihe: Stark fürs Ehrenamt
DESCRIPTION:Kraftvoll engagiert durch innere Stärke\n\n\n\n\n\nSeid ihr durch euer Ehren­amt auch manch­mal her­aus­ge­for­dert – vor allem\, wenn es sich mit pri­va­ten und beruf­li­chen Anfor­de­run­gen ver­bin­det? Resi­li­enz hilft\, mit Belas­tung bes­ser umzu­ge­hen und neue Ener­gie­quel­len zu erschlie­ßen. Doch wie wird man resi­li­en­ter? Kann man das ler­nen? Aber ja! \n\n\n\nIn unse­rer her­aus­for­dern­den Zeit wird es immer wich­ti­ger\, sich inner­lich zu sor­tie­ren. Hier­für ein Hand­werks­zeug zu erler­nen\, stärkt uns per­sön­lich und wirkt sich posi­tiv auf unse­ren All­tag und unser Enga­ge­ment aus. \n\n\n\nChris­ti­ne Pehl\, frei­be­ruf­li­che Dozen­tin für inne­re und äuße­re Nach­hal­tig­keit zeigt in die­sem Work­shop prak­ti­sche Wege auf: Gemein­sam betrach­tet ihr kon­kre­te Schrit­te für mehr Selbst­für­sor­ge und prüft\, was wirk­lich wert­voll ist. Ihr erfahrt\, wie ihr Belas­tun­gen redu­ziert\, Res­sour­cen akti­viert und Lust auf neue Wege im Enga­ge­ment weckt. \n\n\n\nFor­mat: \n\n\n\nEure Fra­gen per Chat und Wort­mel­dung \n\n\n\nOnline via Zoom Mee­ting \n\n\n\nZum Aus­tausch und Mit­ma­chen – bit­te mit Kame­ra und Mikro­fon \n\n\n\nInfos und Anmel­dung unter: Kraft­voll enga­giert durch inne­re Stär­ke
URL:https://freiwilligenagentur-bielefeld.de/veranstaltung/veranstaltungsreihe-stark-fuers-ehrenamt
LOCATION:Online
CATEGORIES:Workshop / Fortbildung
END:VEVENT
END:VCALENDAR