BEGIN:VCALENDAR
VERSION:2.0
PRODID:-//Freiwilligenagentur Bielefeld - ECPv6.15.20//NONSGML v1.0//EN
CALSCALE:GREGORIAN
METHOD:PUBLISH
X-ORIGINAL-URL:https://freiwilligenagentur-bielefeld.de
X-WR-CALDESC:Veranstaltungen für Freiwilligenagentur Bielefeld
REFRESH-INTERVAL;VALUE=DURATION:PT1H
X-Robots-Tag:noindex
X-PUBLISHED-TTL:PT1H
BEGIN:VTIMEZONE
TZID:Europe/Berlin
BEGIN:DAYLIGHT
TZOFFSETFROM:+0100
TZOFFSETTO:+0200
TZNAME:CEST
DTSTART:20240331T010000
END:DAYLIGHT
BEGIN:STANDARD
TZOFFSETFROM:+0200
TZOFFSETTO:+0100
TZNAME:CET
DTSTART:20241027T010000
END:STANDARD
BEGIN:DAYLIGHT
TZOFFSETFROM:+0100
TZOFFSETTO:+0200
TZNAME:CEST
DTSTART:20250330T010000
END:DAYLIGHT
BEGIN:STANDARD
TZOFFSETFROM:+0200
TZOFFSETTO:+0100
TZNAME:CET
DTSTART:20251026T010000
END:STANDARD
BEGIN:DAYLIGHT
TZOFFSETFROM:+0100
TZOFFSETTO:+0200
TZNAME:CEST
DTSTART:20260329T010000
END:DAYLIGHT
BEGIN:STANDARD
TZOFFSETFROM:+0200
TZOFFSETTO:+0100
TZNAME:CET
DTSTART:20261025T010000
END:STANDARD
END:VTIMEZONE
BEGIN:VEVENT
DTSTART;TZID=Europe/Berlin:20251116T120000
DTEND;TZID=Europe/Berlin:20251116T160000
DTSTAMP:20260422T171457
CREATED:20251106T140139Z
LAST-MODIFIED:20251106T140204Z
UID:10000084-1763294400-1763308800@freiwilligenagentur-bielefeld.de
SUMMARY:🌳 Einladung zur KlimaWoche-Baumpflanzaktion
DESCRIPTION:UNSER ZIEL FÜR 2025: 25.000 Baum­spen­den. Aktu­ell wur­den davon bereits gespen­det \n\n\n\n27% \n\n\n\n🌳 Einladung zur KlimaWoche-Baumpflanzaktion am 16. November 2025 in Bielefeld-Hillegossen\n\n\n\n\n\n\n\nLie­be Baumspender:innen\, Helfer:innen und Unterstützer:innen der Kli­ma­Wo­che Bie­le­feld\, \n\n\n\nwir bedan­ken uns ganz herz­lich für die zahl­rei­chen Baum­spen­den und die groß­ar­ti­ge Unter­stüt­zung im bis­he­ri­gen Jahr 2025! Und selbst­ver­ständ­lich freu­en wir uns über wei­te­re Baum­spen­den\, mit denen wir noch wei­te­re Lücken im hei­mi­schen Wald schlie­ßen kön­nen. 🙂 Dank Euch konn­ten bereits vie­le jun­ge Setz­lin­ge zu kli­ma­re­si­li­en­ten Misch­wäl­dern her­an­wach­sen – ein star­kes Zei­chen für geleb­ten Kli­ma­schutz in unse­rer Regi­on. \n\n\n\nNun steht die nächs­te gro­ße Pflanz­ak­ti­on bevor\, zu der wir Euch herz­lich ein­la­den: \n\n\n\n\n\n\n\n🌱 Wann findet die Pflanzung statt?\n\n\n\nSonn­tag\, 16. Novem­ber 2025\, Start um 12:00 Uhrkommt ger­ne 5–10 Minu­ten frü­her \n\n\n\n📍 Wo pflanzen wir?\n\n\n\nim Orts­teil Bie­le­feld-Hil­le­gos­sen\, ober­halb der Sel­hau­sen­stra­ße und unter­halb des Hotel/Restaurant Eiser­ner AntonDer Zuweg zur Pflanz­flä­che geht von der Sel­hau­sen­stra­ße ab. \n\n\n\nBit­te kommt zu Fuß (oder mit dem Fahr­rad) zu die­ser Position/ die­sem Ort -> goog­le ‑maps-linkAb hier zeigt euch unser Team den Weg durch den Wald. \n\n\n\nNach einer kur­zen Begrü­ßung um 12 Uhr geht es gemein­sam auf die vor­be­rei­te­te Flä­che goog­le-maps-Link Pflanz­flä­che auf der die jun­gen Bäu­me ein­ge­pflanzt wer­den. \n\n\n\nInfo unter: https://klimawoche-bielefeld.de/
URL:https://freiwilligenagentur-bielefeld.de/veranstaltung/%f0%9f%8c%b3-einladung-zur-klimawoche-baumpflanzaktion
LOCATION:Selhausenstr.\, Selhausenstr.\, Bielefeld
CATEGORIES:Austausch und Begegnung
ORGANIZER;CN="KlimaWoche Bielefeld e.V.":MAILTO:office@klimawoche-bielefeld.de
END:VEVENT
END:VCALENDAR