BEGIN:VCALENDAR
VERSION:2.0
PRODID:-//Freiwilligenagentur Bielefeld - ECPv6.15.20//NONSGML v1.0//EN
CALSCALE:GREGORIAN
METHOD:PUBLISH
X-ORIGINAL-URL:https://freiwilligenagentur-bielefeld.de
X-WR-CALDESC:Veranstaltungen für Freiwilligenagentur Bielefeld
REFRESH-INTERVAL;VALUE=DURATION:PT1H
X-Robots-Tag:noindex
X-PUBLISHED-TTL:PT1H
BEGIN:VTIMEZONE
TZID:Europe/Berlin
BEGIN:DAYLIGHT
TZOFFSETFROM:+0100
TZOFFSETTO:+0200
TZNAME:CEST
DTSTART:20240331T010000
END:DAYLIGHT
BEGIN:STANDARD
TZOFFSETFROM:+0200
TZOFFSETTO:+0100
TZNAME:CET
DTSTART:20241027T010000
END:STANDARD
BEGIN:DAYLIGHT
TZOFFSETFROM:+0100
TZOFFSETTO:+0200
TZNAME:CEST
DTSTART:20250330T010000
END:DAYLIGHT
BEGIN:STANDARD
TZOFFSETFROM:+0200
TZOFFSETTO:+0100
TZNAME:CET
DTSTART:20251026T010000
END:STANDARD
BEGIN:DAYLIGHT
TZOFFSETFROM:+0100
TZOFFSETTO:+0200
TZNAME:CEST
DTSTART:20260329T010000
END:DAYLIGHT
BEGIN:STANDARD
TZOFFSETFROM:+0200
TZOFFSETTO:+0100
TZNAME:CET
DTSTART:20261025T010000
END:STANDARD
END:VTIMEZONE
BEGIN:VEVENT
DTSTART;TZID=Europe/Berlin:20251125T170000
DTEND;TZID=Europe/Berlin:20251125T181500
DTSTAMP:20260424T131114
CREATED:20250807T120922Z
LAST-MODIFIED:20250807T120944Z
UID:10000062-1764090000-1764094500@freiwilligenagentur-bielefeld.de
SUMMARY:#DSEEerklärt Wissensmanagement: Wissen sichern – Praktische Wege zur Wissensübergabe im Verein
DESCRIPTION:In die­sem Online-Semi­nar erfahrt ihr\, wie ihr wert­vol­les Wis­sen im Ver­ein effek­tiv sichern könnt. Oft­mals bleibt Erfah­rungs­wis­sen bei Wech­seln unge­nutzt oder geht ver­lo­ren. Wir zei­gen euch ein­fa­che und pra­xis­na­he Metho­den\, um Wis­sen zu iden­ti­fi­zie­ren und zu doku­men­tie­ren. Mit Check­lis­ten und Über­ga­be­bö­gen hel­fen wir euch\, die Über­ga­be von Infor­ma­tio­nen zu opti­mie­ren und sicher­zu­stel­len\, dass wich­ti­ge Erkennt­nis­se für die Zukunft erhal­ten blei­ben. \n\n\n\nRefe­ren­tin: Jana Laris­sa Nagusch \n\n\n\nInfos und Anmel­dung unter: #DSEE­er­klärt Wis­sens­ma­nage­ment: Wis­sen sichern – Prak­ti­sche Wege zur Wis­sens­über­ga­be im Ver­ein — Deut­sche Stif­tung für Enga­ge­ment und Ehren­amt
URL:https://freiwilligenagentur-bielefeld.de/veranstaltung/dseeerklaert-wissensmanagement-wissen-sichern-praktische-wege-zur-wissensuebergabe-im-verein
LOCATION:Online
CATEGORIES:Workshop / Fortbildung
ORGANIZER;CN="Deutsche Stiftung f%C3%BCr Engagement und Ehrenamt":MAILTO:hallo@d.s.e.e.de
END:VEVENT
END:VCALENDAR