BEGIN:VCALENDAR
VERSION:2.0
PRODID:-//Freiwilligenagentur Bielefeld - ECPv6.15.20//NONSGML v1.0//EN
CALSCALE:GREGORIAN
METHOD:PUBLISH
X-ORIGINAL-URL:https://freiwilligenagentur-bielefeld.de
X-WR-CALDESC:Veranstaltungen für Freiwilligenagentur Bielefeld
REFRESH-INTERVAL;VALUE=DURATION:PT1H
X-Robots-Tag:noindex
X-PUBLISHED-TTL:PT1H
BEGIN:VTIMEZONE
TZID:Europe/Berlin
BEGIN:DAYLIGHT
TZOFFSETFROM:+0100
TZOFFSETTO:+0200
TZNAME:CEST
DTSTART:20240331T010000
END:DAYLIGHT
BEGIN:STANDARD
TZOFFSETFROM:+0200
TZOFFSETTO:+0100
TZNAME:CET
DTSTART:20241027T010000
END:STANDARD
BEGIN:DAYLIGHT
TZOFFSETFROM:+0100
TZOFFSETTO:+0200
TZNAME:CEST
DTSTART:20250330T010000
END:DAYLIGHT
BEGIN:STANDARD
TZOFFSETFROM:+0200
TZOFFSETTO:+0100
TZNAME:CET
DTSTART:20251026T010000
END:STANDARD
BEGIN:DAYLIGHT
TZOFFSETFROM:+0100
TZOFFSETTO:+0200
TZNAME:CEST
DTSTART:20260329T010000
END:DAYLIGHT
BEGIN:STANDARD
TZOFFSETFROM:+0200
TZOFFSETTO:+0100
TZNAME:CET
DTSTART:20261025T010000
END:STANDARD
END:VTIMEZONE
BEGIN:VEVENT
DTSTART;TZID=Europe/Berlin:20251205T100000
DTEND;TZID=Europe/Berlin:20251205T200000
DTSTAMP:20260422T171452
CREATED:20251117T125355Z
LAST-MODIFIED:20251202T160458Z
UID:10000356-1764928800-1764964800@freiwilligenagentur-bielefeld.de
SUMMARY:Wunschbaum Schulkramkiste
DESCRIPTION:Ab dem 1. Advent steht in der Stadt­bi­blio­thek Bie­le­feld am Durch­gang zum Lite­ra­tur­ca­fé ein Wunsch­baum\, der wäh­rend der Öff­nungs­zei­ten der Stadt­bi­blio­thek dazu ein­lädt\, die Schul­kram­kis­te zu unter­stüt­zen. Der Baum ist mit Wunsch­zet­teln geschmückt\, auf denen Schul­ma­te­ria­li­en ver­merkt sind\, die drin­gend benö­tigt wer­den. \n\n\n\nDie Akti­on bie­tet eine ein­fa­che Mög­lich­keit\, bedürf­ti­gen Grund­schul­kin­dern in Bie­le­feld zu hel­fen. Inter­es­sier­te kön­nen einen Wunsch­zet­tel vom Baum neh­men\, das dar­auf genann­te Schul­ma­te­ri­al besor­gen und es bis zum 20. Dezem­ber in die dafür vor­ge­se­he­ne Spen­den­kis­te in der Stadt­bi­blio­thek legen. \n\n\n\nDie Schul­kram­kis­te\, eine Initia­ti­ve der Frei­wil­li­gen­agen­tur Bie­le­feld und der Arbeits­ge­mein­schaft Bie­le­fel­der Wohl­fahrts­ver­bän­de\, stellt seit 2008 kos­ten­los Schul­ma­te­ria­li­en für ein­kom­mens­schwa­che Fami­li­en bereit. Jähr­lich wer­den Mate­ria­li­en an rund 2.900 Kin­der aus­ge­ge­ben – eine Zahl\, die die stei­gen­de Nach­fra­ge nach die­ser Unter­stüt­zung ver­deut­licht. Sie finan­ziert sich aus­schließ­lich durch Spen­den. Mit der Erfül­lung eines Wun­sches leis­ten Bür­ge­rin­nen und Bür­ger einen wert­vol­len Bei­trag\, um den Schul­start die­ser Kin­der zu erleich­tern und ihnen Freu­de am Ler­nen zu ermög­li­chen. \n\n\n\nWei­te­re Infor­ma­tio­nen zur Akti­on und zur Schul­kram­kis­te fin­den Sie unter: www.freiwilligenagentur-bielefeld.de/schulkramkiste.
URL:https://freiwilligenagentur-bielefeld.de/veranstaltung/wunschbaum-schulkramkiste/2025-12-05
LOCATION:Stadtbibliothek Bielefeld\, Neumarkt 1\, Bielefeld\, Germany
CATEGORIES:Schulkramkiste
ORGANIZER;CN="Freiwilligenagentur Bielefeld":MAILTO:info@freiwilligenagentur-bielefeld.de
END:VEVENT
END:VCALENDAR