BEGIN:VCALENDAR
VERSION:2.0
PRODID:-//Freiwilligenagentur Bielefeld - ECPv6.15.20//NONSGML v1.0//EN
CALSCALE:GREGORIAN
METHOD:PUBLISH
X-ORIGINAL-URL:https://freiwilligenagentur-bielefeld.de
X-WR-CALDESC:Veranstaltungen für Freiwilligenagentur Bielefeld
REFRESH-INTERVAL;VALUE=DURATION:PT1H
X-Robots-Tag:noindex
X-PUBLISHED-TTL:PT1H
BEGIN:VTIMEZONE
TZID:Europe/Berlin
BEGIN:DAYLIGHT
TZOFFSETFROM:+0100
TZOFFSETTO:+0200
TZNAME:CEST
DTSTART:20250330T010000
END:DAYLIGHT
BEGIN:STANDARD
TZOFFSETFROM:+0200
TZOFFSETTO:+0100
TZNAME:CET
DTSTART:20251026T010000
END:STANDARD
BEGIN:DAYLIGHT
TZOFFSETFROM:+0100
TZOFFSETTO:+0200
TZNAME:CEST
DTSTART:20260329T010000
END:DAYLIGHT
BEGIN:STANDARD
TZOFFSETFROM:+0200
TZOFFSETTO:+0100
TZNAME:CET
DTSTART:20261025T010000
END:STANDARD
BEGIN:DAYLIGHT
TZOFFSETFROM:+0100
TZOFFSETTO:+0200
TZNAME:CEST
DTSTART:20270328T010000
END:DAYLIGHT
BEGIN:STANDARD
TZOFFSETFROM:+0200
TZOFFSETTO:+0100
TZNAME:CET
DTSTART:20271031T010000
END:STANDARD
END:VTIMEZONE
BEGIN:VEVENT
DTSTART;TZID=Europe/Berlin:20260212T110000
DTEND;TZID=Europe/Berlin:20260212T120000
DTSTAMP:20260424T113826
CREATED:20260108T140439Z
LAST-MODIFIED:20260108T140510Z
UID:10000430-1770894000-1770897600@freiwilligenagentur-bielefeld.de
SUMMARY:Effektiv mit KI arbeiten: Prompting & Strategien für die tägliche Arbeit
DESCRIPTION:KI und Kom­mu­ni­ka­ti­on \n\n\n\nWie schrei­be ich Prompts\, also Anwei­sun­gen an ein KI-Sys­tem\, die wirk­lich funk­tio­nie­ren und gute Ergeb­nis­se lie­fern? Die­ser Fra­ge gehen wir in die­sem inter­ak­ti­ven Web­i­nar nach. Anhand prak­ti­scher Übun­gen ler­nen Sie\, wie Sie KI durch geziel­te Prompts steu­ern kön­nen\, um prä­zi­se Ergeb­nis­se zu erhal­ten. Egal\, ob Sie krea­ti­ve Inhal­te erstel­len\, admi­nis­tra­ti­ve Auf­ga­ben bewäl­ti­gen oder neue Ideen ent­wi­ckeln möch­ten: Die­ses Web­i­nar bie­tet die per­fek­te Grund­la­ge\, um KI effi­zi­ent und erfolg­reich ein­zu­set­zen. \n\n\n\nInhalte:\n\n\n\nBest Prac­ti­ces: Tipps und Tricks für den effek­ti­ven Ein­satz von KI in der täg­li­chen Arbeit \n\n\n\nStart­prompts: Grund­la­gen und Bei­spie­le\, um den Rah­men für erfolg­rei­che KI-Inter­ak­tio­nen zu set­zen \n\n\n\nPromp­ting-Stra­te­gien: Tech­ni­ken für pro­duk­ti­ve und ziel­füh­ren­de Kon­ver­sa­tio­nen mit der KI \n\n\n\nBrain­stor­ming und Text­ge­ne­rie­rung: Metho­den\, um krea­ti­ve Ideen und Tex­te ent­ste­hen zu las­sen \n\n\n\nInfos und Anmel­dung: https://www.hausdesstiftens.org/webinar/effektiv-mit-ki-arbeiten-prompting-strategien-fuer-die-taegliche-arbeit‑2/
URL:https://freiwilligenagentur-bielefeld.de/veranstaltung/effektiv-mit-ki-arbeiten-prompting-strategien-fuer-die-taegliche-arbeit
LOCATION:Online
CATEGORIES:Informationsveranstaltung
ORGANIZER;CN="Haus des Stiftens":MAILTO:non-profits@hausdesstiftens.org
END:VEVENT
BEGIN:VEVENT
DTSTART;TZID=Europe/Berlin:20260212T170000
DTEND;TZID=Europe/Berlin:20260212T183000
DTSTAMP:20260424T113826
CREATED:20260126T110845Z
LAST-MODIFIED:20260126T110914Z
UID:10000461-1770915600-1770921000@freiwilligenagentur-bielefeld.de
SUMMARY:Veranstaltungsreihe: Engagement voranbringen
DESCRIPTION:Das 1×1 der Pressearbeit für Vereine\n\n\n\n\n\nWie kommt euer Ver­ein in die Pres­se? Oft ist es gar nicht so ein­fach\, bei Zei­tung\, Radio & Co. Auf­merk­sam­keit für die eige­nen Pro­jek­te zu gewin­nen. Gute Pres­se­ar­beit braucht mehr als nur span­nen­de The­men: Sie funk­tio­niert nur mit kla­rer Kom­mu­ni­ka­ti­on\, guten Kon­tak­ten und einer geziel­ten Anspra­che der (Lokal-)Presse. Doch wie gelingt es\, Redak­tio­nen wirk­lich zu errei­chen und Inter­es­se zu wecken? \n\n\n\nIm Online-Work­shop zeigt euch Julia­ne Jes­se\, erfah­re­ne Redak­teu­rin und Refe­ren­tin\, wie ihr eure The­men gezielt plat­ziert. Ihr erfahrt\, wie ihr einen Pres­se­ver­tei­ler auf­baut\, Pres­se­mit­tei­lun­gen schreibt und die pas­sen­den Bil­der und Zusatz­in­fos aus­wählt. Ihr übt ganz prak­tisch\, Pres­se­mit­tei­lun­gen zu ver­fas­sen. Außer­dem lernt ihr\, wie ihr durch geziel­te Kon­takt­pfle­ge zur Pres­se wesent­li­che Infor­ma­tio­nen wir­kungs­voll plat­ziert. \n\n\n\nFor­mat: \n\n\n\ni. d. R. mit Ein­zel- oder Grup­pen­auf­ga­ben \n\n\n\nOnline via Zoom Mee­ting \n\n\n\nZum Aus­tausch und Mit­ma­chen – bit­te mit Kame­ra und Mikro­fon \n\n\n\nInfos und Anmel­dung unter: https://veranstaltungen-landesservicestelle-nrw.de/engagement-voranbringen/pressearbeit-vereine/
URL:https://freiwilligenagentur-bielefeld.de/veranstaltung/veranstaltungsreihe-engagement-voranbringen-2
LOCATION:Online
CATEGORIES:Austausch und Begegnung,Workshop / Fortbildung
END:VEVENT
BEGIN:VEVENT
DTSTART;TZID=Europe/Berlin:20260212T190000
DTEND;TZID=Europe/Berlin:20260212T203000
DTSTAMP:20260424T113826
CREATED:20251120T115801Z
LAST-MODIFIED:20260115T135115Z
UID:10000422-1770922800-1770928200@freiwilligenagentur-bielefeld.de
SUMMARY:Körperschaftsteuererklärung rechtssicher & haftungsfrei meisternWebinar für Vereine
DESCRIPTION:Was müs­sen Ver­ei­ne bei der Kör­per­schaft­steu­er­erklä­rung beach­ten –und wie las­sen sich Feh­ler mit ech­ten Fol­gen ver­mei­den? \n\n\n\nIn die­sem kos­ten­frei­en Web­i­nar zei­gen Exper­tin­nen und Exper­ten: \n\n\n\n\nwel­che Pflich­ten Ver­ei­ne erfül­len müs­sen\n\n\n\nwo typi­sche Stol­per­fal­len lie­gen und\n\n\n\nwie sich Vor­stän­de gezielt vor per­sön­li­chen Haf­tungs­ri­si­ken schüt­zen kön­nen\n\n\n\n\nSo sichern Sie die Gemein­nüt­zig­keit Ihres Ver­eins –ver­ständ­lich\, pra­xis­nah und rechts­si­cher. \n\n\n\nWor­um geht es? \n\n\n\nDie Kör­per­schaft­steu­er­erklä­rung gehört zu den Pflich­ten jedes gemein­nüt­zi­gen Ver­eins – doch vie­le Vor­stän­de sind unsi­cher\, was genau zu tun ist. \n\n\n\nFeh­ler bei der Abga­be oder feh­len­de Nach­wei­se (z. B. zur Gemein­nüt­zig­keit) kön­nen schwer­wie­gen­de Fol­gen haben: vom Ver­lust der Gemein­nüt­zig­keit bis hin zur per­sön­li­chen Haf­tung der Vor­stands­mit­glie­der. \n\n\n\nInfo und Anmel­dung: https://deutsches-ehrenamt.de/webinar-fuer-vereine/?utm_campaign=137616624-Steuererkl%C3%A4rung&utm_medium=email&_hsenc=p2ANqtz-8XVa6otpCO4Rr46aFlfExgtJBVP5OED8wgiUgsbIVbrvA76hjCiN26uFL6BCRQnnbyNHRrKWmKmy7p4laedrghTgtBOMwaYpv9szCC1qIQpnDjbao&_hsmi=122136904&utm_content=122136904&utm_source=hs_automation
URL:https://freiwilligenagentur-bielefeld.de/veranstaltung/webinar-fuer-vereine
LOCATION:Online
CATEGORIES:Informationsveranstaltung,Workshop / Fortbildung
ORGANIZER;CN="Deutsches Ehrenamt":MAILTO:service@deutsches-ehrenamt.de
END:VEVENT
END:VCALENDAR