BEGIN:VCALENDAR
VERSION:2.0
PRODID:-//Freiwilligenagentur Bielefeld - ECPv6.15.20//NONSGML v1.0//EN
CALSCALE:GREGORIAN
METHOD:PUBLISH
X-ORIGINAL-URL:https://freiwilligenagentur-bielefeld.de
X-WR-CALDESC:Veranstaltungen für Freiwilligenagentur Bielefeld
REFRESH-INTERVAL;VALUE=DURATION:PT1H
X-Robots-Tag:noindex
X-PUBLISHED-TTL:PT1H
BEGIN:VTIMEZONE
TZID:Europe/Berlin
BEGIN:DAYLIGHT
TZOFFSETFROM:+0100
TZOFFSETTO:+0200
TZNAME:CEST
DTSTART:20250330T010000
END:DAYLIGHT
BEGIN:STANDARD
TZOFFSETFROM:+0200
TZOFFSETTO:+0100
TZNAME:CET
DTSTART:20251026T010000
END:STANDARD
BEGIN:DAYLIGHT
TZOFFSETFROM:+0100
TZOFFSETTO:+0200
TZNAME:CEST
DTSTART:20260329T010000
END:DAYLIGHT
BEGIN:STANDARD
TZOFFSETFROM:+0200
TZOFFSETTO:+0100
TZNAME:CET
DTSTART:20261025T010000
END:STANDARD
BEGIN:DAYLIGHT
TZOFFSETFROM:+0100
TZOFFSETTO:+0200
TZNAME:CEST
DTSTART:20270328T010000
END:DAYLIGHT
BEGIN:STANDARD
TZOFFSETFROM:+0200
TZOFFSETTO:+0100
TZNAME:CET
DTSTART:20271031T010000
END:STANDARD
END:VTIMEZONE
BEGIN:VEVENT
DTSTART;TZID=Europe/Berlin:20260224T153000
DTEND;TZID=Europe/Berlin:20260224T180000
DTSTAMP:20260420T120200
CREATED:20260108T133846Z
LAST-MODIFIED:20260216T081852Z
UID:10000426-1771947000-1771956000@freiwilligenagentur-bielefeld.de
SUMMARY:Rolle finden - wirksam bleiben - Sensibel für Begegnung und Zusammenhalt
DESCRIPTION:Sie begeg­nen Men­schen die unter Ein­sam­keit lei­den? Zum Bei­spiel im Job oder Ehren­amt? Sie haben sich schon öfter gefragt\, wie Sie hel­fen kön­nen?  \n\n\n\nDann sind die­se Schu­lun­gen für Sie!Der AWO Kreis­ver­band Bie­le­feld e.V. und die Frei­wil­li­gen­agen­tur Bie­le­feld bie­ten eine vier­tei­li­ge Schu­lung an\, die allen Inter­es­sier­ten hilft\, sen­si­bel und kom­pe­tent mit dem The­ma Ein­sam­keit umzu­ge­hen. Die Schu­lung bie­tet Raum\, Ein­sam­keit bes­ser zu ver­ste­hen\, in Kon­takt zu kom­men und Ori­en­tie­rung zu geben. Neben Gesprächs­füh­rung und Kennt­nis­sen zur Bie­le­fel­der Ange­bots­land­schaft ste­hen Rol­len­klä­rung\, Selbst­für­sor­ge und nach­hal­ti­ge Wirk­sam­keit im Mit­tel­punkt. \n\n\n\nIm heu­ti­gen Work­shop:Rol­le fin­den – wirk­sam blei­benRol­len­bil­der\, Selbst­schutz\, Feed­back­kul­tur\, Wei­ter­den­ken \n\n\n\nInfo und Anmel­dung: f.pap@awo-bielefeld.de
URL:https://freiwilligenagentur-bielefeld.de/veranstaltung/rolle-finden-wirksam-bleiben
LOCATION:Seminarraum SO2\, Kavalleriestraße 17\, Bielefeld\, Germany
CATEGORIES:Austausch und Begegnung FWA,Workshop / Fortbildung FWA
ORGANIZER;CN="Freiwilligenagentur Bielefeld":MAILTO:info@freiwilligenagentur-bielefeld.de
END:VEVENT
END:VCALENDAR