BEGIN:VCALENDAR
VERSION:2.0
PRODID:-//Freiwilligenagentur Bielefeld - ECPv6.15.20//NONSGML v1.0//EN
CALSCALE:GREGORIAN
METHOD:PUBLISH
X-WR-CALNAME:Freiwilligenagentur Bielefeld
X-ORIGINAL-URL:https://freiwilligenagentur-bielefeld.de
X-WR-CALDESC:Veranstaltungen für Freiwilligenagentur Bielefeld
REFRESH-INTERVAL;VALUE=DURATION:PT1H
X-Robots-Tag:noindex
X-PUBLISHED-TTL:PT1H
BEGIN:VTIMEZONE
TZID:Europe/Berlin
BEGIN:DAYLIGHT
TZOFFSETFROM:+0100
TZOFFSETTO:+0200
TZNAME:CEST
DTSTART:20250330T010000
END:DAYLIGHT
BEGIN:STANDARD
TZOFFSETFROM:+0200
TZOFFSETTO:+0100
TZNAME:CET
DTSTART:20251026T010000
END:STANDARD
BEGIN:DAYLIGHT
TZOFFSETFROM:+0100
TZOFFSETTO:+0200
TZNAME:CEST
DTSTART:20260329T010000
END:DAYLIGHT
BEGIN:STANDARD
TZOFFSETFROM:+0200
TZOFFSETTO:+0100
TZNAME:CET
DTSTART:20261025T010000
END:STANDARD
BEGIN:DAYLIGHT
TZOFFSETFROM:+0100
TZOFFSETTO:+0200
TZNAME:CEST
DTSTART:20270328T010000
END:DAYLIGHT
BEGIN:STANDARD
TZOFFSETFROM:+0200
TZOFFSETTO:+0100
TZNAME:CET
DTSTART:20271031T010000
END:STANDARD
END:VTIMEZONE
BEGIN:VEVENT
DTSTART;TZID=Europe/Berlin:20260419T100000
DTEND;TZID=Europe/Berlin:20260419T180000
DTSTAMP:20260420T101528
CREATED:20260402T105801Z
LAST-MODIFIED:20260402T105823Z
UID:10000503-1776592800-1776621600@freiwilligenagentur-bielefeld.de
SUMMARY:Bielefeld Tag für Engagierte — Kultur als Dank - Museen öffnen kostenlos Ihre Türen für freiwillig Engagierte in Bielefeld
DESCRIPTION:Am 19. April 2026 laden meh­re­re Bie­le­fel­der Muse­en enga­gier­te Bürger:innen zu einem beson­de­ren Tag ein. Als Zei­chen der Wert­schät­zung für ihren Ein­satz erhal­ten frei­wil­lig Enga­gier­te an die­sem Tag kos­ten­frei­en Ein­tritt und eine Füh­rung in aus­ge­wähl­ten Häu­sern. \n\n\n\nBetei­ligt sind das His­to­ri­sche Muse­um Bie­le­feld\, das Muse­um Huels­mann\, das Natur­kun­de­mu­se­um\, die Kunst­hal­le Bie­le­feld sowie das Bau­ern­haus­mu­se­um. \n\n\n\nKulturpfad durch die Museen\n\n\n\nZusätz­lich wer­den öffent­li­che Füh­run­gen durch die Son­der- oder Dau­er­aus­stel­lun­gen ange­bo­ten: \n\n\n\n\n10:00 Uhr – Natur­kun­de­mu­se­um\n\n\n\n11.30 Uhr – Kunst­hal­le\n\n\n\n13.00 Uhr – Bau­ern­haus­mu­se­um\n\n\n\n15.00 Uhr – His­to­ri­sches Muse­um\n\n\n\n16.30 Uhr – Muse­um Huels­mann\n\n\n\n\nDer Kul­tur­pfad lädt zusätz­lich zum Ent­de­cken ein. Schlie­ßen Sie sich einer Füh­rung an oder erkun­den Sie die Muse­en ganz indi­vi­du­ell. \n\n\n\nWer kann teil­neh­men? \n\n\n\nAlle Inhaber:innen der Enga­ge­ment-Card Bie­le­feld\, der Ehren­amts­kar­te NRW oder Julei­ca und zusätz­lich kön­nen die jewei­li­gen Ein­satz­stel­len ein vor­ge­fer­tig­tes Bestä­ti­gungs­schrei­ben (PDF) für ihre frei­wil­lig Enga­gier­ten für den Ver­an­stal­tungs­tag aus­fül­len. Die Vor­la­ge gibt es als Down­load im Bei­trag auf der Start­sei­te.   \n\n\n\nDer Nach­weis Ihres Enga­ge­ments erfolgt ein­fach durch Vor­la­ge die­ser Kar­ten oder des Bestä­ti­gungs­schrei­ben. \n\n\n\nWar­um gibt es die­sen Tag? \n\n\n\nDer Akti­ons­tag steht ganz im Zei­chen der Aner­ken­nung. Die betei­lig­ten Muse­en und Part­ner möch­ten sich bei den vie­len Men­schen bedan­ken\, die sich in Bie­le­feld für das Gemein­wohl ein­set­zen. Gleich­zei­tig soll die Akti­on dazu bei­tra­gen\, Enga­ge­ment sicht­bar zu machen und die Aner­ken­nungs­kul­tur in unse­rer Stadt wei­ter zu stär­ken. \n\n\n\nOrga­ni­sa­ti­on \n\n\n\nDie Koor­di­na­ti­on erfolgt durch die Frei­wil­li­gen­agen­tur Bie­le­feld im Rah­men des Netz­werks Enga­gier­te Stadt Bie­le­feld – in enger Zusam­men­ar­beit mit den teil­neh­men­den Muse­en und wei­te­ren Partner:innen.
URL:https://freiwilligenagentur-bielefeld.de/veranstaltung/bielefeld-tag-fuer-engagierte-kultur-als-dank-museen-oeffnen-kostenlos-ihre-tueren-fuer-freiwillig-engagierte-in-bielefeld
END:VEVENT
END:VCALENDAR