BEGIN:VCALENDAR
VERSION:2.0
PRODID:-//Freiwilligenagentur Bielefeld - ECPv6.15.20//NONSGML v1.0//EN
CALSCALE:GREGORIAN
METHOD:PUBLISH
X-ORIGINAL-URL:https://freiwilligenagentur-bielefeld.de
X-WR-CALDESC:Veranstaltungen für Freiwilligenagentur Bielefeld
REFRESH-INTERVAL;VALUE=DURATION:PT1H
X-Robots-Tag:noindex
X-PUBLISHED-TTL:PT1H
BEGIN:VTIMEZONE
TZID:Europe/Berlin
BEGIN:DAYLIGHT
TZOFFSETFROM:+0100
TZOFFSETTO:+0200
TZNAME:CEST
DTSTART:20250330T010000
END:DAYLIGHT
BEGIN:STANDARD
TZOFFSETFROM:+0200
TZOFFSETTO:+0100
TZNAME:CET
DTSTART:20251026T010000
END:STANDARD
BEGIN:DAYLIGHT
TZOFFSETFROM:+0100
TZOFFSETTO:+0200
TZNAME:CEST
DTSTART:20260329T010000
END:DAYLIGHT
BEGIN:STANDARD
TZOFFSETFROM:+0200
TZOFFSETTO:+0100
TZNAME:CET
DTSTART:20261025T010000
END:STANDARD
BEGIN:DAYLIGHT
TZOFFSETFROM:+0100
TZOFFSETTO:+0200
TZNAME:CEST
DTSTART:20270328T010000
END:DAYLIGHT
BEGIN:STANDARD
TZOFFSETFROM:+0200
TZOFFSETTO:+0100
TZNAME:CET
DTSTART:20271031T010000
END:STANDARD
END:VTIMEZONE
BEGIN:VEVENT
DTSTART;TZID=Europe/Berlin:20260422T110000
DTEND;TZID=Europe/Berlin:20260422T120000
DTSTAMP:20260420T115832
CREATED:20260108T143209Z
LAST-MODIFIED:20260108T143238Z
UID:10000436-1776855600-1776859200@freiwilligenagentur-bielefeld.de
SUMMARY:Raus aus dem Chaos – zurück zu Klarheit und Fokus
DESCRIPTION:Zu vie­le Pro­jek­te\, zu wenig Zeit und kei­ne Unter­stüt­zung? \n\n\n\nSo wird der All­tag im sozia­len Sek­tor häu­fig erlebt: Auf­ga­ben sta­peln sich\, Prio­ri­tä­ten ver­schwim­men\, und die eige­ne Ener­gie reicht kaum aus. Gera­de in Orga­ni­sa­tio­nen\, die für ande­re da sind\, bleibt die Selbst­für­sor­ge oft auf der Stre­cke. \n\n\n\nIm Web­i­nar wer­den pra­xis­er­prob­te Selbst­füh­rungs-Tech­ni­ken vor­ge­stellt\, die hel­fen\, Klar­heit zu gewin­nen und den Fokus zurück­zu­er­lan­gen. Statt theo­re­ti­scher Ansät­ze wer­den kon­kre­te Sys­te­me ver­mit­telt\, die sich im beruf­li­chen und pri­va­ten All­tag bewährt haben. \n\n\n\nSie erfah­ren\, wie mit ein­fa­chen Metho­den Stress redu­ziert\, Ent­schei­dun­gen leich­ter getrof­fen und die eige­ne Hand­lungs­fä­hig­keit gestärkt wer­den kann. Kei­ne Moti­va­ti­ons­sprü­che\, son­dern pra­xis­er­prob­te Werk­zeu­ge\, die Sie mor­gen anwen­den kön­nen. \n\n\n\nInhal­te: \n\n\n\nInter­ak­tiv & pra­xis­er­probt: Raum für Ihre Fra­gen und Werk­zeu­ge zum Mit­neh­men \n\n\n\nNEIN sagen ler­nen: War­um das wich­tigs­te Wort für Selbst­füh­rung nur vier Buch­sta­ben hat \n\n\n\nFokus­zei­ten statt To-Do-Lis­ten: Wie Sie an The­men arbei­ten\, statt Auf­ga­ben abzu­ha­ken \n\n\n\nEner­gie mana­gen: Mit „Eat that Frog“ die rich­ti­gen Prio­ri­tä­ten set­zen – bevor der Tag Sie über­holt \n\n\n\nKI als Selbst­füh­rungs-Assis­tent: Wie Ihnen cle­ve­re Prompts im All­tag wirk­lich hel­fen kön­nen \n\n\n\nInfos und Anmel­dung: https://www.hausdesstiftens.org/webinar/raus-aus-dem-chaos-zurueck-zu-klarheit-und-fokus/
URL:https://freiwilligenagentur-bielefeld.de/veranstaltung/raus-aus-dem-chaos-zurueck-zu-klarheit-und-fokus
LOCATION:Online
CATEGORIES:Informationsveranstaltung
ORGANIZER;CN="Haus des Stiftens":MAILTO:non-profits@hausdesstiftens.org
END:VEVENT
BEGIN:VEVENT
DTSTART;TZID=Europe/Berlin:20260422T150000
DTEND;TZID=Europe/Berlin:20260422T170000
DTSTAMP:20260420T115832
CREATED:20251120T114640Z
LAST-MODIFIED:20251120T114908Z
UID:10000387-1776870000-1776877200@freiwilligenagentur-bielefeld.de
SUMMARY:Beratungszeit der Freiwilligenagentur Bielefeld e.V.
DESCRIPTION:Die Frei­wil­li­gen­agen­tur Bie­le­feld wur­de von der Arbeits­ge­mein­schaft Bie­le­fel­der Wohl­fahrts­ver­bän­de\, der Stadt Bie­le­feld und Bie­le­fel­der Unter­neh­men im Jahr 2006 gegrün­det.Die Frei­wil­li­gen­agen­tur koor­di­niert unab­hän­gig und gemein­wohl­ori­en­tiert Ange­bo­te und Nach­fra­ge für ehren­amt­li­ches Enga­ge­ment. \n\n\n\nWir bera­ten Bürger*innen zu Tätig­keits­fel­dern im frei­wil­li­gen Enga­ge­ment und unter­stüt­zen gemein­nüt­zi­ge Ein­rich­tun­gen und öffent­li­che Insti­tu­tio­nen durch Ver­mitt­lung von Frei­wil­li­gen. \n\n\n\nUnsere Beratungszeiten:\n\n\n\nMitt­woch 15.00 bis 17.00 Uhroder nach indi­vi­du­el­ler Ver­ein­ba­rung im Bera­tungs­bü­ro 1. Eta­ge der Stadt­bi­blio­thek Bie­le­feld
URL:https://freiwilligenagentur-bielefeld.de/veranstaltung/1359/2026-04-22
LOCATION:Stadtbibliothek Bielefeld\, Neumarkt 1\, Bielefeld\, Germany
CATEGORIES:Beratungsangebot FWA
ORGANIZER;CN="Freiwilligenagentur Bielefeld":MAILTO:info@freiwilligenagentur-bielefeld.de
END:VEVENT
BEGIN:VEVENT
DTSTART;TZID=Europe/Berlin:20260422T150000
DTEND;TZID=Europe/Berlin:20260422T193000
DTSTAMP:20260420T115832
CREATED:20260219T132448Z
LAST-MODIFIED:20260219T132513Z
UID:10000487-1776870000-1776886200@freiwilligenagentur-bielefeld.de
SUMMARY:Reden hilft - Wertschätzende Kommunikation & souveräne Konfliktlösung für Ehrenamtliche (301119)
DESCRIPTION:Wo Men­schen gemein­sam etwas bewe­gen wol­len\, ent­ste­hen auch Span­nun­gen – und das ist nor­mal. Ob Vor­stands­sit­zung\, Pro­jekt­grup­pe oder Whats­App-Chat: Ent­schei­dend ist\, wie gehen wir mit­ein­an­der um. Das Web­i­nar ver­bin­det die The­men wert­schät­zen­de Kom­mu­ni­ka­ti­on und Kon­flikt­lö­sung mit­ein­an­der. Es zeigt\, wie Kon­flik­te früh­zei­tig erkannt\, sou­ve­rän bear­bei­tet und sogar als Chan­ce für Ent­wick­lung genutzt wer­den kön­nen\, in Prä­senz und digi­tal. Neben pra­xis­na­hen Impul­sen wer­den Metho­den aus der Media­ti­on genutzt\, die eige­ne Kom­mu­ni­ka­ti­ons­wei­se reflek­tiert und Stra­te­gien für eine gesun­de Feed­back­kul­tur ent­wi­ckelt. Dabei gilt: Kon­flik­te müs­sen nicht läh­men\, sie kön­nen Teams und Ver­ei­ne auch stär­ken. \n\n\n\nDie­ses Web­i­nar rich­tet sich an alle Ehren­amt­li­chen sowie Mit­ar­bei­ten­de aus den Jugend­her­ber­gen und Geschäfts­stel­len und eig­net sich ins­be­son­de­re für Mit­ar­bei­ten­de der Stabs­stel­le Ehren­amt sowie Ehren­amt­li­che selbst. \n\n\n\nRefe­ren­tin: Jana Piske \n\n\n\nAnmel­dung und Infos: https://www.jugendherberge.de/wissensmanagement/seminarkalender/#/de/classes/view/303
URL:https://freiwilligenagentur-bielefeld.de/veranstaltung/reden-hilft-wertschaetzende-kommunikation-souveraene-konfliktloesung-fuer-ehrenamtliche-301119
LOCATION:Online
CATEGORIES:Workshop / Fortbildung
ORGANIZER;CN="Deutsches Jugendherbergswerk":MAILTO:cornelia.schlenz@jugendherberge.de
END:VEVENT
BEGIN:VEVENT
DTSTART;TZID=Europe/Berlin:20260422T170000
DTEND;TZID=Europe/Berlin:20260422T180000
DTSTAMP:20260420T115832
CREATED:20260129T150321Z
LAST-MODIFIED:20260129T150347Z
UID:10000470-1776877200-1776880800@freiwilligenagentur-bielefeld.de
SUMMARY:Datenschutz im Verein + Westfalen-Akademie nachgefragt
DESCRIPTION:Zwei­tei­li­ges digi­ta­les Semi­nar \n\n\n\n\n\nIm ers­ten Teil\, am 15.04.2026 (Mitt­woch)\,  refe­riert Rechts­an­walt und Daten­schutz­ex­per­te Micha­el Kiss­ler von der Kanz­lei Win­hel­ler wich­ti­ge Aspek­te zum The­ma Daten­schutz für Ver­ei­ne und gemein­nüt­zi­ge Orga­ni­sa­tio­nen: \n\n\n\n\nWel­che Grund­la­gen müs­sen Ver­ei­ne und Ehren­amt­li­che zum The­ma Daten­schutz und DSGVO beach­ten?\n\n\n\nWel­che Kanä­le kön­nen Sie beden­ken­los nut­zen?\n\n\n\nWie sieht ein ver­ant­wor­tungs­be­wuss­ter Umgang mit Daten auf der Web­site und in den sozia­len Medi­en aus?\n\n\n\n\nIm zwei­ten Teil\, am 22.04.2026\, ist dann aus­rei­chend Zeit für Ihre spe­zi­el­len Fra­gen und einen Aus­tausch zum The­ma. \n\n\n\nBit­te beach­ten Sie: Eine Teil­nah­me am zwei­ten Teil ist nur nach Teil­nah­me am ers­ten Teil mög­lich. \n\n\n\nInfo und Anmel­dung: https://www.westfalen-akademie.nrw/programm/datenschutz-im-verein‑4–26/
URL:https://freiwilligenagentur-bielefeld.de/veranstaltung/datenschutz-im-verein-westfalen-akademie-nachgefragt-2
LOCATION:Online
CATEGORIES:Workshop / Fortbildung
END:VEVENT
END:VCALENDAR