BEGIN:VCALENDAR
VERSION:2.0
PRODID:-//Freiwilligenagentur Bielefeld - ECPv6.15.20//NONSGML v1.0//EN
CALSCALE:GREGORIAN
METHOD:PUBLISH
X-WR-CALNAME:Freiwilligenagentur Bielefeld
X-ORIGINAL-URL:https://freiwilligenagentur-bielefeld.de
X-WR-CALDESC:Veranstaltungen für Freiwilligenagentur Bielefeld
REFRESH-INTERVAL;VALUE=DURATION:PT1H
X-Robots-Tag:noindex
X-PUBLISHED-TTL:PT1H
BEGIN:VTIMEZONE
TZID:Europe/Berlin
BEGIN:DAYLIGHT
TZOFFSETFROM:+0100
TZOFFSETTO:+0200
TZNAME:CEST
DTSTART:20250330T010000
END:DAYLIGHT
BEGIN:STANDARD
TZOFFSETFROM:+0200
TZOFFSETTO:+0100
TZNAME:CET
DTSTART:20251026T010000
END:STANDARD
BEGIN:DAYLIGHT
TZOFFSETFROM:+0100
TZOFFSETTO:+0200
TZNAME:CEST
DTSTART:20260329T010000
END:DAYLIGHT
BEGIN:STANDARD
TZOFFSETFROM:+0200
TZOFFSETTO:+0100
TZNAME:CET
DTSTART:20261025T010000
END:STANDARD
BEGIN:DAYLIGHT
TZOFFSETFROM:+0100
TZOFFSETTO:+0200
TZNAME:CEST
DTSTART:20270328T010000
END:DAYLIGHT
BEGIN:STANDARD
TZOFFSETFROM:+0200
TZOFFSETTO:+0100
TZNAME:CET
DTSTART:20271031T010000
END:STANDARD
END:VTIMEZONE
BEGIN:VEVENT
DTSTART;TZID=Europe/Berlin:20260427T163000
DTEND;TZID=Europe/Berlin:20260427T180000
DTSTAMP:20260422T120929
CREATED:20260331T131532Z
LAST-MODIFIED:20260331T131553Z
UID:10000502-1777307400-1777312800@freiwilligenagentur-bielefeld.de
SUMMARY:Wirkungs­orientierung - mit wenig Aufwand mehr bewirken. Für Ehrenamt und gemein­nützige Organi­sa­tionen
DESCRIPTION:In die­sem Meet­up stel­len wir eine Hand­rei­chung vor\, die den Ein­stieg erleich­tern soll\, und prü­fen gemein­sam\, ob sie für ehren­amt­li­che und gemein­nüt­zi­ge Arbeit geeig­net ist – und was sie kon­kret leis­ten kann. \n\n\n\nWir­kungs­ori­en­tie­rung klingt kom­plex – muss es aber nicht sein. In die­sem Meet­up stel­len wir eine Hand­rei­chung vor\, die den Ein­stieg ins The­ma erleich­tern soll\, und prü­fen gemein­sam\, ob sie für das Ehren­amt geeig­net ist. \n\n\n\nWarum es nicht nur ums Tun geht\n\n\n\nMacht was wir tun\, wirk­lich einen Unter­schied? Im Ehren­amt stellt sich die­se Fra­ge frü­her oder spä­ter. Hier setzt Wir­kungs­ori­en­tie­rung an. Es geht dar­um\, im Ehren­amt den eige­nen Ein­satz bewuss­ter zu gestal­ten und damit wir­kungs­vol­ler. \n\n\n\nEin bekann­ter Ein­stieg ins The­ma Wir­kung ist das IOOI-Modell der Ber­tels­mann Stif­tung: Input\, Out­put\, Out­co­me\, Impact – von den ein­ge­setz­ten Mit­teln bis zur gesell­schaft­li­chen Ver­än­de­rung. Dane­ben gibt es eine Viel­zahl wei­te­rer Model­le. Wirk­mo­del­le sind struk­tu­rier­te Metho­den\, um den Weg vom eige­nen Han­deln zur gewünsch­ten Ver­än­de­rung sicht­bar zu machen. \n\n\n\nVie­le sol­cher Wirk­mo­del­le sind wert­vol­le Werk­zeu­ge – aber oft kom­plex\, res­sour­cen­in­ten­siv und für gro­ße Orga­ni­sa­tio­nen ent­wi­ckelt. Für eine Per­son im Ehren­amt\, oder auch ein Team\, sind die Wirk­mo­del­le häu­fig schlicht zu groß gedacht. \n\n\n\nHandreichung Wirkungsorientierung\n\n\n\nDes­halb ent­stand die­se Hand­rei­chung – ursprüng­lich für gemein­nüt­zi­ge Orga­ni­sa­tio­nen\, die die Wir­kung ihrer Arbeit sicht­bar machen möch­ten\, ohne dafür viel Zeit und Res­sour­cen auf­wen­den zu müs­sen. Da der Bedarf an Wir­kungs­ana­ly­se uns auch aus dem Ehren­amt zurück­ge­mel­det wur­de\, möch­ten wir im Meet­up gemein­sam prü­fen\, ob und wie sie dort genau­so hilf­reich sein kann. Im Mit­tel­punkt steht das Logic Model 2.0: ein über­schau­ba­rer Ansatz\, der hilft\, die eige­ne Arbeit zu pla­nen\, zu bewer­ten und gezielt zu ver­bes­sern. Die Hand­rei­chung ist kos­ten­los und ohne Vor­kennt­nis­se nutz­bar. \n\n\n\nIm Meet­up stel­len wir die Hand­rei­chung vor und wen­den sie gemein­sam auf einen kon­kre­ten Fall an – ganz prak­tisch und zum Anfas­sen. Hier der Link zur Vor­stel­lung der Hand­rei­chung: Logic Model 2.0 \n\n\n\nAblauf der 90 Minuten\n\n\n\nDas 90-minü­ti­gen pra­xis­na­hen und inter­ak­ti­ven Meet­up ist auf­ge­teilt in: Impuls Wis­sen­schaft: Pro­fes­so­rin Dr. Mela­nie Eicken­busch\, forscht und lehrt unter ande­rem zum The­ma Wir­kung an der Fach­hoch­schu­le des Mit­tel­stands in Bie­le­feld. Impuls & Work­shop Pra­xis: Maria Gon­cal­ves\, Pro­jekt­ma­na­ge­rin Open Inno­va­ti­on City hat das Logic Model zum Logic Model 2.0 wei­ter­ent­wi­ckelt und die Hand­rei­chung erstellt. Sie stellt die Hand­rei­chung vor und lei­tet durch den Work­shop\, in dem wir das Modell gemein­sam auf einen kon­kre­ten Fall anwen­den. \n\n\n\nKI-Hin­weis: Die­ser Text ist mit Unter­stüt­zung der KI ent­stan­den. \n\n\n\nAnmel­dung: https://oic-bielefeld.de/beitraege/wirkungsorientierung-meetup/
URL:https://freiwilligenagentur-bielefeld.de/veranstaltung/wirkungsorientierung-mit-wenig-aufwand-mehr-bewirken-fuer-ehrenamt-und-gemeinnuetzige-organisationen
LOCATION:Innovation Office\, Alter Markt 13\, Bielefeld
ORGANIZER;CN="Open Innovation City Bielefeld":MAILTO:innovationen@bielefeld.de
END:VEVENT
END:VCALENDAR