BEGIN:VCALENDAR
VERSION:2.0
PRODID:-//Freiwilligenagentur Bielefeld - ECPv6.15.20//NONSGML v1.0//EN
CALSCALE:GREGORIAN
METHOD:PUBLISH
X-WR-CALNAME:Freiwilligenagentur Bielefeld
X-ORIGINAL-URL:https://freiwilligenagentur-bielefeld.de
X-WR-CALDESC:Veranstaltungen für Freiwilligenagentur Bielefeld
REFRESH-INTERVAL;VALUE=DURATION:PT1H
X-Robots-Tag:noindex
X-PUBLISHED-TTL:PT1H
BEGIN:VTIMEZONE
TZID:Europe/Berlin
BEGIN:DAYLIGHT
TZOFFSETFROM:+0100
TZOFFSETTO:+0200
TZNAME:CEST
DTSTART:20250330T010000
END:DAYLIGHT
BEGIN:STANDARD
TZOFFSETFROM:+0200
TZOFFSETTO:+0100
TZNAME:CET
DTSTART:20251026T010000
END:STANDARD
BEGIN:DAYLIGHT
TZOFFSETFROM:+0100
TZOFFSETTO:+0200
TZNAME:CEST
DTSTART:20260329T010000
END:DAYLIGHT
BEGIN:STANDARD
TZOFFSETFROM:+0200
TZOFFSETTO:+0100
TZNAME:CET
DTSTART:20261025T010000
END:STANDARD
BEGIN:DAYLIGHT
TZOFFSETFROM:+0100
TZOFFSETTO:+0200
TZNAME:CEST
DTSTART:20270328T010000
END:DAYLIGHT
BEGIN:STANDARD
TZOFFSETFROM:+0200
TZOFFSETTO:+0100
TZNAME:CET
DTSTART:20271031T010000
END:STANDARD
END:VTIMEZONE
BEGIN:VEVENT
DTSTART;TZID=Europe/Berlin:20260702T110000
DTEND;TZID=Europe/Berlin:20260702T120000
DTSTAMP:20260420T132320
CREATED:20260323T110905Z
LAST-MODIFIED:20260323T110937Z
UID:10000500-1782990000-1782993600@freiwilligenagentur-bielefeld.de
SUMMARY:Freiwillige vor! Freiwillige gewinnen und einarbeiten
DESCRIPTION:Das The­ma Gewin­nung von enga­gier­ten Mit­glie­dern treibt klei­ne und gro­ße Orga­ni­sa­tio­nen glei­cher­ma­ßen um. Häu­fig ist viel Arbeit auf viel zu weni­ge Schul­tern von Enga­gier­ten ver­teilt. Wie aber kann es gelin­gen Frei­wil­li­ge zu gewin­nen und ein­zu­ar­bei­ten? In wel­chen Tätig­keits­be­rei­chen Ihrer Orga­ni­sa­ti­on kön­nen Sie ein Enga­ge­ment anbie­ten? Wie kön­nen Sie Men­schen für das Enga­ge­ment gewin­nen und für die Ver­eins­ar­beit moti­vie­ren? Wie kann eine gute Ein­ar­bei­tung gelin­gen? \n\n\n\nIn die­sem Web­i­nar wer­den Ant­wor­ten auf die Fra­gen und Hand­lungs­im­pul­se zur Gewin­nung und Ein­ar­bei­tung von Frei­wil­li­gen gege­ben. \n\n\n\nInhal­te: \n\n\n\nInstru­men­te für die Ein­ar­bei­tung neu­er Frei­wil­li­ger \n\n\n\nWege zur Gewin­nung von Frei­wil­li­gen \n\n\n\nMoti­ve und belieb­te Enga­ge­ment­for­ma­te von Frei­wil­li­gen \n\n\n\nAnmel­dung und Info: https://www.hausdesstiftens.org/webinar/freiwillige-vor-freiwillige-gewinnen-und-einarbeiten/
URL:https://freiwilligenagentur-bielefeld.de/veranstaltung/freiwillige-vor-freiwillige-gewinnen-und-einarbeiten-2
LOCATION:Online
CATEGORIES:Workshop / Fortbildung
ORGANIZER;CN="Haus des Stiftens":MAILTO:non-profits@hausdesstiftens.org
END:VEVENT
END:VCALENDAR