BEGIN:VCALENDAR
VERSION:2.0
PRODID:-//Freiwilligenagentur Bielefeld - ECPv6.15.20//NONSGML v1.0//EN
CALSCALE:GREGORIAN
METHOD:PUBLISH
X-ORIGINAL-URL:https://freiwilligenagentur-bielefeld.de
X-WR-CALDESC:Veranstaltungen für Freiwilligenagentur Bielefeld
REFRESH-INTERVAL;VALUE=DURATION:PT1H
X-Robots-Tag:noindex
X-PUBLISHED-TTL:PT1H
BEGIN:VTIMEZONE
TZID:Europe/Berlin
BEGIN:DAYLIGHT
TZOFFSETFROM:+0100
TZOFFSETTO:+0200
TZNAME:CEST
DTSTART:20250330T010000
END:DAYLIGHT
BEGIN:STANDARD
TZOFFSETFROM:+0200
TZOFFSETTO:+0100
TZNAME:CET
DTSTART:20251026T010000
END:STANDARD
BEGIN:DAYLIGHT
TZOFFSETFROM:+0100
TZOFFSETTO:+0200
TZNAME:CEST
DTSTART:20260329T010000
END:DAYLIGHT
BEGIN:STANDARD
TZOFFSETFROM:+0200
TZOFFSETTO:+0100
TZNAME:CET
DTSTART:20261025T010000
END:STANDARD
BEGIN:DAYLIGHT
TZOFFSETFROM:+0100
TZOFFSETTO:+0200
TZNAME:CEST
DTSTART:20270328T010000
END:DAYLIGHT
BEGIN:STANDARD
TZOFFSETFROM:+0200
TZOFFSETTO:+0100
TZNAME:CET
DTSTART:20271031T010000
END:STANDARD
END:VTIMEZONE
BEGIN:VEVENT
DTSTART;TZID=Europe/Berlin:20261118T150000
DTEND;TZID=Europe/Berlin:20261118T170000
DTSTAMP:20260420T133427
CREATED:20251120T114640Z
LAST-MODIFIED:20251120T114908Z
UID:10000417-1795014000-1795021200@freiwilligenagentur-bielefeld.de
SUMMARY:Beratungszeit der Freiwilligenagentur Bielefeld e.V.
DESCRIPTION:Die Frei­wil­li­gen­agen­tur Bie­le­feld wur­de von der Arbeits­ge­mein­schaft Bie­le­fel­der Wohl­fahrts­ver­bän­de\, der Stadt Bie­le­feld und Bie­le­fel­der Unter­neh­men im Jahr 2006 gegrün­det.Die Frei­wil­li­gen­agen­tur koor­di­niert unab­hän­gig und gemein­wohl­ori­en­tiert Ange­bo­te und Nach­fra­ge für ehren­amt­li­ches Enga­ge­ment. \n\n\n\nWir bera­ten Bürger*innen zu Tätig­keits­fel­dern im frei­wil­li­gen Enga­ge­ment und unter­stüt­zen gemein­nüt­zi­ge Ein­rich­tun­gen und öffent­li­che Insti­tu­tio­nen durch Ver­mitt­lung von Frei­wil­li­gen. \n\n\n\nUnsere Beratungszeiten:\n\n\n\nMitt­woch 15.00 bis 17.00 Uhroder nach indi­vi­du­el­ler Ver­ein­ba­rung im Bera­tungs­bü­ro 1. Eta­ge der Stadt­bi­blio­thek Bie­le­feld
URL:https://freiwilligenagentur-bielefeld.de/veranstaltung/1359/2026-11-18
LOCATION:Stadtbibliothek Bielefeld\, Neumarkt 1\, Bielefeld\, Germany
CATEGORIES:Beratungsangebot FWA
ORGANIZER;CN="Freiwilligenagentur Bielefeld":MAILTO:info@freiwilligenagentur-bielefeld.de
END:VEVENT
BEGIN:VEVENT
DTSTART;TZID=Europe/Berlin:20261118T160000
DTEND;TZID=Europe/Berlin:20261118T180000
DTSTAMP:20260420T133427
CREATED:20260209T093438Z
LAST-MODIFIED:20260209T093504Z
UID:10000478-1795017600-1795024800@freiwilligenagentur-bielefeld.de
SUMMARY:Verstehen statt Verurteilen - demenzielle Veränderungen undVerhalten\, das herausfordert
DESCRIPTION:Begeg­nun­gen mit Men­schen\, die von demen­zi­el­len Ver­än­de­run­gen betrof­fen sind\, kön­nen manch­mal her­aus­for­derndsein – vor allem\, wenn Ver­hal­tens­wei­sen anders erschei­nen und schwer ein­zu­ord­nen sind. Wie lässtsich ein Ver­ständ­nis für die­se Ver­än­de­run­gen ent­wi­ckeln? Was könn­te hin­ter Unru­he\, Rück­zug oder Aggres­si­onlie­gen? Die­se Ver­an­stal­tung bie­tet eine Ein­füh­rung in das The­ma demen­zi­el­ler Ver­än­de­run­gen\, lädt zum Per­spek­tiv­wech­selein und gibt pra­xis­na­he Impul­se für einen wert­schät­zen­den\, ver­ste­hen­den Umgang – mit Raumfür Fra­gen\, Aus­tausch\, Bei­spie­le und Refle­xi­on. \n\n\n\nAnmel­de­frist 09.11.26 \n\n\n\nRaum: Weit­sicht \n\n\n\nInfo u. Anmel­dung: Tele­fon 0521 144‑5571 | Mobil +4915172627998
URL:https://freiwilligenagentur-bielefeld.de/veranstaltung/verstehen-statt-verurteilen-demenzielle-veraenderungen-undverhalten-das-herausfordert
LOCATION:Neue Schmiede\, Handwerkerstr. 7\, Bielefeld\, Germany
CATEGORIES:Austausch und Begegnung,Workshop / Fortbildung
ORGANIZER;CN="Freizeit- und Kulturzentrum Neue Schmiede<br>":MAILTO:susanne.kamp@bethel.de
END:VEVENT
END:VCALENDAR