BEGIN:VCALENDAR
VERSION:2.0
PRODID:-//Freiwilligenagentur Bielefeld - ECPv6.15.20//NONSGML v1.0//EN
CALSCALE:GREGORIAN
METHOD:PUBLISH
X-ORIGINAL-URL:https://freiwilligenagentur-bielefeld.de
X-WR-CALDESC:Veranstaltungen für Freiwilligenagentur Bielefeld
REFRESH-INTERVAL;VALUE=DURATION:PT1H
X-Robots-Tag:noindex
X-PUBLISHED-TTL:PT1H
BEGIN:VTIMEZONE
TZID:Europe/Berlin
BEGIN:DAYLIGHT
TZOFFSETFROM:+0100
TZOFFSETTO:+0200
TZNAME:CEST
DTSTART:20240331T010000
END:DAYLIGHT
BEGIN:STANDARD
TZOFFSETFROM:+0200
TZOFFSETTO:+0100
TZNAME:CET
DTSTART:20241027T010000
END:STANDARD
BEGIN:DAYLIGHT
TZOFFSETFROM:+0100
TZOFFSETTO:+0200
TZNAME:CEST
DTSTART:20250330T010000
END:DAYLIGHT
BEGIN:STANDARD
TZOFFSETFROM:+0200
TZOFFSETTO:+0100
TZNAME:CET
DTSTART:20251026T010000
END:STANDARD
BEGIN:DAYLIGHT
TZOFFSETFROM:+0100
TZOFFSETTO:+0200
TZNAME:CEST
DTSTART:20260329T010000
END:DAYLIGHT
BEGIN:STANDARD
TZOFFSETFROM:+0200
TZOFFSETTO:+0100
TZNAME:CET
DTSTART:20261025T010000
END:STANDARD
END:VTIMEZONE
BEGIN:VEVENT
DTSTART;TZID=Europe/Berlin:20250402T150000
DTEND;TZID=Europe/Berlin:20250402T170000
DTSTAMP:20260424T135751
CREATED:20250325T094955Z
LAST-MODIFIED:20250325T104223Z
UID:10000001-1743606000-1743613200@freiwilligenagentur-bielefeld.de
SUMMARY:Offene Beratungszeit zu freiwilligem Engagement
DESCRIPTION:Jeden Mitt­woch bie­tet die Frei­wil­li­gen­agen­tur Bie­le­feld zwi­schen 15:00 und 17:00 Uhr eine offe­ne Bera­tungs­zeit an\, bei dem sich inter­es­sier­te Bürger*innen zu Mög­lich­kei­ten eines frei­wil­li­gen Enga­ge­ments infor­mie­ren kön­nen. \n\n\n\nTer­min­ver­ein­ba­rung ist nicht nötig\, kom­men Sie ein­fach vor­bei. \n\n\n\nBera­tungs­bü­ro in der Stadt­bi­blio­thek\, Neu­markt 1 in der 1. Eta­ge
URL:https://freiwilligenagentur-bielefeld.de/veranstaltung/offene-beratungszeit-zu-freiwilligem-engagement
LOCATION:Freiwilligenagentur Bielefeld\, Neumarkt 1\, Bielefeld\, 33602
CATEGORIES:Beratungsangebot FWA
END:VEVENT
END:VCALENDAR