BEGIN:VCALENDAR
VERSION:2.0
PRODID:-//Freiwilligenagentur Bielefeld - ECPv6.15.20//NONSGML v1.0//EN
CALSCALE:GREGORIAN
METHOD:PUBLISH
X-ORIGINAL-URL:https://freiwilligenagentur-bielefeld.de
X-WR-CALDESC:Veranstaltungen für Freiwilligenagentur Bielefeld
REFRESH-INTERVAL;VALUE=DURATION:PT1H
X-Robots-Tag:noindex
X-PUBLISHED-TTL:PT1H
BEGIN:VTIMEZONE
TZID:Europe/Berlin
BEGIN:DAYLIGHT
TZOFFSETFROM:+0100
TZOFFSETTO:+0200
TZNAME:CEST
DTSTART:20240331T010000
END:DAYLIGHT
BEGIN:STANDARD
TZOFFSETFROM:+0200
TZOFFSETTO:+0100
TZNAME:CET
DTSTART:20241027T010000
END:STANDARD
BEGIN:DAYLIGHT
TZOFFSETFROM:+0100
TZOFFSETTO:+0200
TZNAME:CEST
DTSTART:20250330T010000
END:DAYLIGHT
BEGIN:STANDARD
TZOFFSETFROM:+0200
TZOFFSETTO:+0100
TZNAME:CET
DTSTART:20251026T010000
END:STANDARD
BEGIN:DAYLIGHT
TZOFFSETFROM:+0100
TZOFFSETTO:+0200
TZNAME:CEST
DTSTART:20260329T010000
END:DAYLIGHT
BEGIN:STANDARD
TZOFFSETFROM:+0200
TZOFFSETTO:+0100
TZNAME:CET
DTSTART:20261025T010000
END:STANDARD
END:VTIMEZONE
BEGIN:VEVENT
DTSTART;TZID=Europe/Berlin:20250521T090000
DTEND;TZID=Europe/Berlin:20250521T160000
DTSTAMP:20260424T123537
CREATED:20250512T082321Z
LAST-MODIFIED:20250512T084324Z
UID:10000010-1747818000-1747843200@freiwilligenagentur-bielefeld.de
SUMMARY:Trauer ist bunt - tiergestützte Trauerbegleitung von Kindern und Jugendlichen
DESCRIPTION:Auch die Kleins­ten trau­ern ganz groß. Aber wenn ein gelieb­ter Mensch/ein Tier ver­stirbt oder lebens­be­droh­lich erkrankt\, wer­den gera­de jun­ge Kin­der über­se­hen. Trau­er bricht sich in den unter­schied­lichs­ten Kon­tex­ten Bahn – und äußert sich in Wut\, Angst und Ver­mei­dung. In der Aus­ein­an­der­set­zung mit den The­men Ster­ben\, Tod und Trau­er wol­len wir Sie dazu befä­hi­gen\, trau­ern­de Kin­der und Jugend­li­che alters­ge­recht\, empa­thisch\, krea­tiv und res­sour­cen­ori­en­tiert zu beglei­ten. Dabei flie­ßen unse­re Erfah­run­gen aus der tier- und hun­de­ge­stütz­ten Trau­er­be­glei­tung mit ein. \n\n\n\nWir beschäf­ti­gen uns an die­sem Fort­bil­dungs­tag mit dem Trau­er­aus­druck von Kin­dern\, mit Fami­li­en­sys­te­men und krea­ti­ven Gestal­tungs­mög­lich­kei­ten. Wir erar­bei­ten\, wie man kind­ge­recht über Tod und Trau­er spre­chen kann und wie die­se The­men im päd­ago­gi­schen All­tag – ob prä­ven­tiv oder im Akut­fall – Raum fin­den kön­nen. \n\n\n\nDazu wid­men wir uns u.a. tröst­li­chen (Trauer-)Ritualen sowie ver­schie­de­nen tier-/na­tur­ge­stütz­ten Ansät­zen für die Trau­er­ar­beit. In einem geschütz­ten Rah­men erhal­ten Sie Raum\, um sich mit Ihrer eige­nen Bio­gra­fie aus­ein­an­der­zu­set­zen und Ihre Hal­tung zu den The­men „Tod\, Trau­er und Ster­ben“ (weiter-)zu ent­wi­ckeln. \n\n\n\nWir pla­nen eine prak­ti­sche Ein­heit mit unse­rem The­ra­pie­hund. Zudem set­zen wir uns damit aus­ein­an­der\, wie ohne eige­ne Tie­re tier­ge­stützt gear­bei­tet wer­den kann – z.B. durch Beob­ach­tung\, ent­spre­chen­des Mate­ri­al und Metho­den. \n\n\n\nDie Fort­bil­dung rich­tet sich an päd­ago­gi­sche Fach­kräf­te sowie an ehren­amt­li­che Trauerbegleiter:innen. Es bedarf kei­ner­lei Vor­kennt­nis­se. \n\n\n\nBei­trag: 31 € Ver­pfle­gungs­pau­scha­le (geför­dert vom Land NRW) \n\n\n\nRefe­ren­tin: Moni­que Kluß \n\n\n\nstaatl. aner­kann­te Sozi­al­päd­ago­gin\, Mas­ter of Arts Erzie­hungs­wis­sen­schaf­ten (Pro­fil: Migra­ti­ons­päd­ago­gik)\, Sys­te­mi­sche Trau­er­be­glei­te­rin für Kin­der und Jugend­li­che (Trau­er­land Bre­men)\, Mit­ar­bei­te­rin beim Ver­ein „LAIKA – Trost auf vier Pfo­ten“ \n\n\n\nAnmel­dun­gen bit­te unter: https://www.einschlingen.de/event/trauer-ist-bunt-tiergestuetzte-trauerbegleitung-von-kindern-und-jugendlichen/ \n\n\n\nAnsprechpartner*inDanie­la Schlind­weinTele­fon0521/417694044E‑Maildaniela.schlindwein@einschlingen.de
URL:https://freiwilligenagentur-bielefeld.de/veranstaltung/trauer-ist-bunt-tiergestuetzte-trauerbegleitung-von-kindern-und-jugendlichen
LOCATION:Bildungsstätte Einschlingen\, Schlingenstr. 65\, Bielefeld\, Germany
END:VEVENT
BEGIN:VEVENT
DTSTART;TZID=Europe/Berlin:20250521T150000
DTEND;TZID=Europe/Berlin:20250521T170000
DTSTAMP:20260424T123538
CREATED:20250512T083213Z
LAST-MODIFIED:20250512T083215Z
UID:10000011-1747839600-1747846800@freiwilligenagentur-bielefeld.de
SUMMARY:Offene Beratungszeit zu freiwilligem Engagement
DESCRIPTION:Jeden Mitt­woch bie­tet die Frei­wil­li­gen­agen­tur Bie­le­feld zwi­schen 15:00 und 17:00 Uhr eine offe­ne Bera­tungs­zeit an\, bei dem sich inter­es­sier­te Bürger*innen zu Mög­lich­kei­ten eines frei­wil­li­gen Enga­ge­ments infor­mie­ren kön­nen. \n\n\n\nTer­min­ver­ein­ba­rung ist nicht nötig\, kom­men Sie ein­fach vor­bei. \n\n\n\nBera­tungs­bü­ro in der Stadt­bi­blio­thek\, Neu­markt 1 in der 1. Eta­ge
URL:https://freiwilligenagentur-bielefeld.de/veranstaltung/offene-beratungszeit-zu-freiwilligem-engagement-3
LOCATION:Stadtbibliothek Bielefeld\, Neumarkt 1\, Bielefeld\, Germany
CATEGORIES:Beratungsangebot FWA
END:VEVENT
BEGIN:VEVENT
DTSTART;TZID=Europe/Berlin:20250521T170000
DTEND;TZID=Europe/Berlin:20250521T190000
DTSTAMP:20260424T123538
CREATED:20250512T105034Z
LAST-MODIFIED:20250512T105035Z
UID:10000014-1747846800-1747854000@freiwilligenagentur-bielefeld.de
SUMMARY:Urheberrecht für Vereine und gemeinnützige Organisationen
DESCRIPTION:Kos­ten­lo­ses digi­ta­les Semi­nar der West­fa­len­aka­de­mie \n\n\n\nIm zwei­stün­di­gen digi­ta­len Semi­nar beant­wor­tet Rechts­an­walt\, Urhe­ber­rechts- und Medi­en­rechts­exper­te Wil­helm Achel­pöh­ler von der Kanz­lei Meis­ter­ernst Düsing Man­stet­ten alle wich­ti­gen und pra­xis­re­le­van­ten Fra­gen zum The­ma Urhe­ber­recht für Ver­ei­ne und gemein­nüt­zi­ge Orga­ni­sa­tio­nen: \n\n\n\n\nWel­che Grund­la­gen müs­sen Ver­ei­ne und Ehren­amt­li­che zum The­ma Urhe­ber­recht ken­nen und beach­ten?\n\n\n\nWer ist über­haupt ein Urhe­ber?\n\n\n\nWas sind Urhe­ber­per­sön­lich­keits­rech­te und Ver­wer­tungs­rech­te?\n\n\n\nWel­che urhe­ber­recht­lich geschütz­ten Wer­ke gibt es und wie lan­ge sind die­se geschützt?\n\n\n\nWel­che Nut­zungs- und Ver­viel­fäl­ti­gungs­rech­te müs­sen ins­be­son­de­re in Bezug auf Foto­gra­fien von Men­schen gewahrt blei­ben?\n\n\n\nWie kön­nen Sie Ihre Web­sei­te und ande­re sozia­le Medi­en im Zusam­men­hang mit urhe­ber­recht­li­chen Fra­ge­stel­lun­gen ver­ant­wor­tungs­be­wusst gestal­ten?\n\n\n\n\nGer­ne kön­nen Sie uns kon­kre­te Fra­gen zu einem bestimm­ten Fall an die E‑Mail-Adres­se sarah.pfeil@whb.nrw im Vor­feld zukom­men las­sen oder auch wäh­rend des Online-Semi­nars stel­len. \n\n\n\nRefe­rent: Wil­helm Achel­pöh­ler\, Kanz­lei Meis­ter­ernst Düsing Man­stet­ten\, Part­ner­schaft von Rechts­an­wäl­tin­nen und Rechts­an­wäl­ten mbB \n\n\n\nAnmel­dung unter: Urhe­ber­recht für Ver­ei­ne und gemein­nüt­zi­ge Orga­ni­sa­tio­nen – West­fa­len Aka­de­mie
URL:https://freiwilligenagentur-bielefeld.de/veranstaltung/urheberrecht-fuer-vereine-und-gemeinnuetzige-organisationen
CATEGORIES:Workshop / Fortbildung
END:VEVENT
BEGIN:VEVENT
DTSTART;TZID=Europe/Berlin:20250522T110000
DTEND;TZID=Europe/Berlin:20250522T120000
DTSTAMP:20260424T123538
CREATED:20250512T105507Z
LAST-MODIFIED:20250512T105918Z
UID:10000015-1747911600-1747915200@freiwilligenagentur-bielefeld.de
SUMMARY:Umsatzsteuer im Zweckbetrieb und wirtschaftlichen Geschäftsbetrieb
DESCRIPTION:Kos­ten­lo­ses Web­i­nar vom Haus des Stif­tens \n\n\n\nDie Umsatz­steu­er stellt für gemein­nüt­zi­ge Orga­ni­sa­tio­nen häu­fig eine Her­aus­for­de­rung dar. Auch wenn sie nicht pri­mär gewinn­ori­en­tiert sind\, kön­nen unter bestimm­ten Bedin­gun­gen Umsatz­steu­er­pflich­ten ent­ste­hen. Beson­ders im Zweck­be­trieb\, der Ver­mö­gens­ver­wal­tung und im wirt­schaft­li­chen Geschäfts­be­trieb sind NPOs oft mit kom­ple­xen umsatz­steu­er­li­chen Anfor­de­run­gen kon­fron­tiert. \n\n\n\nIm Web­i­nar wer­den die ent­schei­den­den Aspek­te der Umsatz­steu­er­pflicht für gemein­nüt­zi­ge Orga­ni­sa­tio­nen beleuch­tet. \n\n\n\nInhal­te: \n\n\n\n\nWann fällt Umsatz­steu­er im Zweck­be­trieb und wirt­schaft­li­chen Geschäfts­be­trieb an?\n\n\n\nWel­che Unter­schie­de bestehen zwi­schen den steu­er­li­chen Sphä­ren der Gemein­nüt­zig­keit?\n\n\n\nWie kön­nen NPOs ihre Vor­steu­er­ab­zugs­be­rech­ti­gung opti­mal nut­zen?\n\n\n\nWel­che Beson­der­hei­ten gel­ten beim ermä­ßig­ten Umsatz­steu­er­satz?\n\n\n\nWie las­sen sich häu­fi­ge Feh­ler bei der Umsatz­steu­er ver­mei­den?\n\n\n\n\nEmp­feh­lung: Orga­ni­sa­tio­nen aus Deutsch­land \n\n\n\nDie­ses Web­i­nar wird ermög­licht durch: \n\n\n\n\n\n\n\nEs refe­riert \n\n\n\nAnna Danner\n\n\n\nAnna Dan­ner ist Steu­er­be­ra­te­rin und Teil des Teams bei WINHELLER in Frank­furt am Main. Sie wid­met sich vor allem der steu­er­recht­li­chen Bera­tung von Stif­tun­gen und Non­pro­fit-Orga­ni­sa­tio­nen. Als ver­sier­te Ansprech­part­ne­rin in allen Fra­gen des Steu­er- und des Gemein­nüt­zig­keits­rechts steht sie Ihren Man­dan­ten mit Rat und Tat zur Sei­te. \n\n\n\nInfos und Anmel­dung unter: Umsatz­steu­er im Zweck­be­trieb und wirt­schaft­li­chen Geschäfts­be­trieb
URL:https://freiwilligenagentur-bielefeld.de/veranstaltung/umsatzsteuer-im-zweckbetrieb-und-wirtschaftlichen-geschaeftsbetrieb
CATEGORIES:Workshop / Fortbildung
END:VEVENT
BEGIN:VEVENT
DTSTART;TZID=Europe/Berlin:20250527T170000
DTEND;TZID=Europe/Berlin:20250527T181500
DTSTAMP:20260424T123538
CREATED:20250512T110849Z
LAST-MODIFIED:20250512T110851Z
UID:10000016-1748365200-1748369700@freiwilligenagentur-bielefeld.de
SUMMARY:DSEEerklärt Social Media Teil 1: Da geht noch was – Mit Content Recycling zu mehr Effizienz
DESCRIPTION:Kos­ten­lo­ses Semi­nar der DSEE \n\n\n\nKurz­be­schrei­bung: Stellt ihr euch regel­mä­ßig die Fra­ge “Was sol­len wir pos­ten?” Damit seid ihr nicht allein. Für vie­le Ver­ei­ne ist die effi­zi­en­te Nut­zung bestehen­der Inhal­te eine Her­aus­for­de­rung. In die­sem Online-Semi­nar zei­gen wir euch\, wie ihr vor­han­de­ne Ver­eins­in­hal­te (z. B. Web­site­tex­te\, Bro­schü­ren oder Erfah­rungs­be­rich­te) effi­zi­ent für Social Media und ande­re Kanä­le nut­zen könnt. Wir erar­bei­ten Metho­den zur Erstel­lung von Micro­con­tent und Social-Media-Posts\, sodass die Fra­ge „Was sol­len wir pos­ten?“ end­lich beant­wor­tet ist. \n\n\n\nZiel­grup­pe: Die­ses Online-Semi­nar rich­tet sich an Enga­gier­te mit Grund­kennt­nis­sen und ers­ten Erfah­run­gen. \n\n\n\nRefe­ren­tin: Kat­rin Gild­ner \n\n\n\n Copy­right: Kat­rin Gild­ner \n\n\n\nKat­rin Gild­ner arbei­tet als Kom­mu­ni­ka­ti­ons­be­ra­te­rin und frei­be­ruiche Dozen­tin mit einem Schwer­punkt auf Öffent­lich­keits­ar­beit und digi­ta­le Kom­mu­ni­ka­ti­on für Ver­ei­ne und sozia­le Orga­ni­sa­tio­nen. Zusam­men mit Lui­sa Blen­din­ger hat sie die Platt­form erzaehldavon.de ent­wi­ckelt\, auf der Ver­ei­ne und Enga­gier­te kos­ten­lo­se Selbst­lern­in­hal­te zu Kom­mu­ni­ka­ti­ons­the­men fin­den. \n\n\n\nInfo und Anmel­dung: #DSEE­er­klärt Social Media Teil 1: Da geht noch was — Mit Con­tent Recy­cling zu mehr Effi­zi­enz — Deut­sche Stif­tung für Enga­ge­ment und Ehren­amt
URL:https://freiwilligenagentur-bielefeld.de/veranstaltung/dseeerklaert-social-media-teil-1-da-geht-noch-was-mit-content-recycling-zu-mehr-effizienz-2
CATEGORIES:Workshop / Fortbildung
ORGANIZER;CN="Deutsche Stiftung f%C3%BCr Engagement und Ehrenamt":MAILTO:hallo@d.s.e.e.de
END:VEVENT
BEGIN:VEVENT
DTSTART;TZID=Europe/Berlin:20250527T170000
DTEND;TZID=Europe/Berlin:20250527T183000
DTSTAMP:20260424T123538
CREATED:20250508T091443Z
LAST-MODIFIED:20250508T091559Z
UID:10000004-1748365200-1748370600@freiwilligenagentur-bielefeld.de
SUMMARY:#DSEEerklärt Social Media Teil 1: Da geht noch was – Mit Content Recycling zu mehr Effizienz
DESCRIPTION:Kos­ten­lo­ses Semi­nar der DSEE \n\n\n\nKurz­be­schrei­bung: Stellt ihr euch regel­mä­ßig die Fra­ge “Was sol­len wir pos­ten?” Damit seid ihr nicht allein. Für vie­le Ver­ei­ne ist die effi­zi­en­te Nut­zung bestehen­der Inhal­te eine Her­aus­for­de­rung. In die­sem Online-Semi­nar zei­gen wir euch\, wie ihr vor­han­de­ne Ver­eins­in­hal­te (z. B. Web­site­tex­te\, Bro­schü­ren oder Erfah­rungs­be­rich­te) effi­zi­ent für Social Media und ande­re Kanä­le nut­zen könnt. Wir erar­bei­ten Metho­den zur Erstel­lung von Micro­con­tent und Social-Media-Posts\, sodass die Fra­ge „Was sol­len wir pos­ten?“ end­lich beant­wor­tet ist. \n\n\n\nZiel­grup­pe: Die­ses Online-Semi­nar rich­tet sich an Enga­gier­te mit Grund­kennt­nis­sen und ers­ten Erfah­run­gen. \n\n\n\nRefe­ren­tin: Kat­rin Gild­ner \n\n\n\nInfo und Anmel­dung: #DSEE­er­klärt Social Media Teil 1: Da geht noch was — Mit Con­tent Recy­cling zu mehr Effi­zi­enz — Deut­sche Stif­tung für Enga­ge­ment und Ehren­amt
URL:https://freiwilligenagentur-bielefeld.de/veranstaltung/dseeerklaert-social-media-teil-1-da-geht-noch-was-mit-content-recycling-zu-mehr-effizienz
END:VEVENT
BEGIN:VEVENT
DTSTART;TZID=Europe/Berlin:20250528T170000
DTEND;TZID=Europe/Berlin:20250528T181500
DTSTAMP:20260424T123538
CREATED:20250512T111336Z
LAST-MODIFIED:20250512T111337Z
UID:10000017-1748451600-1748456100@freiwilligenagentur-bielefeld.de
SUMMARY:DSEEerklärt Social Media Teil 2: Alles außer lauwarm – Social Media strategisch nutzen
DESCRIPTION:Kos­ten­lo­ses Semi­nar der DSEE \n\n\n\nKurz­be­schrei­bung: Ist unser Social-Media-Auf­tritt nur „lau­warm“? Vie­le Ver­ei­ne nut­zen Social Media nur spo­ra­disch\, was zwar eini­ge treue Fans erreicht\, aber nicht effek­tiv neue Ziel­grup­pen erschließt oder die Ver­eins­zie­le unter­stützt. Das führt oft zu Unzu­frie­den­heit und Frust unter Ehren- und Haupt­amt­li­chen. In die­sem Online-Semi­nar dis­ku­tie­ren wir mit euch die Funk­ti­ons­lo­gik von Social Media und erör­tern\, war­um es für euch sinn­voll ist\, für einen kla­ren Ansatz – sei es eine pas­si­ve oder eine akti­ve Stra­te­gie – zu ent­schei­den. \n\n\n\nZiel­grup­pe: Die­ses Online-Semi­nar rich­tet sich an Enga­gier­te\, die bereits Vor­kennt­nis­se und Erfah­run­gen in die­sem Bereich haben. \n\n\n\nRefe­ren­tin: Kat­rin Gild­ner \n\n\n\n Copy­right: Kat­rin Gild­ner \n\n\n\nKat­rin Gild­ner arbei­tet als Kom­mu­ni­ka­ti­ons­be­ra­te­rin und frei­be­ruiche Dozen­tin mit einem Schwer­punkt auf Öffent­lich­keits­ar­beit und digi­ta­le Kom­mu­ni­ka­ti­on für Ver­ei­ne und sozia­le Orga­ni­sa­tio­nen. Zusam­men mit Lui­sa Blen­din­ger hat sie die Platt­form erzaehldavon.de ent­wi­ckelt\, auf der Ver­ei­ne und Enga­gier­te kos­ten­lo­se Selbst­lern­in­hal­te zu Kom­mu­ni­ka­ti­ons­the­men fin­den. \n\n\n\nInfo und Anmel­dung: #DSEE­er­klärt Social Media Teil 2: Alles außer lau­warm — Social Media stra­te­gisch nut­zen — Deut­sche Stif­tung für Enga­ge­ment und Ehren­amt
URL:https://freiwilligenagentur-bielefeld.de/veranstaltung/dseeerklaert-social-media-teil-2-alles-ausser-lauwarm-social-media-strategisch-nutzen
END:VEVENT
END:VCALENDAR