BEGIN:VCALENDAR
VERSION:2.0
PRODID:-//Freiwilligenagentur Bielefeld - ECPv6.15.20//NONSGML v1.0//EN
CALSCALE:GREGORIAN
METHOD:PUBLISH
X-WR-CALNAME:Freiwilligenagentur Bielefeld
X-ORIGINAL-URL:https://freiwilligenagentur-bielefeld.de
X-WR-CALDESC:Veranstaltungen für Freiwilligenagentur Bielefeld
REFRESH-INTERVAL;VALUE=DURATION:PT1H
X-Robots-Tag:noindex
X-PUBLISHED-TTL:PT1H
BEGIN:VTIMEZONE
TZID:Europe/Berlin
BEGIN:DAYLIGHT
TZOFFSETFROM:+0100
TZOFFSETTO:+0200
TZNAME:CEST
DTSTART:20240331T010000
END:DAYLIGHT
BEGIN:STANDARD
TZOFFSETFROM:+0200
TZOFFSETTO:+0100
TZNAME:CET
DTSTART:20241027T010000
END:STANDARD
BEGIN:DAYLIGHT
TZOFFSETFROM:+0100
TZOFFSETTO:+0200
TZNAME:CEST
DTSTART:20250330T010000
END:DAYLIGHT
BEGIN:STANDARD
TZOFFSETFROM:+0200
TZOFFSETTO:+0100
TZNAME:CET
DTSTART:20251026T010000
END:STANDARD
BEGIN:DAYLIGHT
TZOFFSETFROM:+0100
TZOFFSETTO:+0200
TZNAME:CEST
DTSTART:20260329T010000
END:DAYLIGHT
BEGIN:STANDARD
TZOFFSETFROM:+0200
TZOFFSETTO:+0100
TZNAME:CET
DTSTART:20261025T010000
END:STANDARD
END:VTIMEZONE
BEGIN:VEVENT
DTSTART;TZID=Europe/Berlin:20250602T170000
DTEND;TZID=Europe/Berlin:20250602T190000
DTSTAMP:20260423T010854
CREATED:20250512T111740Z
LAST-MODIFIED:20250520T140556Z
UID:10000018-1748883600-1748890800@freiwilligenagentur-bielefeld.de
SUMMARY:Ehrenamtliche Teams führen
DESCRIPTION:Kos­ten­lo­ses digi­ta­les Semi­nar der West­fa­len­aka­de­mie \n\n\n\nEhren­amt­li­che Vor­sit­zen­de kön­nen sich ihre Teams nicht selbst nach Kom­pe­tenz und Anfor­de­rungs­pro­fil zusam­men­stel­len. Ihre Teams wer­den aus den unter­schied­lichs­ten Grün­den so gewählt. Die Arbeit mit häu­fig beson­ders hete­ro­ge­nen Teams und ohne dis­zi­pli­na­ri­sche Mög­lich­kei­ten ist oft nicht ein­fach. Das Feh­len mate­ri­el­ler Anrei­ze erschwert oft die Len­kung der Vor­stands­ar­beit. \n\n\n\nIst Ihr Vor­stand schon ein Team? \n\n\n\nWel­che Zie­le und Inter­es­sen ver­fol­gen Ihre Vor­stands­kol­le­gIn­nen? \n\n\n\nWer arbei­tet ger­ne mit wem und an was? \n\n\n\nDas sind nur drei von vie­len wich­ti­gen Fra­gen\, für die im Ehren­amt oft gar kein Raum und kei­ne Zeit bleibt. Und doch ist es maß­geb­lich\, sich mit den ziel­füh­ren­den Fra­ge­stel­lun­gen zu beschäf­ti­gen. \n\n\n\nWir the­ma­ti­sie­ren in unse­rem Online­an­ge­bot\, wie Sie die Team­dy­na­mik Ihres Teams beson­ders nut­zen kön­nen. Sie ler­nen die Erfolgs­he­bel ken­nen\, im Ehren­amt erfolg­reich zu steu­ern. \n\n\n\nGrund­la­gen der Team­struk­tu­ren\, Team­dy­na­mik und ehren­amt­li­che Zusam­men­ar­beit wer­den kon­kret auf die Ver­eins- und Ver­bands­ar­beit im Ehren­amt bezo­gen. Wir spre­chen über Ihre spe­zi­fi­schen Her­aus­for­de­run­gen und zei­gen die Erfolgs­fak­to­ren ehren­amt­li­cher Team­ar­beit auf. \n\n\n\nNatür­lich bleibt auch Zeit für Ihre Fra­ge­stel­lun­gen und kon­kre­ten Her­aus­for­de­run­gen. Unse­re Refe­ren­tin Ina Ens­er­oth wird Sie mit Ihren Ant­wor­ten aber auch mit einem ange­lei­te­ten Best Prac­ti­ce Aus­tausch unter­stüt­zen. \n\n\n\nRefe­ren­tin: \n\n\n\nIna Ens­er­oth arbei­tet seit 1998 als Kom­mu­ni­ka­ti­ons­trai­ne­rin und Mode­ra­to­rin. Sie ist die Geschäfts­füh­re­rin der Kom­mu­ni­ka­ti­ons­be­ra­tung Fun­fair & Ice. \n\n\n\nAnmel­dung unter: Ehren­amt­li­che Teams füh­ren – West­fa­len Aka­de­mie
URL:https://freiwilligenagentur-bielefeld.de/veranstaltung/ehrenamtliche-teams-fuehren
CATEGORIES:Workshop / Fortbildung
END:VEVENT
BEGIN:VEVENT
DTSTART;TZID=Europe/Berlin:20250605T150000
DTEND;TZID=Europe/Berlin:20250605T180000
DTSTAMP:20260423T010855
CREATED:20250520T141750Z
LAST-MODIFIED:20250527T095518Z
UID:10000030-1749135600-1749146400@freiwilligenagentur-bielefeld.de
SUMMARY:Bedrohte Demokratie – Herausforderungen\, Widersprüche und Möglichkeiten im demokratischen Miteinander
DESCRIPTION:In die­sem Semi­nar beschäf­ti­gen wir uns mit aktu­el­len Her­aus­for­de­run­gen für die Demo­kra­tie.Was lösen sozia­le Ungleich­heit oder Gefüh­le von Unsi­cher­heit und Über­for­de­rung ange­sichts glo­ba­ler Kri­sen – wie Krieg oder Kli­ma­wan­del – in uns aus?Wie wir­ken sich die­se Erfah­run­gen auf unser demo­kra­ti­sches Zusam­men­le­ben aus?Wir dis­ku­tie­ren\, wie Antidemokrat*innen sol­che Kri­sen für ihre Zwe­cke nut­zen – und was es braucht\, um dem mit demo­kra­ti­schen Ant­wor­ten zu begeg­nen. \n\n\n\nOrt: Semi­nar­raum SO2 — Ein­gang über die Kaval­le­rie­stra­ße 17 in der 2. Eta­ge  \n\n\n\nAnmel­dung per Mail oder per Tele­fon.
URL:https://freiwilligenagentur-bielefeld.de/veranstaltung/878
LOCATION:Seminarraum SO2\, Kavalleriestraße 17\, Bielefeld\, Germany
ORGANIZER;CN="Freiwilligenagentur Bielefeld":MAILTO:info@freiwilligenagentur-bielefeld.de
END:VEVENT
BEGIN:VEVENT
DTSTART;TZID=Europe/Berlin:20250605T170000
DTEND;TZID=Europe/Berlin:20250605T181500
DTSTAMP:20260423T010855
CREATED:20250512T112028Z
LAST-MODIFIED:20250512T112030Z
UID:10000019-1749142800-1749147300@freiwilligenagentur-bielefeld.de
SUMMARY:DSEEinformiert: Mittelabrufe\, Mittelverwendung\, Verwendungsnachweise
DESCRIPTION:Kos­ten­lo­ses Online-Semi­nar der DSEE \n\n\n\nEurer För­der­an­trag ist bewil­ligt? Ihr steckt mit­ten in der Umset­zung eures bewil­lig­ten Pro­jek­tes oder sogar schon kurz vor dem Pro­jekt­ab­schluss? In jeder Pha­se eines För­der­pro­jek­tes gibt es Fra­gen zur finan­zi­el­len Abwick­lung: Wann und wie muss ein Mit­tel­ab­ruf ein­ge­reicht wer­den? Wie und wofür dür­fen die geneh­mig­ten Mit­tel ver­wen­det wer­den? Wel­che Doku­men­ta­ti­ons­pflich­ten gibt es? Wie funk­tio­niert ein Ver­wen­dungs­nach­weis? Was gehört in einen Sach­be­richt? \n\n\n\nDas kom­pak­te Online-Semi­nar beant­wor­tet eure Fra­gen rund um das The­ma För­der­mit­tel: vom ers­ten Mit­tel­ab­ruf über die kor­rek­te Ver­wen­dung der För­der­mit­tel bis hin zum Nach­weis der Mit­tel­ver­wen­dung zum Ende eures Pro­jek­tes. \n\n\n\nInfo und Anmel­dung unter: #DSEE­in­for­miert: Mit­tel­ab­ru­fe\, Mit­tel­ver­wen­dung\, Ver­wen­dungs­nach­wei­se — Deut­sche Stif­tung für Enga­ge­ment und Ehren­amt
URL:https://freiwilligenagentur-bielefeld.de/veranstaltung/dseeinformiert-mittelabrufe-mittelverwendung-verwendungsnachweise
CATEGORIES:Workshop / Fortbildung
END:VEVENT
BEGIN:VEVENT
DTSTART;TZID=Europe/Berlin:20250605T170000
DTEND;TZID=Europe/Berlin:20250605T183000
DTSTAMP:20260423T010855
CREATED:20250508T133753Z
LAST-MODIFIED:20250508T140218Z
UID:10000006-1749142800-1749148200@freiwilligenagentur-bielefeld.de
SUMMARY:Auf die Haltung kommt es an – Wege zur Nachwuchsgewinnung
DESCRIPTION:Kos­ten­lo­ser Work­shop der Lan­des­ser­vice­stel­le NRW. \n\n\n\nWar­um ist es so schwer\, Nach­wuchs fürs Ehren­amt zu gewin­nen? Was hilft dabei\, jun­ge Leu­te für eure Sache zu begeis­tern und was könnt ihr selbst als Ver­ein tun\, damit neue Mit­glie­der sich bei euch wohl­füh­len?Vie­le jun­ge Men­schen enga­gie­ren sich oder haben grund­sätz­lich Inter­es­se\, sich zu enga­gie­ren. Oft pas­sen aller­dings die Struk­tu­ren von Ver­ei­nen nicht zu den Lebens­ent­wür­fen jun­ger Men­schen. Ist das in eurem Ver­ein viel­leicht auch der Fall?In die­sem Web­i­nar erfahrt ihr\, wie ihr euch öff­nen könnt\, damit jun­ge Leu­te kom­men und blei­ben. Jani­na Krü­ger von der Lan­des­ar­beits­ge­mein­schaft der Frei­wil­li­gen­agen­tu­ren in Nord­rhein-West­fa­len gibt aus ihrer lang­jäh­ri­gen Erfah­rung in der Zusam­men­ar­beit mit Ver­ei­nen und in unter­schied­li­chen Pro­jek­ten zur Nach­wuchs­ge­win­nung einen inspi­rie­ren­den Impuls zum The­ma.Sven­ja Bloom und Gif­ty Wia­fe\, Pro­mo­torin­nen für Jun­ges Enga­ge­ment beim „Eine Welt Netz NRW e.V“\, berich­ten\, wie sie jun­ge Men­schen für Pro­jek­te und auch ein wei­ter­füh­ren­des Enga­ge­ment gewin­nen. \n\n\n\nFor­mat: \n\n\n\nEure Fra­gen per Chat und Wort­mel­dung \n\n\n\nOnline via Zoom Mee­ting \n\n\n\nZum Aus­tausch und Mit­ma­chen – bit­te mit Kame­ra und Mikro­fon \n\n\n\nAnmel­dung und Info: Jun­ge Enga­gier­te für euren Ver­ein gewin­nen – mit der rich­ti­gen Hal­tung
URL:https://freiwilligenagentur-bielefeld.de/veranstaltung/auf-die-haltung-kommt-es-an-wege-zur-nachwuchsgewinnung
END:VEVENT
BEGIN:VEVENT
DTSTART;TZID=Europe/Berlin:20250610T170000
DTEND;TZID=Europe/Berlin:20250610T181500
DTSTAMP:20260423T010855
CREATED:20250512T113618Z
LAST-MODIFIED:20250512T113620Z
UID:10000020-1749574800-1749579300@freiwilligenagentur-bielefeld.de
SUMMARY:DSEEerklärt Unternehmenszusammenarbeit Teil 1: Hand in Hand – Erfolgreiche Kooperationen zwischen Wirtschaft und Vereinen
DESCRIPTION:Kos­ten­lo­ses Semi­nar der DSEE \n\n\n\nKurz­be­schrei­bung: Vie­le Unter­neh­men enga­gie­ren sich gesell­schaft­lich und arbei­ten mit gemein­nüt­zi­gen Orga­ni­sa­tio­nen zusam­men. In die­sem Online-Semi­nar erfahrt ihr\, war­um sol­che Koope­ra­tio­nen wich­tig sind und wel­che Vor­tei­le sie für euren Ver­ein bie­ten. Wir zei­gen euch\, wel­che For­men die­se Zusam­men­ar­beit anneh­men kann\, wel­che Erwar­tun­gen Unter­neh­men an ihre Partner:innen haben und wie bei­de Sei­ten von­ein­an­der pro­fi­tie­ren kön­nen. Ihr lernt\, wie ihr Unter­neh­men als star­ke Part­ner gewinnt und gemein­sam nach­hal­ti­gen Mehr­wert schafft! \n\n\n\nRefe­rent: André Koch-Engel­mann \n\n\n\n\n\n\n\nAndré Koch-Engel­mann ist Geschäfts­füh­rer von UPJ und seit über 20 Jah­ren im gemein­nüt­zi­gen Sek­tor tätig. Von Anfang an beglei­tet ihn die Fra­ge\, wie durch die Zusam­men­ar­beit von mög­lichs­te Vie­len gesell­schaft­li­cher Mehr­wert ent­steht. Bei UPJ ver­ant­wor­tet er daher fol­ge­rich­tig den Arbeits­be­reich zu loka­lem Enga­ge­ment von Unter­neh­men und sek­to­ren­ver­bin­den­den Koope­ra­tio­nen. \n\n\n\nInfo und Anmel­dung: #DSEE­er­klärt Unter­neh­mens­zu­sam­men­ar­beit Teil 1: Hand in Hand — Erfolg­rei­che Koope­ra­tio­nen zwi­schen Wirt­schaft und Ver­ei­nen — Deut­sche Stif­tung für Enga­ge­ment und Ehren­amt
URL:https://freiwilligenagentur-bielefeld.de/veranstaltung/dseeerklaert-unternehmenszusammenarbeit-teil-1-hand-in-hand-erfolgreiche-kooperationen-zwischen-wirtschaft-und-vereinen
CATEGORIES:Workshop / Fortbildung
END:VEVENT
BEGIN:VEVENT
DTSTART;TZID=Europe/Berlin:20250611T170000
DTEND;TZID=Europe/Berlin:20250611T181500
DTSTAMP:20260423T010855
CREATED:20250512T113809Z
LAST-MODIFIED:20250512T113811Z
UID:10000021-1749661200-1749665700@freiwilligenagentur-bielefeld.de
SUMMARY:DSEEerklärt Unternehmenszusammenarbeit Teil 2: Corporate Volunteering – Mehr Wertfür alle Seiten
DESCRIPTION:Kos­ten­lo­ses Semi­nar der DSEE \n\n\n\nKurz­be­schrei­bung: Immer mehr Unter­neh­men unter­stüt­zen das gesell­schaft­li­che Enga­ge­ment ihrer Mit­ar­bei­ten­den und inte­grie­ren „Cor­po­ra­te Vol­un­tee­ring“ (CV) als fes­ten Bestand­teil ihrer Unter­neh­mens­kul­tur. In die­sem Online-Semi­nar erfahrt ihr\, wie gemein­nüt­zi­ge Orga­ni­sa­tio­nen von CV pro­fi­tie­ren kön­nen und wel­che Rah­men­be­din­gun­gen für eine erfolg­rei­che Umset­zung wich­tig sind. Wir stel­len bewähr­te For­ma­te und Qua­li­täts­kri­te­ri­en vor und hel­fen euch ein­zu­schät­zen\, ob CV für euren Ver­ein sinn­voll ist. Erfahrt\, wie ihr mit Unter­neh­men zusam­men­ar­bei­tet\, um gemein­sam mehr zu bewir­ken! \n\n\n\nRefe­ren­tin: Ellen Sturm \n\n\n\n\n\n\n\nEllen Sturm ist seit 2012 für die The­men Cor­po­ra­te Citi­zen­ship und Cor­po­ra­te Vol­un­tee­ring bei UPJ (Netz­werk für Unter­neh­mens­ver­ant­wor­tung und gesell­schaft­li­ches Enga­ge­ment) ver­ant­wort­lich. Sie berät Unter­neh­men\, Non­pro­ts und Ver­wal­tun­gen\, ent­wi­ckelt inno­va­ti­ve sek­to­ren­ver­bin­den­de For­ma­te und lei­tet loka­le sowie bun­des­wei­te Cor­po­ra­te Vol­un­tee­ring-Pro­gram­me. Zu ihren Pro­jek­ten zäh­len Kom­pe­tenz­spen­den wie die „Nacht­schicht Ber­lin“\, Per­so­nal­ent­wick­lungs­maß­nah­men und Work­shops. Zudem hat sie Exper­ti­se im Bereich digi­ta­ler Platt­for­men für das Manage­ment von Cor­po­ra­te Vol­un­tee­ring-Pro­jek­ten auf­ge­baut. \n\n\n\nInfo und Anmel­dung: #DSEE­er­klärt Unter­neh­mens­zu­sam­men­ar­beit Teil 2: Cor­po­ra­te Vol­un­tee­ring – Mehr Wert­für alle Sei­ten — Deut­sche Stif­tung für Enga­ge­ment und Ehren­amt
URL:https://freiwilligenagentur-bielefeld.de/veranstaltung/dseeerklaert-unternehmenszusammenarbeit-teil-2-corporate-volunteering-mehr-wertfuer-alle-seiten
CATEGORIES:Workshop / Fortbildung
END:VEVENT
BEGIN:VEVENT
DTSTART;TZID=Europe/Berlin:20250611T170000
DTEND;TZID=Europe/Berlin:20250611T183000
DTSTAMP:20260423T010855
CREATED:20250508T134354Z
LAST-MODIFIED:20250508T135258Z
UID:10000007-1749661200-1749666600@freiwilligenagentur-bielefeld.de
SUMMARY:Müssen wir jetzt TikTok? – Junge Engagierte erreichen
DESCRIPTION:Kos­ten­lo­ser Work­shop der Lan­des­ser­vice­stel­le NRW. \n\n\n\nIhr seid auf der Suche nach neu­en Enga­gier­ten? Ihr möch­tet jun­ge Leu­te für euern Ver­ein begeis­tern und wollt wis­sen\, wel­che Mög­lich­kei­ten es gibt\, jun­ge Men­schen anzu­spre­chen? Wo hal­ten sie sich auf und wie könnt ihr euren Ver­ein sicht­bar und attrak­tiv machen? \n\n\n\nIm Online-Work­shop erhal­tet ihr inspi­rie­ren­de Impul­se von Dr. Jörn Ben­zin­ger vom Bür­ger­ver­ein Essen-Haar­zopf / Fuler­um e.V.\, wie ihr euren Ver­ein gezielt bei jun­gen Men­schen bekann­ter machen könnt. Ihr erfahrt\, wie ihr Social Media sinn­voll für die Nach­wuchs­ge­win­nung nutzt\, aber auch off­line durch geziel­te Kom­mu­ni­ka­ti­on neue Ehren­amt­li­che gewinnt. \n\n\n\nAußer­dem zei­gen Ruth-Anne Damm vom Zweit­zeu­gen e.V. und die jun­ge Enga­gier­te Fin­ja Schmeink\, wie sie unter­schied­li­che jun­ge Ziel­grup­pen indi­vi­du­ell anspre­chen und lang­fris­tig für ihr Enga­ge­ment begeis­tern. \n\n\n\nFor­mat: \n\n\n\n\nOnline via Zoom Mee­ting\n\n\n\nZum Aus­tausch und Mit­ma­chen – bit­te mit Kame­ra und Mikro­fon\n\n\n\nEure Fra­gen per Chat und Wort­mel­dung\n\n\n\n\nAnmel­dung und Info unter: Müs­sen wir jetzt Tik­Tok? – Jun­ge Enga­gier­te errei­chen
URL:https://freiwilligenagentur-bielefeld.de/veranstaltung/muessen-wir-jetzt-tiktok-junge-engagierte-erreichen
END:VEVENT
BEGIN:VEVENT
DTSTART;TZID=Europe/Berlin:20250616T170000
DTEND;TZID=Europe/Berlin:20250616T183000
DTSTAMP:20260423T010855
CREATED:20250508T134917Z
LAST-MODIFIED:20250508T140516Z
UID:10000008-1750093200-1750098600@freiwilligenagentur-bielefeld.de
SUMMARY:Junge Engagierte fördern? Einblicke und Mitgestaltung ermöglichen!
DESCRIPTION:Kos­ten­lo­ser Work­shop der Lan­des­ser­vice­stel­le NRW. \n\n\n\nWie könnt ihr jun­ge Men­schen schon früh für euren Ver­ein gewin­nen? Wie kann ihnen der Ein­stieg erleich­tert wer­den und wel­che For­ma­te pas­sen zu ihrem All­tag und ihren Inter­es­sen? Wie kön­nen sie am akti­ven Ver­eins­le­ben betei­ligt wer­den? \n\n\n\nVie­le jun­ge Men­schen wol­len sich ein­brin­gen – aber nicht dau­er­haft bin­den. Des­halb pas­sen fle­xi­ble Ehren­amts­mo­del­le oft bes­ser zu ihren Lebens­rea­li­tä­ten. Gefragt sind daher neue For­ma­te\, die auch im Ver­ein funk­tio­nie­ren kön­nen: pro­jekt­be­zo­ge­ne Auf­ga­ben\, fle­xi­ble Zeit­mo­del­le und vor allem auch Mit­spra­che­mög­lich­kei­ten im Ver­eins­ge­sche­hen. \n\n\n\nIm Online-Work­shop erfahrt ihr von Sebas­ti­an West­phal von der Ehren­amts­agen­tur Gel­sen­kir­chen e.V.\, wie der Hel­den­pass es schafft\, jun­ge Men­schen für das Enga­ge­ment zu begeis­tern. Ihr erfahrt\, wel­che For­ma­te zur Lebens­welt jun­ger Men­schen pas­sen\, wie ihr jun­ge Men­schen schon früh an euren Ver­ein her­an­füh­ren könnt und wie ihr eure Struk­tur so wei­ter­denkt\, dass ihr lang­fris­tig gemein­sam stär­ker wer­det. \n\n\n\nFor­mat: \n\n\n\n\nOnline via Zoom Mee­ting\n\n\n\nZum Aus­tausch und Mit­ma­chen – bit­te mit Kame­ra und Mikro­fon\n\n\n\nEure Fra­gen per Chat und Wort­mel­dung\n\n\n\n\nAnmel­dung und Info: Jun­ge Enga­gier­te för­dern? Ein­bli­cke und Mit­ge­stal­tung ermög­li­chen!
URL:https://freiwilligenagentur-bielefeld.de/veranstaltung/junge-engagierte-foerdern-einblicke-und-mitgestaltung-ermoeglichen
END:VEVENT
BEGIN:VEVENT
DTSTART;TZID=Europe/Berlin:20250625T170000
DTEND;TZID=Europe/Berlin:20250625T181500
DTSTAMP:20260423T010855
CREATED:20250512T114034Z
LAST-MODIFIED:20250512T114036Z
UID:10000022-1750870800-1750875300@freiwilligenagentur-bielefeld.de
SUMMARY:Gemeinsam gestalten: Ehrenamtliches Engagement lebendig machen
DESCRIPTION:Kos­ten­lo­ses Semi­ni­ar der West­fa­len­aka­de­mie \n\n\n\nEnga­gier­te Ver­eins­mit­glie­der sind der Schlüs­sel zu einem leben­di­gen und nach­hal­ti­gen Ver­eins­le­ben – doch vie­le Ver­ei­ne ste­hen vor der Her­aus­for­de­rung\, die­se Men­schen zu fin­den und lang­fris­tig zu bin­den. In die­sem inter­ak­ti­ven Online-Work­shop ler­nen Sie pra­xis­nah und anwend­bar\, wie Sie Ehren­amt­li­che gezielt anspre­chen\, wel­che Enga­ge­ment-Typen es gibt und wie Sie Men­schen im Ver­ein för­dern\, pas­send zu ihren Inter­es­sen und Fähig­kei­ten. Gemein­sam beleuch­ten wir Metho­den\, mit denen sich Ehren­amt­li­che ein­brin­gen und die Ver­eins­ar­beit aktiv mit­ge­stal­ten kön­nen. \n\n\n\nZiel­grup­pe: Ehren­amt­li­che und Ver­eins­ver­ant­wort­li­che\, die ihre Mit­glie­der moti­vie­ren und lang­fris­tig bin­den möch­ten. \n\n\n\nMetho­den: Infor­ma­ti­on und Wis­sens­ver­mitt­lung in klei­nen Prä­sen­ta­tio­nen\, Aus­tausch in Klein­grup­pen\, Dis­kus­si­on und inter­ak­ti­ve Erar­bei­tung von Lösungs­an­sät­zen. \n\n\n\nVor­aus­set­zun­gen: Für eine leben­di­ge und inter­ak­ti­ve Teil­nah­me am Online-Semi­nar ist die Nut­zung von Mikro­fon und Kame­ra erfor­der­lich und aus­drück­lich erwünscht – so schaf­fen wir gemein­sam eine akti­ve Aus­tausch-Atmo­sphä­re\, die über eine rein pas­si­ve Teil­nah­me hin­aus­geht. \n\n\n\nDa die Anzahl an Plät­zen sehr begrenzt ist\, möch­ten wir Sie bit­ten\, sich nur anzu­mel­den\, wenn Sie sicher teil­neh­men kön­nen. Soll­ten Sie ver­hin­dert sein\, mel­den Sie sich bit­te per Mail an seminare@westfalen-akademie.nrw ab\, damit wir Ihren Platz frei­ge­ben kön­nen. \n\n\n\nInfo und Anmel­dung unter: Gemein­sam gestal­ten: Ehren­amt­li­ches Enga­ge­ment leben­dig machen – West­fa­len Aka­de­mie
URL:https://freiwilligenagentur-bielefeld.de/veranstaltung/gemeinsam-gestalten-ehrenamtliches-engagement-lebendig-machen
CATEGORIES:Workshop / Fortbildung
END:VEVENT
BEGIN:VEVENT
DTSTART;TZID=Europe/Berlin:20250625T170000
DTEND;TZID=Europe/Berlin:20250625T183000
DTSTAMP:20260423T010855
CREATED:20250508T135721Z
LAST-MODIFIED:20250512T084047Z
UID:10000009-1750870800-1750876200@freiwilligenagentur-bielefeld.de
SUMMARY:Tue Gutes und profitiere davon – mit Engagementnachweis NRW und Co.
DESCRIPTION:Kos­ten­lo­ser Work­shop der Lan­des­ser­vice­stel­le NRW. \n\n\n\nWie kön­nen Ver­ei­ne den enga­gier­ten Ein­satz ihrer Mit­glie­der sicht­bar machen? Was für eine Rol­le spie­len dabei Zer­ti­fi­ka­te? Und wel­che Instru­men­te bie­tet das Land Nord­rhein-West­fa­len\, um bür­ger­schaft­li­ches Enga­ge­ment anzu­er­ken­nen? \n\n\n\nGemein­nüt­zi­ge Ver­ei­ne\, die den wert­vol­len Ein­satz ihrer Enga­gier­ten aner­ken­nen möch­ten – auch\, damit das Enga­ge­ment ihrer Ehren­amt­li­chen zum Bei­spiel bei Bewer­bungs­pro­zes­sen nach­ge­wie­sen wer­den kann\, haben die Mög­lich­keit\, den Enga­ge­ment­nach­weis NRW aus­zu­stel­len. \n\n\n\nEhren­amt­li­che\, die sich in beson­de­rem zeit­li­chen Maße für das Gemein­wohl enga­gie­ren\, kön­nen außer­dem die Ehren­amts­kar­te NRW bean­tra­gen und mit ihr zahl­rei­che Ver­güns­ti­gun­gen in Anspruch neh­men. Dafür stellt das Land auch eine prak­ti­sche App zur Ver­fü­gung. \n\n\n\nBei­de Instru­men­te der Aner­ken­nung stellt euch in die­sem Web­i­nar Kari­na Con­co­ni vom Refe­rat Bür­ger­schaft­li­ches Enga­ge­ment der Staats­kanz­lei des Lan­des Nord­rhein-West­fa­len vor. Sie zeigt euch\, unter wel­chen Vor­aus­set­zun­gen Ver­ei­ne die Aus­stel­lungs­be­rech­ti­gung für den Enga­ge­ment­nach­weis NRW erhal­ten. Außer­dem infor­miert sie dar­über\, wer eurer Mit­glie­der die Ehren­amts­kar­te NRW bean­tra­gen kann und was die Vor­tei­le der App sind. \n\n\n\nFor­mat: \n\n\n\n\nOnline via Zoom Mee­ting\n\n\n\nZum Aus­tausch und Mit­ma­chen – bit­te mit Kame­ra und Mikro­fon\n\n\n\nEure Fra­gen per Chat und Wort­mel­dung\n\n\n\n\nAnmel­dung und Info: Tue Gutes und pro­fi­tie­re davon – mit Enga­ge­ment­nach­weis NRW und Co.
URL:https://freiwilligenagentur-bielefeld.de/veranstaltung/tue-gutes-und-profitiere-davon-mit-engagementnachweis-nrw-und-co
LOCATION:Online
END:VEVENT
BEGIN:VEVENT
DTSTART;TZID=Europe/Berlin:20250626T150000
DTEND;TZID=Europe/Berlin:20250626T180000
DTSTAMP:20260423T010855
CREATED:20250512T114634Z
LAST-MODIFIED:20250512T114635Z
UID:10000023-1750950000-1750960800@freiwilligenagentur-bielefeld.de
SUMMARY:Mitglieder gewinnen für den Verein
DESCRIPTION:Kos­ten­lo­ses Semi­nar der West­fa­len­aka­de­mie \n\n\n\nDas Semi­nar ver­deut­licht über theo­re­ti­sche Inputs und krea­ti­ve Grup­pen­ar­bei­ten die Bedeu­tung der Mit­glie­der­ge­win­nung und Mit­glieds­pfle­ge als kon­ti­nu­ier­li­che Auf­ga­be im Ver­ein. Dabei spielt in einem Per­spek­ti­ven­wech­sel der Blick auf die Moti­ve und Bedürf­nis­se der Ziel­grup­pe eben­so eine Rol­le wie pra­xis­na­he Ideen zur Anspra­che neu­er Mit­glie­der. Nicht zuletzt geht es um die Fra­ge\, wie Ver­ei­ne es schaf­fen\, dass neue Mit­glie­der „am Ball blei­ben“ und viel­leicht noch wei­ter Inter­es­sier­te für den Ver­ein gewin­nen. \n\n\n\nInhal­te:• Grund­la­gen der Mit­glie­der­ge­win­nung• Wahr­neh­mung des Ver­eins durch die Ziel­grup­pe• Refle­xi­on und Ver­net­zung – Erfah­rungs­aus­tausch und Good-Prac­ti­ce-Bei­spie­le \n\n\n\nRefe­ren­tin:Die erfah­re­ne Frei­wil­li­gen­ma­na­ge­rin Anne­ke Git­ter­mann hat 15 Jah­re eine Frei­wil­li­gen­agen­tur gelei­tet und 10 Jah­re die Enga­ge­ment­för­de­rung einer evan­ge­li­schen Lan­des­kir­che. Sie ist (Mit-)Autorin ver­schie­de­ner Bücher zum The­ma. \n\n\n\nDas Semi­nar fin­det im Rah­men der Rei­he West­fa­len-Aka­de­mie vor Ort in Koope­ra­ti­on mit der Frei­wil­li­gen­zen­tra­le Hagen statt. \n\n\n\nAnmel­dung unter: Mit­glie­der gewin­nen für den Ver­ein – West­fa­len Aka­de­mie
URL:https://freiwilligenagentur-bielefeld.de/veranstaltung/mitglieder-gewinnen-fuer-den-verein
LOCATION:Rathaus an der Volme\, Rathausstr. 13\, Hagen\, Germany
CATEGORIES:Workshop / Fortbildung
END:VEVENT
BEGIN:VEVENT
DTSTART;TZID=Europe/Berlin:20250626T170000
DTEND;TZID=Europe/Berlin:20250626T181500
DTSTAMP:20260423T010855
CREATED:20250512T115159Z
LAST-MODIFIED:20250512T115201Z
UID:10000024-1750957200-1750961700@freiwilligenagentur-bielefeld.de
SUMMARY:DSEEinformiert: Mittelabrufe\, Mittelverwendung\, Verwendungsnachweise
DESCRIPTION:Kos­ten­lo­ses Online-Semi­nar der DSEE \n\n\n\nEurer För­der­an­trag ist bewil­ligt? Ihr steckt mit­ten in der Umset­zung eures bewil­lig­ten Pro­jek­tes oder sogar schon kurz vor dem Pro­jekt­ab­schluss? In jeder Pha­se eines För­der­pro­jek­tes gibt es Fra­gen zur finan­zi­el­len Abwick­lung: Wann und wie muss ein Mit­tel­ab­ruf ein­ge­reicht wer­den? Wie und wofür dür­fen die geneh­mig­ten Mit­tel ver­wen­det wer­den? Wel­che Doku­men­ta­ti­ons­pflich­ten gibt es? Wie funk­tio­niert ein Ver­wen­dungs­nach­weis? Was gehört in einen Sach­be­richt? \n\n\n\nDas kom­pak­te Online-Semi­nar beant­wor­tet eure Fra­gen rund um das The­ma För­der­mit­tel: vom ers­ten Mit­tel­ab­ruf über die kor­rek­te Ver­wen­dung der För­der­mit­tel bis hin zum Nach­weis der Mit­tel­ver­wen­dung zum Ende eures Pro­jek­tes. \n\n\n\nInfo und Anmel­dung unter: #DSEE­in­for­miert: Mit­tel­ab­ru­fe\, Mit­tel­ver­wen­dung\, Ver­wen­dungs­nach­wei­se — Deut­sche Stif­tung für Enga­ge­ment und Ehren­amt
URL:https://freiwilligenagentur-bielefeld.de/veranstaltung/dseeinformiert-mittelabrufe-mittelverwendung-verwendungsnachweise-2
CATEGORIES:Workshop / Fortbildung
END:VEVENT
BEGIN:VEVENT
DTSTART;TZID=Europe/Berlin:20250629T140000
DTEND;TZID=Europe/Berlin:20250629T190000
DTSTAMP:20260423T010855
CREATED:20250616T115738Z
LAST-MODIFIED:20250616T115741Z
UID:10000035-1751205600-1751223600@freiwilligenagentur-bielefeld.de
SUMMARY:NoRacism Festival
DESCRIPTION:
URL:https://freiwilligenagentur-bielefeld.de/veranstaltung/noracism-festival/2025-06-29
END:VEVENT
END:VCALENDAR