BEGIN:VCALENDAR
VERSION:2.0
PRODID:-//Freiwilligenagentur Bielefeld - ECPv6.15.20//NONSGML v1.0//EN
CALSCALE:GREGORIAN
METHOD:PUBLISH
X-ORIGINAL-URL:https://freiwilligenagentur-bielefeld.de
X-WR-CALDESC:Veranstaltungen für Freiwilligenagentur Bielefeld
REFRESH-INTERVAL;VALUE=DURATION:PT1H
X-Robots-Tag:noindex
X-PUBLISHED-TTL:PT1H
BEGIN:VTIMEZONE
TZID:Europe/Berlin
BEGIN:DAYLIGHT
TZOFFSETFROM:+0100
TZOFFSETTO:+0200
TZNAME:CEST
DTSTART:20240331T010000
END:DAYLIGHT
BEGIN:STANDARD
TZOFFSETFROM:+0200
TZOFFSETTO:+0100
TZNAME:CET
DTSTART:20241027T010000
END:STANDARD
BEGIN:DAYLIGHT
TZOFFSETFROM:+0100
TZOFFSETTO:+0200
TZNAME:CEST
DTSTART:20250330T010000
END:DAYLIGHT
BEGIN:STANDARD
TZOFFSETFROM:+0200
TZOFFSETTO:+0100
TZNAME:CET
DTSTART:20251026T010000
END:STANDARD
BEGIN:DAYLIGHT
TZOFFSETFROM:+0100
TZOFFSETTO:+0200
TZNAME:CEST
DTSTART:20260329T010000
END:DAYLIGHT
BEGIN:STANDARD
TZOFFSETFROM:+0200
TZOFFSETTO:+0100
TZNAME:CET
DTSTART:20261025T010000
END:STANDARD
END:VTIMEZONE
BEGIN:VEVENT
DTSTART;TZID=Europe/Berlin:20250804T000000
DTEND;TZID=Europe/Berlin:20250804T235959
DTSTAMP:20260422T214525
CREATED:20250616T114236Z
LAST-MODIFIED:20250714T081418Z
UID:10000034-1754265600-1754351999@freiwilligenagentur-bielefeld.de
SUMMARY:Seelsorger:in im Ehrenamt werden
DESCRIPTION:Seelsorger:in im Ehren­amt wer­den \n\n\n\nNeu­er Qua­li­fi­ka­ti­ons­kurs für Frei­wil­li­ge ange­bo­ten vom Evan­ge­li­schen Kir­chen­kreis Bie­le­feld. \n\n\n\nDer nächs­te Kurs star­tet im Sep­tem­ber 2025. \n\n\n\nWarum wir Seelsorger:innen im Ehrenamt brauchen und ausbilden\n\n\n\nDie Erfah­rung von Seel­sor­ge stärkt das Ver­trau­en in das Leben und den Glau­ben. Seel­sor­ge\, das ist die per­sön­li­che geist­li­che Beglei­tung und Unter­stüt­zung eines Men­schen. Anläs­se von Seel­sor­ge­ge­sprä­chen kön­nen Lebens­kri­sen sein sowie all­ge­mei­ne Lebens­si­tua­tio­nen von Ein­sam­keit\, Unsi­cher­heit oder die Suche nach Rat und Beglei­tung. \n\n\n\nAls Evan­ge­li­sche Kir­che ist es uns wich­tig\, die viel­fäl­ti­gen Auf­ga­ben der Seel­sor­ge auch in Zukunft gut und pro­fes­sio­nell durch­zu­füh­ren. Neben Pfarrer:innen und Diakon:innen wird Seel­sor­ge heu­te und zukünf­tig immer öfter auch in Inter­pro­fes­sio­nel­len Pas­to­ral­teams sowie durch ehren­amt­lich Mit­ar­bei­ten­de wahr­ge­nom­men. \n\n\n\nDie Ausbildung und Ihr Einsatzort\n\n\n\nWäh­rend der Aus­bil­dung zum Seel­sor­ger oder zur Seel­sor­ge­rin im Ehren­amt wer­den Sie in Theo­rie und Pra­xis in einer Grup­pe von etwa 15 Per­so­nen dar­auf vor­be­rei­tet. Die Kur­se wer­den in Zusam­men­ar­beit mit der Evan­ge­li­schen Bil­dungs­stät­te für Dia­ko­nie und Gemein­de durch­ge­führt. Die Aus­bil­dung dau­ert etwa ein Jahr. \n\n\n\nNach dem Basis­kurs (Theo­rie) kön­nen Sie ent­schei­den\, ob Sie in einem Alten­heim\, einem Kran­ken­haus oder in einer Gemein­de in Bie­le­feld ein­ge­setzt wer­den möch­ten. In die­sem Pra­xis­feld kön­nen Sie dann ers­te Erfah­run­gen sam­meln. Im Anschluss an den Pra­xis­teil erhal­ten sie ein Zer­ti­fi­kat der Evan­ge­li­schen Kir­che von West­fa­len und wer­den in einem Got­tes­dienst mit der Seel­sor­ge an dem Ort ihrer Wahl beauf­tragt. \n\n\n\nNehmen Sie mit uns Kontakt auf\n\n\n\nSie haben Fra­gen zur Aus­bil­dung oder sind sich unsi­cher\, ob Sie für die­sen Dienst geeig­net sind? Dann schrei­ben Sie uns eine E‑Mail oder rufen Sie uns an. \n\n\n\nInfos unter: https://www.kirche-bielefeld.de/aktuelles/aktuelle-projekte/seelsorge-im-ehrenamt \n\n\n\nRuth Wes­sels \n\n\n\nPfar­re­rin (0521) 581–11 75ruth.wessels2@klinikumbielefeld.de \n\n\n\n\n\n\n\n\nKran­ken­haus­seel­sor­ge im Kli­ni­kum Bie­le­feld — Mit­te\n\n\n\nPro­jekt: Seel­sor­ge im Ehren­amt\n\n\n\n\nUte Wein­mann \n\n\n\nPfar­re­rin i.R.ute.weinmann@kk-ekvw.de \n\n\n\n\n\n\n\n\nPro­jekt: Seel­sor­ge im Ehren­amt
URL:https://freiwilligenagentur-bielefeld.de/veranstaltung/seelsorgerin-im-ehrenamt-werden-2
END:VEVENT
BEGIN:VEVENT
DTSTART;TZID=Europe/Berlin:20250805T150000
DTEND;TZID=Europe/Berlin:20250805T170000
DTSTAMP:20260422T214525
CREATED:20250804T110306Z
LAST-MODIFIED:20250804T110325Z
UID:10000037-1754406000-1754413200@freiwilligenagentur-bielefeld.de
SUMMARY:Zeitgemäße Öffentlichkeitsarbeit
DESCRIPTION:Digi­ta­le Kom­mu­ni­ka­ti­ons­ka­nä­le wie Social Media\, News­let­ter und Web­sites bie­ten enor­me Poten­zia­le – auch für Ver­ei­ne. In die­sem Work­shop lernst Du\, wie Dein Ver­ein in der moder­nen Kom­mu­ni­ka­ti­ons­welt erfolg­reich ver­tre­ten wird. Wir zei­gen Dir\, wie Du ver­schie­de­ne Platt­for­men stra­te­gisch nutzt und Dei­ne Öffent­lich­keits­ar­beit ganz­heit­lich und ein­heit­lich auf­baust. \n\n\n\nKon­takt­an­ga­ben \n\n\n\nehrenamt-zweinull@posteo.de \n\n\n\nSey­en­gas­se 5\, 50678 Köln\, Innen­stadt\, Ger­ma­ny \n\n\n\nInfos und Anmel­dung: Zeit­ge­mä­ße Öffent­lich­keits­ar­beit | Ehren­amt 2.0
URL:https://freiwilligenagentur-bielefeld.de/veranstaltung/zeitgemaesse-oeffentlichkeitsarbeit
LOCATION:Online
CATEGORIES:Workshop / Fortbildung
END:VEVENT
BEGIN:VEVENT
DTSTART;TZID=Europe/Berlin:20250806T120000
DTEND;TZID=Europe/Berlin:20250806T140000
DTSTAMP:20260422T214525
CREATED:20250804T112037Z
LAST-MODIFIED:20250804T112056Z
UID:10000041-1754481600-1754488800@freiwilligenagentur-bielefeld.de
SUMMARY:How to Prompt
DESCRIPTION:ChatGPT ver­ste­hen und bedie­nen ler­nen \n\n\n\n\n\nEnt­de­cke\, wie KI-Sys­te­me rich­tig bedient wer­den! In die­sem Work­shop zei­gen wir dir die Grund­la­gen im Umgang mit der KI und wie du mit geziel­ten Auf­for­de­run­gen (Prompts) die bes­ten Ergeb­nis­se erzielst. Ler­ne\, kla­re und effek­ti­ve Arbeits­auf­trä­ge zu for­mu­lie­ren\, damit KIs wie ChatGPT genau das lie­fern\, was du brauchst. Die­ser kom­pak­te Work­shop bie­tet dir einen ChatGPT ver­ste­hen und bedie­nen ler­nen­pra­xis­na­hen Ein­stieg ins Promp­ting – für krea­ti­ve\, schnel­le und effi­zi­en­te Lösun­gen in dei­nem Ver­eins­all­tag.
URL:https://freiwilligenagentur-bielefeld.de/veranstaltung/how-to-prompt
LOCATION:Online
CATEGORIES:Workshop / Fortbildung
ORGANIZER;CN="ehrenamt-zweinull":MAILTO:ehrenamt-zweinull@posteo.de
END:VEVENT
BEGIN:VEVENT
DTSTART;TZID=Europe/Berlin:20250807T163000
DTEND;TZID=Europe/Berlin:20250807T183000
DTSTAMP:20260422T214525
CREATED:20250527T094906Z
LAST-MODIFIED:20250718T083517Z
UID:10000031-1754584200-1754591400@freiwilligenagentur-bielefeld.de
SUMMARY:Schulung für Hitzepat*innen
DESCRIPTION:Hit­ze­wel­len stel­len eine außer­or­dent­li­che Belas­tung für den mensch­li­chen Kör­per dar\, ins­be­son­de­re für älte­re Men­schen und ande­re Risi­ko­grup­pen. Um dar­auf bes­ser vor­be­rei­tet zu sein\, sucht die Stadt Bie­le­feld Inter­es­sier­te\, die sich zu Hitzepat*innen qua­li­fi­zie­ren möch­ten. Die­se kön­nen hilfs­be­dürf­ti­ge Men­schen in Hit­ze­wel­len in der Nach­bar­schaft\, beim Ein­kau­fen\, beim Gang zur medi­zi­ni­schen Pra­xis oder bei ande­ren All­tags­tä­tig­kei­ten unter­stüt­zen. Das Gesundheits‑\, Vete­ri­när- und Lebens­mit­tel­über­wa­chungs­amt sucht hier­für ins­be­son­de­re aus den Stadt­be­zir­ken Mit­te\, Brack­we­de und Gad­der­baum Frei­wil­li­ge. \n\n\n\nBit­te mel­den Sie sich bei dem unten­ste­hen­den Kon­takt an.
URL:https://freiwilligenagentur-bielefeld.de/veranstaltung/schulung-fuer-hitzepatinnen
LOCATION:Gesundheitsamt\, Raum 203\, Nikolaus-Dürkopp-Str. 5–9\, Bielefeld\, Germany
END:VEVENT
BEGIN:VEVENT
DTSTART;TZID=Europe/Berlin:20250807T180000
DTEND;TZID=Europe/Berlin:20250807T200000
DTSTAMP:20260422T214525
CREATED:20250804T112935Z
LAST-MODIFIED:20250807T110348Z
UID:10000043-1754589600-1754596800@freiwilligenagentur-bielefeld.de
SUMMARY:Canva Crashkurs
DESCRIPTION:Krea­tiv im Hand­um­dre­hen \n\n\n\n\n\nMöch­test du dei­ne eige­nen Gra­fi­ken und Designs erstel­len\, ohne ein Design-Pro­fi zu sein? Can­va ist ein spie­lend leicht bedien­ba­res Design­tool\, das für Ver­ei­ne sogar kos­ten­frei ist. In die­sem Mit­tags­hap­pen lernst du\, wie du mit Can­va beein­dru­cken­de Social-Media-Posts\, Fly­er\, Pla­ka­te und mehr gestal­ten kannst. Ent­de­cke die viel­fäl­ti­gen Funk­tio­nen von Can­va und mach Dei­nen Ver­ein bun­ter. \n\n\n\nInfos und Anmel­dung unter: https://www.ehrenamt-zweinull.com/service-page/how-to-prompt-12?referral=service_list_widget
URL:https://freiwilligenagentur-bielefeld.de/veranstaltung/canva-crashkurs
LOCATION:Online
CATEGORIES:Workshop / Fortbildung
ORGANIZER;CN="ehrenamt-zweinull":MAILTO:ehrenamt-zweinull@posteo.de
END:VEVENT
BEGIN:VEVENT
DTSTART;TZID=Europe/Berlin:20250811T120000
DTEND;TZID=Europe/Berlin:20250811T140000
DTSTAMP:20260422T214525
CREATED:20250804T112656Z
LAST-MODIFIED:20250807T110224Z
UID:10000042-1754913600-1754920800@freiwilligenagentur-bielefeld.de
SUMMARY:How to Prompt
DESCRIPTION:ChatGPT ver­ste­hen und bedie­nen ler­nen \n\n\n\n\n\nEnt­de­cke\, wie KI-Sys­te­me rich­tig bedient wer­den! In die­sem Work­shop zei­gen wir dir die Grund­la­gen im Umgang mit der KI und wie du mit geziel­ten Auf­for­de­run­gen (Prompts) die bes­ten Ergeb­nis­se erzielst. Ler­ne\, kla­re und effek­ti­ve Arbeits­auf­trä­ge zu for­mu­lie­ren\, damit KIs wie ChatGPT genau das lie­fern\, was du brauchst. Die­ser kom­pak­te Work­shop bie­tet dir einen pra­xis­na­hen Ein­stieg ins Promp­ting – für krea­ti­ve\, schnel­le und effi­zi­en­te Lösun­gen in dei­nem Ver­eins­all­tag. \n\n\n\nInfos und Anmel­dung unter: https://www.ehrenamt-zweinull.com/service-page/how-to-prompt-12?referral=service_list_widget
URL:https://freiwilligenagentur-bielefeld.de/veranstaltung/how-to-prompt-2
LOCATION:Online
CATEGORIES:Workshop / Fortbildung
ORGANIZER;CN="ehrenamt-zweinull":MAILTO:ehrenamt-zweinull@posteo.de
END:VEVENT
BEGIN:VEVENT
DTSTART;TZID=Europe/Berlin:20250813T180000
DTEND;TZID=Europe/Berlin:20250813T200000
DTSTAMP:20260422T214525
CREATED:20250807T104432Z
LAST-MODIFIED:20250807T110020Z
UID:10000045-1755108000-1755115200@freiwilligenagentur-bielefeld.de
SUMMARY:Padlet als moderner Vereinsplaner
DESCRIPTION:Ord­nung schaf­fen mit einem Klick \n\n\n\n\n\nVer­ab­schie­de Dich von chao­ti­schen Zet­teln und unüber­sicht­li­chen E‑Mails. In die­sem Work­shop lernst Du das digi­ta­le Orga­board Pad­let ken­nen. Ob für Event­pla­nung\, Team­kom­mu­ni­ka­ti­on oder Res­sour­cen­ein­tei­lung – ent­de­cke mit­hil­fe von Pad­let\, wie ein­fach die Ver­eins­or­ga­ni­sa­ti­on sein kann und bring fri­schen Wind in Dei­nen Ver­ein. Sei dabei und mach den ers­ten Schritt zu mehr Effi­zi­enz und Spaß in der Ver­eins­ar­beit. \n\n\n\nInfos und Anmel­dung unter: https://www.ehrenamt-zweinull.com/service-page/padlet-als-moderner-vereinsplaner‑6?referral=service_list_widget
URL:https://freiwilligenagentur-bielefeld.de/veranstaltung/padlet-als-moderner-vereinsplaner
LOCATION:Online
CATEGORIES:Workshop / Fortbildung
ORGANIZER;CN="ehrenamt-zweinull":MAILTO:ehrenamt-zweinull@posteo.de
END:VEVENT
BEGIN:VEVENT
DTSTART;TZID=Europe/Berlin:20250815T150000
DTEND;TZID=Europe/Berlin:20250815T170000
DTSTAMP:20260422T214525
CREATED:20250804T110815Z
LAST-MODIFIED:20250804T110835Z
UID:10000038-1755270000-1755277200@freiwilligenagentur-bielefeld.de
SUMMARY:Zeitgemäße Öffentlichkeitsarbeit
DESCRIPTION:Digi­ta­le Kom­mu­ni­ka­ti­ons­ka­nä­le wie Social Media\, News­let­ter und Web­sites bie­ten enor­me Poten­zia­le – auch für Ver­ei­ne. In die­sem Work­shop lernst Du\, wie Dein Ver­ein in der moder­nen Kom­mu­ni­ka­ti­ons­welt erfolg­reich ver­tre­ten wird. Wir zei­gen Dir\, wie Du ver­schie­de­ne Platt­for­men stra­te­gisch nutzt und Dei­ne Öffent­lich­keits­ar­beit ganz­heit­lich und ein­heit­lich auf­baust. Mel­de Dich an und brin­ge die Kom­mu­ni­ka­ti­on Dei­nes Ver­eins auf das nächs­te Level! \n\n\n\nKontaktangaben\n\n\n\nehrenamt-zweinull@posteo.de \n\n\n\nSey­en­gas­se 5\, 50678 Köln\, Innen­stadt\, Ger­ma­ny \n\n\n\nInfos und Anmel­dung unter: Zeit­ge­mä­ße Öffent­lich­keits­ar­beit | Ehren­amt 2.0
URL:https://freiwilligenagentur-bielefeld.de/veranstaltung/zeitgemaesse-oeffentlichkeitsarbeit-2
LOCATION:Online
CATEGORIES:Workshop / Fortbildung
END:VEVENT
BEGIN:VEVENT
DTSTART;TZID=Europe/Berlin:20250818T150000
DTEND;TZID=Europe/Berlin:20250818T170000
DTSTAMP:20260422T214525
CREATED:20250807T104726Z
LAST-MODIFIED:20250807T105702Z
UID:10000046-1755529200-1755536400@freiwilligenagentur-bielefeld.de
SUMMARY:Padlet als moderner Vereinsplaner
DESCRIPTION:Ord­nung schaf­fen mit einem Klick \n\n\n\n\n\nVer­ab­schie­de Dich von chao­ti­schen Zet­teln und unüber­sicht­li­chen E‑Mails. In die­sem Work­shop lernst Du das digi­ta­le Orga­board Pad­let ken­nen. Ob für Event­pla­nung\, Team­kom­mu­ni­ka­ti­on oder Res­sour­cen­ein­tei­lung – ent­de­cke mit­hil­fe von Pad­let\, wie ein­fach die Ver­eins­or­ga­ni­sa­ti­on sein kann und bring fri­schen Wind in Dei­nen Ver­ein. Sei dabei und mach den ers­ten Schritt zu mehr Effi­zi­enz und Spaß in der Ver­eins­ar­beit. \n\n\n\nInfos und Anmel­dung unter: https://www.ehrenamt-zweinull.com/service-page/padlet-als-moderner-vereinsplaner‑6?referral=service_list_widget
URL:https://freiwilligenagentur-bielefeld.de/veranstaltung/padlet-als-moderner-vereinsplaner-2
LOCATION:Online
CATEGORIES:Workshop / Fortbildung
ORGANIZER;CN="ehrenamt-zweinull":MAILTO:ehrenamt-zweinull@posteo.de
END:VEVENT
BEGIN:VEVENT
DTSTART;TZID=Europe/Berlin:20250822T120000
DTEND;TZID=Europe/Berlin:20250822T140000
DTSTAMP:20260422T214525
CREATED:20250804T111127Z
LAST-MODIFIED:20250804T111147Z
UID:10000039-1755864000-1755871200@freiwilligenagentur-bielefeld.de
SUMMARY:Text-Level-up - Vereinsanträge & Co
DESCRIPTION:Bes­ser tex­ten mit KI-Power \n\n\n\n\n\nEin lee­res Blatt und kei­ne Ideen? Oder das Gefühl\, immer wie­der die­sel­ben Sät­ze zu schrei­ben? Damit ist jetzt Schluss. In unse­rem Work­shop lernst du\, wie du mit­hil­fe von KI dei­ne Anträ­ge\, Berich­te und alle ande­ren Tex­te mit Klar­heit\, Struk­tur und Prä­zi­si­on ver­fasst. Kein Wirr­warr mehr\, son­dern Tex­te\, die auf den Punkt kom­men und über­zeu­gen. Lass dich inspi­rie­ren und bring dei­ne Tex­te mit prak­ti­schen Tipps auf das nächs­te Level. \n\n\n\nKontaktangaben\n\n\n\nehrenamt-zweinull@posteo.de \n\n\n\nSey­en­gas­se 5\, 50678 Köln\, Innen­stadt\, Ger­ma­ny \n\n\n\nInfos und Anmel­dung unter: Text-Level-up — Ver­eins­an­trä­ge & Co | Ehren­amt 2.0
URL:https://freiwilligenagentur-bielefeld.de/veranstaltung/text-level-up-vereinsantraege-co
LOCATION:Online
CATEGORIES:Workshop / Fortbildung
END:VEVENT
BEGIN:VEVENT
DTSTART;TZID=Europe/Berlin:20250825T150000
DTEND;TZID=Europe/Berlin:20250825T170000
DTSTAMP:20260422T214525
CREATED:20250807T105113Z
LAST-MODIFIED:20250807T105344Z
UID:10000047-1756134000-1756141200@freiwilligenagentur-bielefeld.de
SUMMARY:WeChange
DESCRIPTION:Alle Ver­eins­ak­ti­vi­tä­ten auf einer Platt­form \n\n\n\n\n\nIm Ver­eins­all­tag geht oft wert­vol­le Zeit mit der Suche nach Infor­ma­tio­nen ver­lo­ren. In die­sem Work­shop zei­gen wir Dir\, wie Du mit “WeCh­an­ge” fast die gesam­te Ver­eins­ar­beit auf einer ein­zi­gen Platt­form orga­ni­sierst – von der Daten­spei­che­rung über Auf­ga­ben­ver­tei­lung bis hin zum Kalen­der. Die ein­fa­che Hand­ha­bung macht es allen leicht\, die Platt­form zu nut­zen. \n\n\n\nInfo und Anmel­dung unter: https://www.ehrenamt-zweinull.com/service-page/wechange‑2?referral=service_list_widget
URL:https://freiwilligenagentur-bielefeld.de/veranstaltung/wechange
CATEGORIES:Workshop / Fortbildung
ORGANIZER;CN="ehrenamt-zweinull":MAILTO:ehrenamt-zweinull@posteo.de
END:VEVENT
BEGIN:VEVENT
DTSTART;TZID=Europe/Berlin:20250826T163000
DTEND;TZID=Europe/Berlin:20250826T200000
DTSTAMP:20260422T214525
CREATED:20250814T110755Z
LAST-MODIFIED:20250814T111145Z
UID:10000068-1756225800-1756238400@freiwilligenagentur-bielefeld.de
SUMMARY:Auf Augenhöhe streiten Ein Einstieg für alle\, die sich ehrenamtlich engagieren
DESCRIPTION:Du enga­gierst dich ehren­amt­lich und arbei­test mitMen­schen aus unter­schied­li­chen Lebens­rea­li­tä­ten –viel­leicht mit Migra­ti­ons- oder Flucht­hin­ter­grund?Dann weißt du: Wo Men­schen zusam­men­kom­men\,ent­ste­hen auch mal Span­nun­gen oder Miss­ver­ständ­nis­se.In unse­rem drei­tei­li­gen Ange­bot bekommst du Impul­se\,wie du Kon­flik­te früh­zei­tig erken­nen\, bes­ser ein­ord­nenund kon­struk­tiv beglei­ten kannst – auf Augen­hö­he undmit Hal­tung. \n\n\n\nAuf­takt mit Ercan Carik­ci : Kon­flik­te ver­ste­hen& ins Gespräch kom­menEin­füh­rung ins The­ma Kon­flik­teDei­ne Erfah­run­gen und Bedar­fe im Mit­tel­punktKur­zer Ein­blick ins Demo­kra­tie­trai­ningGemein­sa­mes Abend­essen & infor­mel­ler Aus­tausch \n\n\n\nAnmel­dung unter: \n\n\n\n\n\n\n\nInfos unter: https://ki-bielefeld.de/veranstaltungen
URL:https://freiwilligenagentur-bielefeld.de/veranstaltung/auf-augenhoehe-streiten-ein-einstieg-fuer-alle-die-sich-ehrenamtlich-engagieren
LOCATION:Neues Rathaus\, Niederwall 23\, 33602 Bielefeld\, Germany
CATEGORIES:Austausch und Begegnung,Informationsveranstaltung
ORGANIZER;CN="Stadt Bielefeld Kommunales Integrationszentrum  Neues Rathaus Niederwall 23 33602 Bielefeld":MAILTO:komm.integrationszentrum@bielefeld.de
END:VEVENT
BEGIN:VEVENT
DTSTART;TZID=Europe/Berlin:20250827T180000
DTEND;TZID=Europe/Berlin:20250827T200000
DTSTAMP:20260422T214525
CREATED:20250807T112242Z
LAST-MODIFIED:20250807T112304Z
UID:10000050-1756317600-1756324800@freiwilligenagentur-bielefeld.de
SUMMARY:Instagram Rundgang
DESCRIPTION:Dein Ein­stieg in die Ins­ta-Welt \n\n\n\n\n\nTau­che ein in die bun­te Welt von Insta­gram! In die­sem Mit­tags­hap­pen zei­gen wir Dir\, was Insta­gram ist und wie Du Dich dort zurecht­fin­dest. Wir spa­zie­ren gemein­sam in die bun­te Insta­welt und Du lernst die wesent­li­chen Funk­tio­nen und Begrif­fe der Platt­form ken­nen. Danach weißt Du\, was ein Hash­tag ist\, wo Du Nach­rich­ten ver­schi­cken kannst und was es bedeu­tet\, einen Post zu tei­len. Du lernst die wich­tigs­ten Ins­ta-Voka­beln und bekommst eine Art Schatz­kar­te\, mit der Du fin­dest\, was Du suchst. Besuch unse­ren Ins­ta-Rund­gang\, wenn Du Dich nicht so rich­tig bei Ins­ta zurecht­fin­dest\, ganz neu dort bist oder bald dort lan­den willst. Idea­ler­wei­se hast Du bereits vor­her ein Insta­pro­fil ange­legt. \n\n\n\nInfos und Anmel­dung unter: https://www.ehrenamt-zweinull.com/service-page/instagram-rundgang‑6?referral=service_list_widget
URL:https://freiwilligenagentur-bielefeld.de/veranstaltung/instagram-rundgang
LOCATION:Online
CATEGORIES:Workshop / Fortbildung
ATTACH;FMTTYPE=image/png:https://freiwilligenagentur-bielefeld.de/wp-content/uploads/2025/08/EA_Visual_Newsletter-1-00000002.png
ORGANIZER;CN="ehrenamt-zweinull":MAILTO:ehrenamt-zweinull@posteo.de
END:VEVENT
BEGIN:VEVENT
DTSTART;TZID=Europe/Berlin:20250828T180000
DTEND;TZID=Europe/Berlin:20250828T200000
DTSTAMP:20260422T214525
CREATED:20250807T112606Z
LAST-MODIFIED:20250807T112627Z
UID:10000051-1756404000-1756411200@freiwilligenagentur-bielefeld.de
SUMMARY:Canva Crashkurs
DESCRIPTION:Krea­tiv im Hand­um­dre­hen \n\n\n\n\n\nMöch­test du dei­ne eige­nen Gra­fi­ken und Designs erstel­len\, ohne ein Design-Pro­fi zu sein? Can­va ist ein spie­lend leicht bedien­ba­res Design­tool\, das für Ver­ei­ne sogar kos­ten­frei ist. In die­sem Mit­tags­hap­pen lernst du\, wie du mit Can­va beein­dru­cken­de Social-Media-Posts\, Fly­er\, Pla­ka­te und mehr gestal­ten kannst. Ent­de­cke die viel­fäl­ti­gen Funk­tio­nen von Can­va und mach Dei­nen Ver­ein bun­ter! \n\n\n\nInfos und Anmel­dung unter: https://www.ehrenamt-zweinull.com/service-page/canva-crashkurs‑3?referral=service_list_widget
URL:https://freiwilligenagentur-bielefeld.de/veranstaltung/canva-crashkurs-2
LOCATION:Online
CATEGORIES:Workshop / Fortbildung
ATTACH;FMTTYPE=image/png:https://freiwilligenagentur-bielefeld.de/wp-content/uploads/2025/08/EA_Visual_Newsletter-1-00000002.png
ORGANIZER;CN="ehrenamt-zweinull":MAILTO:ehrenamt-zweinull@posteo.de
END:VEVENT
END:VCALENDAR