BEGIN:VCALENDAR
VERSION:2.0
PRODID:-//Freiwilligenagentur Bielefeld - ECPv6.15.20//NONSGML v1.0//EN
CALSCALE:GREGORIAN
METHOD:PUBLISH
X-ORIGINAL-URL:https://freiwilligenagentur-bielefeld.de
X-WR-CALDESC:Veranstaltungen für Freiwilligenagentur Bielefeld
REFRESH-INTERVAL;VALUE=DURATION:PT1H
X-Robots-Tag:noindex
X-PUBLISHED-TTL:PT1H
BEGIN:VTIMEZONE
TZID:Europe/Berlin
BEGIN:DAYLIGHT
TZOFFSETFROM:+0100
TZOFFSETTO:+0200
TZNAME:CEST
DTSTART:20240331T010000
END:DAYLIGHT
BEGIN:STANDARD
TZOFFSETFROM:+0200
TZOFFSETTO:+0100
TZNAME:CET
DTSTART:20241027T010000
END:STANDARD
BEGIN:DAYLIGHT
TZOFFSETFROM:+0100
TZOFFSETTO:+0200
TZNAME:CEST
DTSTART:20250330T010000
END:DAYLIGHT
BEGIN:STANDARD
TZOFFSETFROM:+0200
TZOFFSETTO:+0100
TZNAME:CET
DTSTART:20251026T010000
END:STANDARD
BEGIN:DAYLIGHT
TZOFFSETFROM:+0100
TZOFFSETTO:+0200
TZNAME:CEST
DTSTART:20260329T010000
END:DAYLIGHT
BEGIN:STANDARD
TZOFFSETFROM:+0200
TZOFFSETTO:+0100
TZNAME:CET
DTSTART:20261025T010000
END:STANDARD
END:VTIMEZONE
BEGIN:VEVENT
DTSTART;TZID=Europe/Berlin:20250901T180000
DTEND;TZID=Europe/Berlin:20250901T200000
DTSTAMP:20260422T201308
CREATED:20250807T110751Z
LAST-MODIFIED:20250807T110812Z
UID:10000048-1756749600-1756756800@freiwilligenagentur-bielefeld.de
SUMMARY:WeChange
DESCRIPTION:Alle Ver­eins­ak­ti­vi­tä­ten auf einer Platt­form \n\n\n\n\n\nIm Ver­eins­all­tag geht oft wert­vol­le Zeit mit der Suche nach Infor­ma­tio­nen ver­lo­ren. In die­sem Work­shop zei­gen wir Dir\, wie Du mit “WeCh­an­ge” fast die gesam­te Ver­eins­ar­beit auf einer ein­zi­gen Platt­form orga­ni­sierst – von der Daten­spei­che­rung über Auf­ga­ben­ver­tei­lung bis hin zum Kalen­der. Die ein­fa­che Hand­ha­bung macht es allen leicht\, die Platt­form zu nut­zen. \n\n\n\nInfos und Anmel­dung unter: https://www.ehrenamt-zweinull.com/service-page/wechange‑3?referral=service_list_widget
URL:https://freiwilligenagentur-bielefeld.de/veranstaltung/wechange-2
CATEGORIES:Workshop / Fortbildung
ORGANIZER;CN="ehrenamt-zweinull":MAILTO:ehrenamt-zweinull@posteo.de
END:VEVENT
BEGIN:VEVENT
DTSTART;TZID=Europe/Berlin:20250904T120000
DTEND;TZID=Europe/Berlin:20250904T140000
DTSTAMP:20260422T201308
CREATED:20250807T111018Z
LAST-MODIFIED:20250807T111624Z
UID:10000049-1756987200-1756994400@freiwilligenagentur-bielefeld.de
SUMMARY:Selbstorganisation im Aufgaben-Dschungel
DESCRIPTION:Struk­tur rein\, Stress raus \n\n\n\n\n\nZu vie­le Auf­ga­ben\, zu wenig Zeit und alles scheint gleich­zei­tig wich­tig? Will­kom­men im Ehren­amts-Dschun­gel! In die­sem Work­shop lernst du\, wie du mit ein­fa­chen Metho­den den Über­blick behältst – ob als Einzelkämpfer:in oder im Team. Wir zei­gen dir\, wie du mit Kan­ban-Boards Auf­ga­ben prio­ri­sierst\, rea­lis­tisch planst und kla­rer siehst\, was gera­de wirk­lich dran ist. \n\n\n\nOb auf Papier oder digi­tal: Mit die­ser Metho­de bringst du Struk­tur in dei­nen All­tag und behältst auch in stür­mi­schen Pro­jekt­pha­sen die Ruhe. \n\n\n\nKomm vor­bei und ent­de­cke\, wie Selbst­or­ga­ni­sa­ti­on im Ehren­amt leicht(er) gehen kann! \n\n\n\nInfos und Anmel­dung unter: https://www.ehrenamt-zweinull.com/service-page/selbstorganisation-im-aufgaben-dschungel‑1?referral=service_list_widget
URL:https://freiwilligenagentur-bielefeld.de/veranstaltung/selbstorganisation-im-aufgaben-dschungel
CATEGORIES:Workshop / Fortbildung
ATTACH;FMTTYPE=image/png:https://freiwilligenagentur-bielefeld.de/wp-content/uploads/2025/08/EA_Visual_Newsletter-1-00000002.png
ORGANIZER;CN="ehrenamt-zweinull":MAILTO:ehrenamt-zweinull@posteo.de
END:VEVENT
BEGIN:VEVENT
DTSTART;TZID=Europe/Berlin:20250904T170000
DTEND;TZID=Europe/Berlin:20250904T181500
DTSTAMP:20260422T201308
CREATED:20250512T115817Z
LAST-MODIFIED:20250512T115819Z
UID:10000026-1757005200-1757009700@freiwilligenagentur-bielefeld.de
SUMMARY:DSEEinformiert: Mittelabrufe\, Mittelverwendung\, Verwendungsnachweise
DESCRIPTION:Kos­ten­lo­ses Online-Semi­nar der DSEE \n\n\n\nEurer För­der­an­trag ist bewil­ligt? Ihr steckt mit­ten in der Umset­zung eures bewil­lig­ten Pro­jek­tes oder sogar schon kurz vor dem Pro­jekt­ab­schluss? In jeder Pha­se eines För­der­pro­jek­tes gibt es Fra­gen zur finan­zi­el­len Abwick­lung: Wann und wie muss ein Mit­tel­ab­ruf ein­ge­reicht wer­den? Wie und wofür dür­fen die geneh­mig­ten Mit­tel ver­wen­det wer­den? Wel­che Doku­men­ta­ti­ons­pflich­ten gibt es? Wie funk­tio­niert ein Ver­wen­dungs­nach­weis? Was gehört in einen Sach­be­richt? \n\n\n\nDas kom­pak­te Online-Semi­nar beant­wor­tet eure Fra­gen rund um das The­ma För­der­mit­tel: vom ers­ten Mit­tel­ab­ruf über die kor­rek­te Ver­wen­dung der För­der­mit­tel bis hin zum Nach­weis der Mit­tel­ver­wen­dung zum Ende eures Pro­jek­tes. \n\n\n\nInfo und Anmel­dung unter:#DSEE­in­for­miert: Mit­tel­ab­ru­fe\, Mit­tel­ver­wen­dung\, Ver­wen­dungs­nach­wei­se — Deut­sche Stif­tung für Enga­ge­ment und Ehren­amt
URL:https://freiwilligenagentur-bielefeld.de/veranstaltung/dseeinformiert-mittelabrufe-mittelverwendung-verwendungsnachweise-3
CATEGORIES:Workshop / Fortbildung
END:VEVENT
BEGIN:VEVENT
DTSTART;TZID=Europe/Berlin:20250910T160000
DTEND;TZID=Europe/Berlin:20250910T200000
DTSTAMP:20260422T201308
CREATED:20250814T111938Z
LAST-MODIFIED:20250814T112004Z
UID:10000069-1757520000-1757534400@freiwilligenagentur-bielefeld.de
SUMMARY:Auf Augenhöhe streiten Betzavta-Kurzworkshop mit Jürgen Schlicher
DESCRIPTION:Du enga­gierst dich ehren­amt­lich und arbei­test mitMen­schen aus unter­schied­li­chen Lebens­rea­li­tä­ten –viel­leicht mit Migra­ti­ons- oder Flucht­hin­ter­grund?Dann weißt du: Wo Men­schen zusam­men­kom­men\,ent­ste­hen auch mal Span­nun­gen oder Miss­ver­ständ­nis­se.In unse­rem drei­tei­li­gen Ange­bot bekommst du Impul­se\,wie du Kon­flik­te früh­zei­tig erken­nen\, bes­ser ein­ord­nenund kon­struk­tiv beglei­ten kannst – auf Augen­hö­he undmit Hal­tung. \n\n\n\nBetz­av­ta-Kurz­work­shop mit Jür­gen Schli­cher:Demo­kra­tie erleb­bar machen \n\n\n\n\nInter­ak­ti­ver Work­shop zur prak­ti­schenDemo­kra­tie­bil­dung\n\n\n\n\nWar­um mit­ma­chen? \n\n\n\nDu triffst ande­re Enga­gier­te aus der Stadt­ge­sell­schaft und stärkst den Zusam­men­halt durch dein Enga­ge­ment \n\n\n\nDu wirst siche­rer im Umgang mit Kon­flik­ten \n\n\n\nDu lernst Metho­den\, die du direkt in dei­nemEhren­amt nut­zen kannst \n\n\n\nAnmel­dung:
URL:https://freiwilligenagentur-bielefeld.de/veranstaltung/auf-augenhoehe-streiten-betzavta-kurzworkshop-mit-juergen-schlicher
LOCATION:Neues Rathaus\, Niederwall 23\, 33602 Bielefeld\, Germany
CATEGORIES:Austausch und Begegnung,Workshop / Fortbildung
ORGANIZER;CN="Stadt Bielefeld Kommunales Integrationszentrum  Neues Rathaus Niederwall 23 33602 Bielefeld":MAILTO:komm.integrationszentrum@bielefeld.de
END:VEVENT
BEGIN:VEVENT
DTSTART;TZID=Europe/Berlin:20250910T180000
DTEND;TZID=Europe/Berlin:20250910T200000
DTSTAMP:20260422T201308
CREATED:20250807T112901Z
LAST-MODIFIED:20250807T112922Z
UID:10000052-1757527200-1757534400@freiwilligenagentur-bielefeld.de
SUMMARY:Instagram Rundgang
DESCRIPTION:Dein Ein­stieg in die Ins­ta-Welt \n\n\n\n\n\nTau­che ein in die Welt von Insta­gram! In die­sem Work­shop zei­gen wir Dir\, wie Du Dich auf der Platt­form zurecht­fin­dest. Du lernst die wich­tigs­ten Funk­tio­nen\, Begrif­fe und Ins­ta-Voka­beln ken­nen – von Hash­tags über Nach­rich­ten bis hin zu Posts tei­len. Idea­ler­wei­se hast Du bereits ein Pro­fil ange­legt. Wenn Du neu bei Ins­ta bist oder Dich unsi­cher fühlst\, ist die­ser Rund­gang genau das Rich­ti­ge für Dich! \n\n\n\nInfos und Anmel­dung unter: https://www.ehrenamt-zweinull.com/service-page/instagram-rundgang‑5?referral=service_list_widget
URL:https://freiwilligenagentur-bielefeld.de/veranstaltung/instagram-rundgang-2
CATEGORIES:Workshop / Fortbildung
ATTACH;FMTTYPE=image/png:https://freiwilligenagentur-bielefeld.de/wp-content/uploads/2025/08/EA_Visual_Newsletter-1-00000002.png
ORGANIZER;CN="ehrenamt-zweinull":MAILTO:ehrenamt-zweinull@posteo.de
END:VEVENT
BEGIN:VEVENT
DTSTART;TZID=Europe/Berlin:20250911T150000
DTEND;TZID=Europe/Berlin:20250911T170000
DTSTAMP:20260422T201308
CREATED:20250804T111454Z
LAST-MODIFIED:20250804T111515Z
UID:10000040-1757602800-1757610000@freiwilligenagentur-bielefeld.de
SUMMARY:Text-Level-up - Vereinsanträge & Co
DESCRIPTION:Bes­ser tex­ten mit KI-Power \n\n\n\n\n\nEin lee­res Blatt und kei­ne Ideen? Oder das Gefühl\, immer wie­der die­sel­ben Sät­ze zu schrei­ben? Damit ist jetzt Schluss. In unse­rem Work­shop lernst du\, wie du mit­hil­fe von KI dei­ne Anträ­ge\, Berich­te und alle ande­ren Tex­te mit Klar­heit\, Struk­tur und Prä­zi­si­on ver­fasst. Kein Wirr­warr mehr\, son­dern Tex­te\, die auf den Punkt kom­men und über­zeu­gen. Lass dich inspi­rie­ren und bring dei­ne Tex­te mit prak­ti­schen Tipps auf das nächs­te Level.Kon­takt­an­ga­ben \n\n\n\nehrenamt-zweinull@posteo.de \n\n\n\nSey­en­gas­se 5\, 50678 Köln\, Innen­stadt\, Ger­ma­ny \n\n\n\nInfos und Anmel­dung unter: Text-Level-up — Ver­eins­an­trä­ge & Co | Ehren­amt 2.0
URL:https://freiwilligenagentur-bielefeld.de/veranstaltung/text-level-up-vereinsantraege-co-2
LOCATION:Online
CATEGORIES:Workshop / Fortbildung
END:VEVENT
BEGIN:VEVENT
DTSTART;TZID=Europe/Berlin:20250911T170000
DTEND;TZID=Europe/Berlin:20250911T190000
DTSTAMP:20260422T201308
CREATED:20250818T110619Z
LAST-MODIFIED:20250818T110641Z
UID:10000071-1757610000-1757617200@freiwilligenagentur-bielefeld.de
SUMMARY:Haftung im Verein
DESCRIPTION:Kos­ten­lo­ser Work­shop der West­fa­len­aka­de­mie \n\n\n\nEhren­amt schützt nicht vor einer Haf­tung; auch steu­er­be­güns­ti­ge Ver­ei­ne kön­nen für ein Fehl­ver­hal­ten ihrer „Reprä­sen­tan­ten“ in Anspruch genom­men wer­den. Wel­che Haf­tungs­ge­fah­ren kon­kret für wen tat­säch­lich bestehen\, zeigt das Semi­nar auf. Hier wer­den die typi­schen Haf­tungs­ge­fah­ren des Ver­eins wie auch die per­sön­li­chen Haf­tungs­ri­si­ken für Vor­stands­mit­glie­der und Mit­glie­der des Ver­eins dar­ge­stellt. \n\n\n\nAnmel­dung und Infos unter: https://www.westfalen-akademie.nrw/programm/haftung-im-verein/
URL:https://freiwilligenagentur-bielefeld.de/veranstaltung/haftung-im-verein
LOCATION:Online
CATEGORIES:Workshop / Fortbildung
END:VEVENT
BEGIN:VEVENT
DTSTART;TZID=Europe/Berlin:20250916T170000
DTEND;TZID=Europe/Berlin:20250916T181500
DTSTAMP:20260422T201308
CREATED:20250807T113955Z
LAST-MODIFIED:20250807T114017Z
UID:10000053-1758042000-1758046500@freiwilligenagentur-bielefeld.de
SUMMARY:#DSEEerklärt: Gemeinsam jonglieren statt allein kämpfen: Wege zu gesunder Verantwortung
DESCRIPTION:In die­sem Online-Semi­nar lernt ihr\, wie Ver­ant­wor­tung im Ehren­amt klar defi­niert und auf meh­re­re Schul­tern ver­teilt wer­den kann. Ihr lernt\, wie ihr die indi­vi­du­el­len Res­sour­cen und Stär­ken eures Teams sicht­bar macht und Ver­trau­en in neue – auch jün­ge­re – Enga­gier­te auf­baut. Mit pra­xis­na­hen Übun­gen fin­det ihr her­aus\, wie sich Enga­ge­ment mit dem eige­nen Leben ver­ein­ba­ren lässt und wie trans­pa­ren­te Ent­schei­dungs­pro­zes­se dazu bei­tra­gen\, dass Ver­ant­wor­tung nicht zur Über­for­de­rung führt. Ziel ist eine Kul­tur der Aner­ken­nung und Mit­ge­stal­tung\, in der sich jede*r mit ihren/seinen Ideen ein­brin­gen kann. \n\n\n\nRefe­ren­tin: Maren Dre­wes \n\n\n\nInfos und Anmel­dung unter: #DSEE­er­klärt: Gemein­sam jon­glie­ren statt allein kämp­fen: Wege zu gesun­der Ver­ant­wor­tung — Deut­sche Stif­tung für Enga­ge­ment und Ehren­amt
URL:https://freiwilligenagentur-bielefeld.de/veranstaltung/dseeerklaert-gemeinsam-jonglieren-statt-allein-kaempfen-wege-zu-gesunder-verantwortung
LOCATION:Online
CATEGORIES:Workshop / Fortbildung
ORGANIZER;CN="Deutsche Stiftung f%C3%BCr Engagement und Ehrenamt":MAILTO:hallo@d.s.e.e.de
END:VEVENT
BEGIN:VEVENT
DTSTART;TZID=Europe/Berlin:20250917T100000
DTEND;TZID=Europe/Berlin:20250917T180000
DTSTAMP:20260422T201308
CREATED:20250908T081353Z
LAST-MODIFIED:20250908T081422Z
UID:10000077-1758103200-1758132000@freiwilligenagentur-bielefeld.de
SUMMARY:Digital Gedacht\, Zukunft Gemacht: Tagescamp
DESCRIPTION:Digi­tal Gedacht\, Zukunft Gemacht ist das Ideen­camp für Dei­nen Ver­ein. Es lie­fert Ori­en­tie­rung und Über­blick zu den wich­tigs­ten Tools und Stra­te­gien für einen wirk­sa­me­ren Ver­eins­all­tag. Und\, wirk­lich wahr\, Du ent­wi­ckelst live einen ver­eins­in­di­vi­du­el­len Zukunfts­fahr­plan. \n\n\n\nHerz­stück der Kon­fe­renz ist unse­re selbst­ent­wi­ckel­te künst­li­che Intel­li­genz AIro­n­men\, die jeden Ver­ein in Win­des­ei­le ver­or­tet. Sie ana­ly­siert ver­eins­in­di­vi­du­ell den gegen­wär­ti­gen digi­tal­stra­te­gi­schen Ent­wick­lungs­stand und erar­bei­tet einen per­sön­li­chen Zukunfts­fahr­plan. Aber es wird nicht nur tech­nisch\, son­dern auch prak­tisch & per­sön­lich: Pro­bier neue Tools aus und erfah­re unmit­tel­bar von ech­ten Praktiker:innen\, wel­che Stra­te­gien einen gleich­sam pro­duk­ti­ven\, aber auch ent­spann­ten Ver­eins­all­tag ermög­li­chen. Im Ergeb­nis ver­stehst Du die gro­ßen stra­te­gi­schen Zusam­men­hän­ge\, erprobst kon­kre­te digi­ta­le All­tags­hel­fer und lernst Ver­eins­leu­te ken­nen\, bei denen es bereits läuft. Sei dabei und schal­te mit NRWs Moder­ni­sie­rungs­of­fen­si­ve die Super­kräf­te Dei­nes Ver­eins frei. \n\n\n\nDu ver­lässt das Ideen­camp mit: \n\n\n\n\nEinem ver­eins­in­di­vi­du­el­len Zukunfts­fahr­plan\, der digi­tal­stra­te­gi­sche Hand­lungs­fel­der offen­bart\n\n\n\nEiner Über­sicht der bes­ten Tools und Metho­den für einen leich­te­ren Ver­eins­all­tag\n\n\n\nStra­te­gi­schem Grund­wis­sen zur sys­te­ma­ti­schen Wirk­sam­keits­stei­ge­rung Dei­nes Ver­eins\n\n\n\nAuthen­ti­schen Ein­bli­cken von Praktiker:innen in digi­tal-agil Ver­eins­ab­läu­fe\n\n\n\nFreu­de und neu­en Kon­tak­ten zu Enga­gier­ten und Haupt­amt­li­chen aus ganz NRW\n\n\n\n\nDie hybri­de Kon­fe­renz kannst Du sowohl live vor Ort in der alten Feu­er­wa­che in Köln oder digi­tal zuge­schal­tet\, besu­chen. \n\n\n\nInfo und Anmel­dung unter: https://www.ehrenamt-zweinull.com/events/digital-gedacht-zukunft-gemacht-tagescamp‑1?utm_campaign=664d7a2d-28cf-4b4c-9a55-246d5bb6879c&utm_source=so&utm_medium=mail&cid=401b2559-017e-4dd7-a714-6044bd1d3e1d
URL:https://freiwilligenagentur-bielefeld.de/veranstaltung/digital-gedacht-zukunft-gemacht-tagescamp
LOCATION:Alte Feuerwache\, Melchiorstraße 3\, Köln
CATEGORIES:Austausch und Begegnung,Workshop / Fortbildung
END:VEVENT
BEGIN:VEVENT
DTSTART;TZID=Europe/Berlin:20250917T170000
DTEND;TZID=Europe/Berlin:20250917T181500
DTSTAMP:20260422T201308
CREATED:20250807T114317Z
LAST-MODIFIED:20250807T114338Z
UID:10000054-1758128400-1758132900@freiwilligenagentur-bielefeld.de
SUMMARY:#DSEEerklärt: Wenn Wandel auf Skepsis trifft – und wie daraus Zukunft wird
DESCRIPTION:Ver­än­de­rung weckt nicht nur Hoff­nung\, son­dern oft auch Zwei­fel – gera­de\, wenn immer die­sel­ben Per­so­nen Ent­schei­dun­gen tref­fen. In die­sem Online-Semi­nar lernt ihr\, wie ihr mit Beden­ken kon­struk­tiv umgeht und dar­in wich­ti­ge Impul­se für Wei­ter­ent­wick­lung erkennt. Wir stel­len euch Metho­den und Struk­tu­ren vor\, mit denen ihr Betei­li­gung aktiv gestal­ten und neue Per­spek­ti­ven hör­bar machen könnt. So ent­steht ein wert­schät­zen­der Dia­log\, der hilft\, Span­nun­gen zwi­schen Bewah­ren und Erneu­ern pro­duk­tiv auf­zu­lö­sen – und gemein­sam trag­fä­hi­ge nächs­te Schrit­te zu ent­wi­ckeln. \n\n\n\nRefe­ren­tin: Maren Dre­wes \n\n\n\nInfos und Anmel­dung unter: #DSEE­er­klärt: Wenn Wan­del auf Skep­sis trifft – und wie dar­aus Zukunft wird — Deut­sche Stif­tung für Enga­ge­ment und Ehren­amt
URL:https://freiwilligenagentur-bielefeld.de/veranstaltung/dseeerklaert-wenn-wandel-auf-skepsis-trifft-und-wie-daraus-zukunft-wird
LOCATION:Online
CATEGORIES:Workshop / Fortbildung
ORGANIZER;CN="Deutsche Stiftung f%C3%BCr Engagement und Ehrenamt":MAILTO:hallo@d.s.e.e.de
END:VEVENT
BEGIN:VEVENT
DTSTART;TZID=Europe/Berlin:20250918T180000
DTEND;TZID=Europe/Berlin:20250918T200000
DTSTAMP:20260422T201308
CREATED:20250806T092430Z
LAST-MODIFIED:20250806T092451Z
UID:10000044-1758218400-1758225600@freiwilligenagentur-bielefeld.de
SUMMARY:Ehrenamt gesucht! Informationsabend - Ambulanter Hospizdienst im AWO Kreisverband
DESCRIPTION:Ehren­amt gesucht! Der ambu­lan­te Hos­piz­dienst im AWO Kreis­ver­band sucht wei­te­re Ehren­amt­li­che für die so bedeut­sa­me Beglei­tung von Men­schen am Lebens­en­de und ihren An- und Zuge­hö­ri­gen. Aktu­ell enga­gie­ren sich knapp 30 Ehren­amt­li­che in der Hos­piz­li­chen Quar­tiers­be­glei­tung\, aber der Bedarf ist weit­aus grö­ßer.Wenn Sie min­des­tens drei Stun­den in der Woche Zeit haben und ver­schen­ken möch­ten\, und sich inder Lebens- und Ster­be­be­glei­tung von Men­schen und ihren Ange­hö­ri­gen ein­brin­gen möch­ten\, sind Sie herz­lich will­kom­men.Gewünscht sind Ehren­amt­li­che\, die aktiv und respekt­voll die Sor­ge­kul­tur in einem Quar­tier mit­ge­stal­ten und stär­ken.Ein umfang­rei­cher Kurs berei­tet die Ehren­amt­li­chen inten­siv auf ihre ver­ant­wor­tungs­vol­le Tätig­keit vor.Dar­über hin­aus erfah­ren Ehren­amt­li­che auch in Ihrem zukünf­ti­gen Tun eine regel­mä­ßi­ge pro­fes­sio­nel­le Unter­stüt­zung und För­de­rung.Am 30. Okto­ber 2025 star­tet ein neu­er Vor­be­rei­tungs­kurs. Neh­men Sie ger­ne schon jetzt  Kon­takt auf und infor­mie­ren Sie sich über dieMög­lich­kei­ten des ehren­amt­li­chen Mit­wir­kens in unse­rem Hos­piz­dienst.Oder besu­chen Sie den Infor­ma­ti­ons­abend in der Mein­olf­stra­ße\, dort stel­len Ihnen die bei­den Koor­di­na­to­rin­nen den Kurs und alle wei­te­ren Auf­ga­ben des Hos­piz­diens­tes vor. Wei­te­re Infor­ma­tio­nen zum Hos­pi­zeh­ren­amt erhal­ten Sie von unse­ren Hos­piz­ko­or­di­na­to­rin­nen Bernd Vin­ke und Jen­ni­fer Pet­ker.
URL:https://freiwilligenagentur-bielefeld.de/veranstaltung/ehrenamt-gesucht-informationsabend-ambulanter-hospizdienst-im-awo-kreisverband
LOCATION:Meinolfstr. 4 33607 Bielefeld
ORGANIZER;CN="Ambulanter Hospizdienst AWO Kreisverband":MAILTO:hospizdienst@awo-bielefeld.de
END:VEVENT
BEGIN:VEVENT
DTSTART;TZID=Europe/Berlin:20250920T100000
DTEND;TZID=Europe/Berlin:20250920T160000
DTSTAMP:20260422T201308
CREATED:20250818T111157Z
LAST-MODIFIED:20250818T111223Z
UID:10000072-1758362400-1758384000@freiwilligenagentur-bielefeld.de
SUMMARY:Konflikte im Ehrenamt
DESCRIPTION:Ehren­amt ist sinn­stif­tend\, gemein­wohl­ori­en­tiert und soll den Enga­gier­ten Freu­de berei­ten. Doch auch im Ehren­amt tref­fen unter­schied­li­che Men­schen mit unter­schied­li­chen Cha­rak­ter­ei­gen­schaf­ten\, Moti­ven\, Vor­stel­lun­gen und zeit­li­chen Res­sour­cen auf­ein­an­der. Das bringt beson­ders in ehren­amt­li­chen Teams Her­aus­for­de­run­gen mit sich\, die manch­mal zu Las­ten von Moti­va­ti­on und Team­geist gehen.Wie Sie die­se Kon­flik­te pro­duk­tiv nut­zen und auch ziel­ge­rich­tet klä­ren kön­nen – das wird The­ma unse­res Semi­nars in Coes­feld.Sie erfah­ren vie­les über Hin­ter­grün­de und Kon­flikt­ver­hal­ten im Kon­text Ehren­amt. In prak­ti­schen Übun­gen ana­ly­sie­ren Sie Ihr eige­nes Kon­flikt­ver­hal­ten und erlan­gen so Sicher­heit für die indi­vi­du­el­len Her­aus­for­de­run­gen Ihres Enga­ge­ments.Ins­ge­samt legen wir gro­ßen Wert auf den Best-Prac­ti­ce-Aus­tausch\, auf den die Trai­ne­rin in Ihrer Mode­ra­ti­on einen beson­de­ren Fokus legen wird. \n\n\n\nDas Semi­nar fin­det im Rah­men der Rei­he West­fa­len-Aka­de­mie vor Ort statt. \n\n\n\nInfos und Anmel­dung unter: https://www.westfalen-akademie.nrw/programm/umgang-mit-konflikten/
URL:https://freiwilligenagentur-bielefeld.de/veranstaltung/konflikte-im-ehrenamt
CATEGORIES:Austausch und Begegnung,Workshop / Fortbildung
END:VEVENT
BEGIN:VEVENT
DTSTART;TZID=Europe/Berlin:20250926T160000
DTEND;TZID=Europe/Berlin:20250926T200000
DTSTAMP:20260422T201308
CREATED:20250818T111559Z
LAST-MODIFIED:20250818T111623Z
UID:10000073-1758902400-1758916800@freiwilligenagentur-bielefeld.de
SUMMARY:Haltung bewahren in herausfordernden Situationen
DESCRIPTION:Vie­le Ver­eins­ak­ti­ve erle­ben der­zeit\, dass dis­kri­mi­nie­ren­de Aus­sa­gen\, Ver­schwö­rungs­ideo­lo­gien oder demo­kra­tie­feind­li­che Nar­ra­ti­ve Ein­fluss auf die Ver­eins­ar­beit neh­men. Wie kön­nen wir sol­chen Her­aus­for­de­run­gen begeg­nen\, ohne unse­re Hal­tung zu ver­lie­ren? \n\n\n\nAnhand rea­ler Bei­spie­le aus dem Ver­eins­all­tag wol­len wir im Work­shop gemein­sam über fol­gen­de Leit­fra­gen ins Gespräch kom­men: \n\n\n\n\nWie kann ich im Ver­ein kon­struk­tiv mit Stö­run­gen und demo­kra­tie­feind­li­chen Äuße­run­gen umge­hen?\n\n\n\nWel­che Hal­tung ver­tre­te ich per­sön­lich und wie kann mein Ver­ein eine kla­re Posi­ti­on zu Dis­kri­mi­nie­rung und Aus­gren­zung kom­mu­ni­zie­ren?\n\n\n\nWann ist ein Gespräch sinn­voll\, wie kann ich die­ses füh­ren und in wel­chen Fäl­len ist es hilf­reich\, wei­te­re Per­so­nen ein­zu­be­zie­hen?\n\n\n\n\nIn die­sem pra­xis­ori­en­tier­ten Work­shop steht der Aus­tausch über kon­kre­te Erfah­run­gen im Mit­tel­punkt\, zum Bei­spiel aus Mit­glie­der­ver­samm­lun­gen\, öffent­li­chen Ver­an­stal­tun­gen oder all­täg­li­chen Situa­tio­nen im Ver­eins­le­ben. Ziel dabei ist es\, gemein­sam Wege zu ent­wi­ckeln\, die Sicher­heit im Umgang mit her­aus­for­dern­den Momen­ten geben und die demo­kra­ti­sche Kul­tur im Ver­ein stär­ken. \n\n\n\nWir arbei­ten in Klein­grup­pen anhand von Fall­bei­spie­len aus der eige­nen Ver­eins­rea­li­tät. Dabei ent­ste­hen kon­kre­te Hand­lungs­op­tio­nen\, die sowohl prä­ven­tiv wir­ken als auch in aku­ten Situa­tio­nen Sicher­heit bie­ten. Ergän­zend erhal­ten Sie theo­re­ti­schen Input zu demo­kra­tie­feind­li­chen Mecha­nis­men und Dis­kurs­dy­na­mi­ken. \n\n\n\nDer Work­shop rich­tet sich an alle inter­es­sier­ten und Akti­ven in Ver­eins­zu­sam­men­hän­gen\, die ihre stra­te­gi­sche und rhe­to­ri­sche Hal­tung schär­fen wol­len. \n\n\n\nReferent*innen: Marie Fath und David Püth\, Mobi­le Bera­tung gegen Rechts­extre­mis­mus (mobim) \n\n\n\nUm früh­zei­ti­ge Anmel­dung wird auf­grund begrenz­ter Teil­neh­men­den­zahl gebe­ten. \n\n\n\nInfos und Anmel­dung unter: https://www.westfalen-akademie.nrw/programm/haltung-bewahren/
URL:https://freiwilligenagentur-bielefeld.de/veranstaltung/haltung-bewahren-in-herausfordernden-situationen
CATEGORIES:Austausch und Begegnung,Workshop / Fortbildung
END:VEVENT
BEGIN:VEVENT
DTSTART;TZID=Europe/Berlin:20250930T170000
DTEND;TZID=Europe/Berlin:20250930T181500
DTSTAMP:20260422T201308
CREATED:20250807T114636Z
LAST-MODIFIED:20250807T114657Z
UID:10000055-1759251600-1759256100@freiwilligenagentur-bielefeld.de
SUMMARY:#DSEEerklärt: Mit Sicherheit engagiert- Haftungsrisiken erkennen und minimieren
DESCRIPTION:Ob Vor­stand\, Kas­sen­war­tin oder Pro­jekt­lei­ter – wer im Ver­ein Ver­ant­wor­tung trägt\, kann bei Pflicht­ver­let­zun­gen per­sön­lich haf­ten. In die­sem Online-Semi­nar zei­gen wir euch\, wo die größ­ten Risi­ken für Ehren- und Haupt­amt­li­che lie­gen und wie ihr die­se wirk­sam mini­mie­ren könnt. Ihr erfahrt\, wel­che gesetz­li­chen Rege­lun­gen gel­ten\, wie Sat­zung und Geschäfts­ord­nung schüt­zen kön­nen\, wel­che typi­schen Haf­tungs­fal­len es gibt und wel­che Ver­si­che­run­gen sinn­voll absi­chern. \n\n\n\nZiel­grup­pe: Das Online-Semi­nar rich­tet sich vor allem an Vor­stän­de\, haupt­amt­li­che Geschäfts­füh­rer und alle\, die Ver­ant­wor­tung imVer­ein über­neh­men. \n\n\n\nRefe­rent: Dr. Dirk Schwenn \n\n\n\nInfos und Anmel­dung unter: #DSEE­er­klärt: Mit Sicher­heit enga­giert- Haf­tungs­ri­si­ken erken­nen und mini­mie­ren — Deut­sche Stif­tung für Enga­ge­ment und Ehren­amt
URL:https://freiwilligenagentur-bielefeld.de/veranstaltung/dseeerklaert-mit-sicherheit-engagiert-haftungsrisiken-erkennen-und-minimieren
LOCATION:Online
CATEGORIES:Workshop / Fortbildung
ORGANIZER;CN="Deutsche Stiftung f%C3%BCr Engagement und Ehrenamt":MAILTO:hallo@d.s.e.e.de
END:VEVENT
BEGIN:VEVENT
DTSTART;TZID=Europe/Berlin:20250930T180000
DTEND;TZID=Europe/Berlin:20250930T213000
DTSTAMP:20260422T201308
CREATED:20250908T082012Z
LAST-MODIFIED:20250908T082038Z
UID:10000078-1759255200-1759267800@freiwilligenagentur-bielefeld.de
SUMMARY:Digital Gedacht\, Zukunft Gemacht: Abendcamp
DESCRIPTION:Digi­tal Gedacht\, Zukunft Gemacht ist das Ideen­camp für Dei­nen Ver­ein. Es lie­fert Ori­en­tie­rung und Über­blick zu den wich­tigs­ten Tools und Stra­te­gien für einen wirk­sa­me­ren Ver­eins­all­tag. Und\, wirk­lich wahr\, Du ent­wi­ckelst live einen ver­eins­in­di­vi­du­el­len Zukunfts­fahr­plan. \n\n\n\nHerz­stück der Kon­fe­renz ist unse­re selbst­ent­wi­ckel­te künst­li­che Intel­li­genz AIro­n­men\, die jeden Ver­ein in Win­des­ei­le ver­or­tet. Sie ana­ly­siert ver­eins­in­di­vi­du­ell den gegen­wär­ti­gen digi­tal­stra­te­gi­schen Ent­wick­lungs­stand und erar­bei­tet einen per­sön­li­chen Zukunfts­fahr­plan. Aber es wird nicht nur tech­nisch\, son­dern auch prak­tisch & per­sön­lich: Pro­bier neue Tools aus und erfah­re unmit­tel­bar von ech­ten Praktiker:innen\, wel­che Stra­te­gien einen gleich­sam pro­duk­ti­ven\, aber auch ent­spann­ten Ver­eins­all­tag ermög­li­chen. Im Ergeb­nis ver­stehst Du die gro­ßen stra­te­gi­schen Zusam­men­hän­ge\, erprobst kon­kre­te digi­ta­le All­tags­hel­fer und lernst Ver­eins­leu­te ken­nen\, bei denen es bereits läuft. Sei dabei und schal­te mit NRWs Moder­ni­sie­rungs­of­fen­si­ve die Super­kräf­te Dei­nes Ver­eins frei. \n\n\n\nDu ver­lässt das Ideen­camp mit: \n\n\n\n\nEinem ver­eins­in­di­vi­du­el­len Zukunfts­fahr­plan\, der digi­tal­stra­te­gi­sche Hand­lungs­fel­der offen­bart\n\n\n\nEiner Über­sicht der bes­ten Tools und Metho­den für einen leich­te­ren Ver­eins­all­tag\n\n\n\nStra­te­gi­schem Grund­wis­sen zur sys­te­ma­ti­schen Wirk­sam­keits­stei­ge­rung Dei­nes Ver­eins\n\n\n\nAuthen­ti­schen Ein­bli­cken von Praktiker:innen in digi­tal-agil Ver­eins­ab­läu­fe\n\n\n\nFreu­de und neu­en Kon­tak­ten zu Enga­gier­ten und Haupt­amt­li­chen aus ganz NRW\n\n\n\n\nDie hybri­de Kon­fe­renz kannst Du sowohl live vor Ort in der alten Feu­er­wa­che in Köln oder digi­tal zuge­schal­tet\, besu­chen. \n\n\n\nInfo und Anmel­dung unter: https://www.ehrenamt-zweinull.com/events/digital-gedacht-zukunft-gemacht-abendcamp‑1
URL:https://freiwilligenagentur-bielefeld.de/veranstaltung/digital-gedacht-zukunft-gemacht-abendcamp
LOCATION:Alte Feuerwache\, Melchiorstraße 3\, Köln
CATEGORIES:Austausch und Begegnung,Workshop / Fortbildung
END:VEVENT
END:VCALENDAR