BEGIN:VCALENDAR
VERSION:2.0
PRODID:-//Freiwilligenagentur Bielefeld - ECPv6.15.20//NONSGML v1.0//EN
CALSCALE:GREGORIAN
METHOD:PUBLISH
X-ORIGINAL-URL:https://freiwilligenagentur-bielefeld.de
X-WR-CALDESC:Veranstaltungen für Freiwilligenagentur Bielefeld
REFRESH-INTERVAL;VALUE=DURATION:PT1H
X-Robots-Tag:noindex
X-PUBLISHED-TTL:PT1H
BEGIN:VTIMEZONE
TZID:Europe/Berlin
BEGIN:DAYLIGHT
TZOFFSETFROM:+0100
TZOFFSETTO:+0200
TZNAME:CEST
DTSTART:20250330T010000
END:DAYLIGHT
BEGIN:STANDARD
TZOFFSETFROM:+0200
TZOFFSETTO:+0100
TZNAME:CET
DTSTART:20251026T010000
END:STANDARD
BEGIN:DAYLIGHT
TZOFFSETFROM:+0100
TZOFFSETTO:+0200
TZNAME:CEST
DTSTART:20260329T010000
END:DAYLIGHT
BEGIN:STANDARD
TZOFFSETFROM:+0200
TZOFFSETTO:+0100
TZNAME:CET
DTSTART:20261025T010000
END:STANDARD
BEGIN:DAYLIGHT
TZOFFSETFROM:+0100
TZOFFSETTO:+0200
TZNAME:CEST
DTSTART:20270328T010000
END:DAYLIGHT
BEGIN:STANDARD
TZOFFSETFROM:+0200
TZOFFSETTO:+0100
TZNAME:CET
DTSTART:20271031T010000
END:STANDARD
END:VTIMEZONE
BEGIN:VEVENT
DTSTART;TZID=Europe/Berlin:20260107T150000
DTEND;TZID=Europe/Berlin:20260107T170000
DTSTAMP:20260422T121534
CREATED:20251120T114640Z
LAST-MODIFIED:20251120T114908Z
UID:10000372-1767798000-1767805200@freiwilligenagentur-bielefeld.de
SUMMARY:Beratungszeit der Freiwilligenagentur Bielefeld e.V.
DESCRIPTION:Die Frei­wil­li­gen­agen­tur Bie­le­feld wur­de von der Arbeits­ge­mein­schaft Bie­le­fel­der Wohl­fahrts­ver­bän­de\, der Stadt Bie­le­feld und Bie­le­fel­der Unter­neh­men im Jahr 2006 gegrün­det.Die Frei­wil­li­gen­agen­tur koor­di­niert unab­hän­gig und gemein­wohl­ori­en­tiert Ange­bo­te und Nach­fra­ge für ehren­amt­li­ches Enga­ge­ment. \n\n\n\nWir bera­ten Bürger*innen zu Tätig­keits­fel­dern im frei­wil­li­gen Enga­ge­ment und unter­stüt­zen gemein­nüt­zi­ge Ein­rich­tun­gen und öffent­li­che Insti­tu­tio­nen durch Ver­mitt­lung von Frei­wil­li­gen. \n\n\n\nUnsere Beratungszeiten:\n\n\n\nMitt­woch 15.00 bis 17.00 Uhroder nach indi­vi­du­el­ler Ver­ein­ba­rung im Bera­tungs­bü­ro 1. Eta­ge der Stadt­bi­blio­thek Bie­le­feld
URL:https://freiwilligenagentur-bielefeld.de/veranstaltung/1359/2026-01-07
LOCATION:Stadtbibliothek Bielefeld\, Neumarkt 1\, Bielefeld\, Germany
CATEGORIES:Beratungsangebot FWA
ORGANIZER;CN="Freiwilligenagentur Bielefeld":MAILTO:info@freiwilligenagentur-bielefeld.de
END:VEVENT
BEGIN:VEVENT
DTSTART;TZID=Europe/Berlin:20260113T153000
DTEND;TZID=Europe/Berlin:20260113T180000
DTSTAMP:20260422T121534
CREATED:20251215T125833Z
LAST-MODIFIED:20260105T150815Z
UID:10000423-1768318200-1768327200@freiwilligenagentur-bielefeld.de
SUMMARY:Einsamkeit verstehen – Haltung entwickeln
DESCRIPTION:­Sen­si­bel für Begeg­nung und Zusam­men­halt Schu­lungs­rei­he für alle\, die mit Ein­sam­keit in Berüh­rung kom­menSie begeg­nen Men­schen die unter Ein­sam­keit lei­den?Zum Bei­spiel im Job oder Ehren­amt?Sie haben sich schon öfter gefragt\, wie Sie hel­fen kön­nen?Dann sind die­se Schu­lun­gen für Sie!Der AWO Kreis­ver­band Bie­le­feld e.V. und die Frei­wil­li­gen­agen­tur Bie­le­feld bie­ten vier Schu­lun­gen an\, die Sie befä­hi­gen\, mit dem The­ma Ein­sam­keit sen­si­bel und kom­pe­tent umzu­ge­hen.  ­ ­ ­ ­ ­\n\n\n\n13.01.2026 um 15:30 Uhr Ein­sam­keit ver­ste­hen – Hal­tung ent­wi­ckelnWas ist Ein­sam­keit?Lebens­la­gen\, Gesell­schaft­li­che Rele­vanz\,Refle­xi­on eige­ner Sicht­wei­sen\n\n\n\nAnmel­dung und Info unter: f.pap@awo-bielefeld.de \n\n\n\nDie Schu­lun­gen bau­en auf­ein­an­der auf\, kön­nen aber auch ein­zeln besucht wer­den.
URL:https://freiwilligenagentur-bielefeld.de/veranstaltung/einsamkeit-verstehen-haltung-entwickeln
LOCATION:Seminarraum 1. Etage Stadtbibliothek\, Neumarkt 1\, Bielefeld\, Germany
CATEGORIES:Austausch und Begegnung FWA,Workshop / Fortbildung FWA
ORGANIZER;CN="Freiwilligenagentur Bielefeld":MAILTO:info@freiwilligenagentur-bielefeld.de
END:VEVENT
BEGIN:VEVENT
DTSTART;TZID=Europe/Berlin:20260113T170000
DTEND;TZID=Europe/Berlin:20260113T181500
DTSTAMP:20260422T121534
CREATED:20260108T144404Z
LAST-MODIFIED:20260108T144433Z
UID:10000437-1768323600-1768328100@freiwilligenagentur-bielefeld.de
SUMMARY:#DSEEerklärt Vereinsschule: Ein Stück in die Zukunft - Junge Menschen für Vereinsarbeit begeistern
DESCRIPTION:In die­sem Online-Semi­nar erfahrt ihr\, wie Ver­ei­ne die Gene­ra­ti­on U30 für Vor­stands­ar­beit und Enga­ge­ment begeis­tern kön­nen. Wir zei­gen\, was jun­ge Men­schen moti­viert\, Ver­ant­wor­tung zu über­neh­men – und wie Ver­ei­ne Räu­me schaf­fen\, in denen neue Ideen\, fle­xi­ble Rol­len und Sinn­ori­en­tie­rung Platz fin­den. Mit kon­kre­ten Pra­xis­bei­spie­len und Impul­sen\, wie Betei­li­gung leben­dig und lang­fris­tig gelingt. \n\n\n\nDie­ses Ange­bot rich­tig sich an Enga­gier­te\, die wenig Vor­er­fah­rung in die­sem The­men­ge­biet haben. \n\n\n\nInfos und Anmel­dung: https://dsee-lernportal.de/course/Generationswechsel-26
URL:https://freiwilligenagentur-bielefeld.de/veranstaltung/dseeerklaert-vereinsschule-ein-stueck-in-die-zukunft-junge-menschen-fuer-vereinsarbeit-begeistern
LOCATION:Online
CATEGORIES:Informationsveranstaltung
END:VEVENT
BEGIN:VEVENT
DTSTART;TZID=Europe/Berlin:20260114T150000
DTEND;TZID=Europe/Berlin:20260114T170000
DTSTAMP:20260422T121534
CREATED:20251120T114640Z
LAST-MODIFIED:20251120T114908Z
UID:10000373-1768402800-1768410000@freiwilligenagentur-bielefeld.de
SUMMARY:Beratungszeit der Freiwilligenagentur Bielefeld e.V.
DESCRIPTION:Die Frei­wil­li­gen­agen­tur Bie­le­feld wur­de von der Arbeits­ge­mein­schaft Bie­le­fel­der Wohl­fahrts­ver­bän­de\, der Stadt Bie­le­feld und Bie­le­fel­der Unter­neh­men im Jahr 2006 gegrün­det.Die Frei­wil­li­gen­agen­tur koor­di­niert unab­hän­gig und gemein­wohl­ori­en­tiert Ange­bo­te und Nach­fra­ge für ehren­amt­li­ches Enga­ge­ment. \n\n\n\nWir bera­ten Bürger*innen zu Tätig­keits­fel­dern im frei­wil­li­gen Enga­ge­ment und unter­stüt­zen gemein­nüt­zi­ge Ein­rich­tun­gen und öffent­li­che Insti­tu­tio­nen durch Ver­mitt­lung von Frei­wil­li­gen. \n\n\n\nUnsere Beratungszeiten:\n\n\n\nMitt­woch 15.00 bis 17.00 Uhroder nach indi­vi­du­el­ler Ver­ein­ba­rung im Bera­tungs­bü­ro 1. Eta­ge der Stadt­bi­blio­thek Bie­le­feld
URL:https://freiwilligenagentur-bielefeld.de/veranstaltung/1359/2026-01-14
LOCATION:Stadtbibliothek Bielefeld\, Neumarkt 1\, Bielefeld\, Germany
CATEGORIES:Beratungsangebot FWA
ORGANIZER;CN="Freiwilligenagentur Bielefeld":MAILTO:info@freiwilligenagentur-bielefeld.de
END:VEVENT
BEGIN:VEVENT
DTSTART;TZID=Europe/Berlin:20260114T170000
DTEND;TZID=Europe/Berlin:20260114T181500
DTSTAMP:20260422T121534
CREATED:20260108T144732Z
LAST-MODIFIED:20260108T144758Z
UID:10000438-1768410000-1768414500@freiwilligenagentur-bielefeld.de
SUMMARY:#DSEEerklärt Vereinsschule: Von Hierarchie zu Gemeinschaft – Zusammenarbeit neu denken
DESCRIPTION:In die­sem Online-Semi­nar erfahrt ihr\, wie ihr Zusam­men­ar­beit im Vor­stand und Team so gestal­tet\, dass Ver­ant­wor­tung geteilt\, Ent­schei­dun­gen leich­ter und das Mit­ein­an­der mensch­li­cher wird. Anhand von Prin­zi­pi­en aus Sozio­kra­tie\, Selbst­füh­rung und Co-Lea­der­ship zei­gen wir\, wie Ver­ei­ne star­re Hier­ar­chien auf­bre­chen und Ver­trau­en als Basis für gemein­sa­me Wirk­sam­keit schaf­fen kön­nen. Mit pra­xis­na­hen Bei­spie­len lernt ihr Wege ken­nen\, um Rol­len kla­rer und Zusam­men­ar­beit leben­di­ger zu machen. \n\n\n\nDie­ses Ange­bot rich­tig sich an Enga­gier­te\, die bereits eini­ge Vor­er­fah­rung in die­sem The­men­ge­biet haben. \n\n\n\nInfos und Anmel­dung: https://dsee-lernportal.de/course/Zusammenarbeit-Vorstand-26
URL:https://freiwilligenagentur-bielefeld.de/veranstaltung/dseeerklaert-vereinsschule-von-hierarchie-zu-gemeinschaft-zusammenarbeit-neu-denken
LOCATION:Online
CATEGORIES:Informationsveranstaltung
END:VEVENT
BEGIN:VEVENT
DTSTART;TZID=Europe/Berlin:20260120T110000
DTEND;TZID=Europe/Berlin:20260120T120000
DTSTAMP:20260422T121534
CREATED:20260108T135310Z
LAST-MODIFIED:20260108T135333Z
UID:10000427-1768906800-1768910400@freiwilligenagentur-bielefeld.de
SUMMARY:Wirkung braucht Wege – Vertrieb für Non-Profits leicht gemacht
DESCRIPTION:Gemein­nüt­zi­ge Orga­ni­sa­tio­nen leis­ten tag­täg­lich Gro­ßes – sie schlie­ßen Lücken\, wo Staat und Markt an ihre Gren­zen sto­ßen. Doch oft feh­len Zeit\, Per­so­nal und Mit­tel\, um das vol­le Poten­zi­al zu ent­fal­ten. Dabei könn­ten Unter­neh­men\, Stif­tun­gen und ande­re Part­ner weit mehr als nur För­de­rer sein – wenn man sie gezielt anspricht. \n\n\n\nIn die­sem Web­i­nar zei­gen wir Ihnen\, wie Sie den Ver­trieb als stra­te­gi­sches Werk­zeug nut­zen kön­nen\, um neue Part­ner­schaf­ten zu gewin­nen\, Res­sour­cen zu erschlie­ßen und Ihre Wir­kung zu stei­gern. Auch wenn der Begriff „Ver­trieb“ zunächst fremd oder gar abschre­ckend klingt –Sie wer­den genau da abge­holt\, wo Sie ste­hen. \n\n\n\nDie­ses Web­i­nar rich­tet sich an alle\, die neue Wege gehen wol­len\, um ihre Orga­ni­sa­ti­on zukunfts­fä­hig auf­zu­stel­len – pra­xis­nah\, ver­ständ­lich und moti­vie­rend. \n\n\n\nInhal­te: \n\n\n\nWas kann ein erfolg­rei­cher Ver­triebs­an­satz kon­kret bewir­ken? \n\n\n\nWas bedeu­tet „Ver­trieb“ im gemein­nüt­zi­gen Kon­text? \n\n\n\nWar­um lohnt sich Ver­trieb auch für Non-Pro­fits? \n\n\n\nWel­che Hür­den ste­hen mul­ti­sek­to­ra­len Part­ner­schaf­ten im Weg – und wie las­sen sie sich über­win­den? \n\n\n\nWel­che Begrif­fe und Denk­wei­sen aus dem Ver­trieb sind hilf­reich? \n\n\n\nWie gelingt der ers­te Schritt – auch ohne Ver­triebs­team? \n\n\n\nInfos und Anmel­dung: https://www.hausdesstiftens.org/webinar/wirkung-braucht-wege-vertrieb-fuer-non-profits-leicht-gemacht/
URL:https://freiwilligenagentur-bielefeld.de/veranstaltung/wirkung-braucht-wege-vertrieb-fuer-non-profits-leicht-gemacht
LOCATION:Online
CATEGORIES:Informationsveranstaltung
ORGANIZER;CN="Haus des Stiftens":MAILTO:non-profits@hausdesstiftens.org
END:VEVENT
BEGIN:VEVENT
DTSTART;TZID=Europe/Berlin:20260120T170000
DTEND;TZID=Europe/Berlin:20260120T183000
DTSTAMP:20260422T121534
CREATED:20260112T090224Z
LAST-MODIFIED:20260112T090301Z
UID:10000444-1768928400-1768933800@freiwilligenagentur-bielefeld.de
SUMMARY:Online-Fortbildung für pflegende Angehörige„Sicher verbunden – trotzdem bei mir“
DESCRIPTION:Zurück­lie­gen­de trau­ma­ti­sche Erfah­run­gen kön­nen im Alter manch­mal wie­der spür­bar wer­den – mit Fol­gen für das Mit­ein­an­der in der Pfle­ge. Ange­hö­ri­ge erle­ben dann häu­fig star­ke Ambi­va­len­zen: das Bedürf­nis nach Nähe und Schutz der pfle­ge­be­dürf­ti­gen Per­son auf der einen Sei­te und den Wunsch nach Abstand und eige­ner Sta­bi­li­tät auf der ande­ren. Die­se Span­nungs­fel­der sind nor­mal – aber belas­tend. \n\n\n\nDie Online-Fort­bil­dung ver­mit­telt ein­füh­ren­des Wis­sen zu Trau­ma im Pfle­ge­kon­text\, zeigt Mus­ter trans­ge­ne­ra­tio­na­ler Wei­ter­ga­be auf und unter­stützt dabei\, Nähe und Distanz bewusst aus­zu­ba­lan­cie­ren. Durch kon­kre­te Impul­se sol­len Sicher­heit\, Klar­heit\, Selbst­für­sor­ge und Resi­li­enz geför­dert wer­den – für eine gute Bezie­hung und für die eige­ne Gesund­heit. \n\n\n\nFür wen? Pfle­gen­de Ange­hö­ri­ge und nahe­ste­hen­de Bezugs­per­so­nenZie­le: Ambi­va­len­zen ver­ste­hen\, Gren­zen wah­ren\, Ver­bun­den­heit erhal­ten \n\n\n\nBit­te mel­den sie sich bis zum 16.01.2026 unter dem fol­gen­den Link an: „Sicher ver­bun­den – trotz­dem bei mir“ – For­mu­lar aus­fül­len
URL:https://freiwilligenagentur-bielefeld.de/veranstaltung/online-fortbildung-fuer-pflegende-angehoerigesicher-verbunden-trotzdem-bei-mir
LOCATION:Online
CATEGORIES:Informationsveranstaltung,Workshop / Fortbildung
ORGANIZER;CN="AWO OWL":MAILTO:info@awo-owl.de
END:VEVENT
BEGIN:VEVENT
DTSTART;TZID=Europe/Berlin:20260121T150000
DTEND;TZID=Europe/Berlin:20260121T170000
DTSTAMP:20260422T121534
CREATED:20251120T114640Z
LAST-MODIFIED:20251120T114908Z
UID:10000374-1769007600-1769014800@freiwilligenagentur-bielefeld.de
SUMMARY:Beratungszeit der Freiwilligenagentur Bielefeld e.V.
DESCRIPTION:Die Frei­wil­li­gen­agen­tur Bie­le­feld wur­de von der Arbeits­ge­mein­schaft Bie­le­fel­der Wohl­fahrts­ver­bän­de\, der Stadt Bie­le­feld und Bie­le­fel­der Unter­neh­men im Jahr 2006 gegrün­det.Die Frei­wil­li­gen­agen­tur koor­di­niert unab­hän­gig und gemein­wohl­ori­en­tiert Ange­bo­te und Nach­fra­ge für ehren­amt­li­ches Enga­ge­ment. \n\n\n\nWir bera­ten Bürger*innen zu Tätig­keits­fel­dern im frei­wil­li­gen Enga­ge­ment und unter­stüt­zen gemein­nüt­zi­ge Ein­rich­tun­gen und öffent­li­che Insti­tu­tio­nen durch Ver­mitt­lung von Frei­wil­li­gen. \n\n\n\nUnsere Beratungszeiten:\n\n\n\nMitt­woch 15.00 bis 17.00 Uhroder nach indi­vi­du­el­ler Ver­ein­ba­rung im Bera­tungs­bü­ro 1. Eta­ge der Stadt­bi­blio­thek Bie­le­feld
URL:https://freiwilligenagentur-bielefeld.de/veranstaltung/1359/2026-01-21
LOCATION:Stadtbibliothek Bielefeld\, Neumarkt 1\, Bielefeld\, Germany
CATEGORIES:Beratungsangebot FWA
ORGANIZER;CN="Freiwilligenagentur Bielefeld":MAILTO:info@freiwilligenagentur-bielefeld.de
END:VEVENT
BEGIN:VEVENT
DTSTART;TZID=Europe/Berlin:20260121T170000
DTEND;TZID=Europe/Berlin:20260121T181500
DTSTAMP:20260422T121534
CREATED:20260108T145205Z
LAST-MODIFIED:20260108T145231Z
UID:10000439-1769014800-1769019300@freiwilligenagentur-bielefeld.de
SUMMARY:#DSEEerklärt Vereinsschule: Gemeinsam wirken – Strategisch führen im Ehrenamt
DESCRIPTION:In die­sem Online-Semi­nar erfahrt ihr\, wie Ver­ei­ne mit kla­rer Visi­on und gemein­sa­mer Rich­tung wirk­sa­mer arbei­ten kön­nen. Stra­te­gi­sches Den­ken wird mit Moti­va­ti­on und Betei­li­gung ver­knüpft: Wie las­sen sich Zie­le\, Ver­ant­wor­tung und Auf­ga­ben so gestal­ten\, dass Ehren­amt­li­che Ori­en­tie­rung und Sinn erle­ben? Ihr bekommt pra­xis­na­he Metho­den\, um Zusam­men­ar­beit zu struk­tu­rie­ren und Fort­schritt sicht­bar zu machen. Ihr erfahrt\, wie per­sön­li­che Ent­wick­lungs­zie­le und Ver­eins­stra­te­gie inein­an­der­grei­fen – und wie dar­aus im All­tag kon­kre­te Wir­kung ent­steht. \n\n\n\nDie­ses Ange­bot rich­tig sich an Enga­gier­te\, die bereits Vor­er­fah­rung in die­sem The­men­ge­biet haben. \n\n\n\nInfos und Anmel­dung: https://dsee-lernportal.de/course/Fuehrung-26
URL:https://freiwilligenagentur-bielefeld.de/veranstaltung/dseeerklaert-vereinsschule-gemeinsam-wirken-strategisch-fuehren-im-ehrenamt
LOCATION:Online
CATEGORIES:Informationsveranstaltung
END:VEVENT
BEGIN:VEVENT
DTSTART;TZID=Europe/Berlin:20260127T153000
DTEND;TZID=Europe/Berlin:20260127T180000
DTSTAMP:20260422T121534
CREATED:20251215T131618Z
LAST-MODIFIED:20260126T081447Z
UID:10000424-1769527800-1769536800@freiwilligenagentur-bielefeld.de
SUMMARY:FÄLLT AUS - Zugang gestalten – ins Gespräch kommen
DESCRIPTION:Auf­grund von Krank­heit müs­sen wir den Work­shop lei­der absa­gen. Die­ser wird nächs­te Woche Diens­tag nach­ge­holt. Am 03.02.2026 um 15:30 Uhr.  \n\n\n\nSen­si­bel für Begeg­nung und Zusam­men­haltSchu­lungs­rei­he für alle\, die mit Ein­sam­keit in Berüh­rung kom­menSie begeg­nen Men­schen die unter Ein­sam­keit lei­den?Zum Bei­spiel im Job oder Ehren­amt?Sie haben sich schon öfter gefragt\, wie Sie hel­fen kön­nen?Dann sind die­se Schu­lun­gen für Sie!Der AWO Kreis­ver­band Bie­le­feld e.V. und die Frei­wil­li­gen­agen­tur Bie­le­feld bie­ten vier Schu­lun­gen an\, die Sie befä­hi­gen\, mit dem The­ma Ein­sam­keit sen­si­bel und kom­pe­tent umzu­ge­hen.\n\n\n\n27.01.2026 um 15:30 Uhr Zugang gestal­ten – ins Gespräch kom­menGesprächs­füh­rung\, Nähe-Distanz-Kom­pe­tenz\,Ein­stieg in Kon­takt\, Hal­tung in Begeg­nung\n\n\n\nAnmel­dung und Info unter: f.pap@awo-bielefeld.de \n\n\n\nDie Schu­lun­gen bau­en auf­ein­an­der auf\, kön­nen aber auch ein­zeln besucht wer­den.
URL:https://freiwilligenagentur-bielefeld.de/veranstaltung/zugang-gestalten-ins-gespraech-kommen
LOCATION:Seminarraum 1. Etage Stadtbibliothek\, Neumarkt 1\, Bielefeld\, Germany
CATEGORIES:Austausch und Begegnung FWA,Workshop / Fortbildung FWA
END:VEVENT
BEGIN:VEVENT
DTSTART;TZID=Europe/Berlin:20260128T150000
DTEND;TZID=Europe/Berlin:20260128T170000
DTSTAMP:20260422T121534
CREATED:20251120T114640Z
LAST-MODIFIED:20251120T114908Z
UID:10000375-1769612400-1769619600@freiwilligenagentur-bielefeld.de
SUMMARY:Beratungszeit der Freiwilligenagentur Bielefeld e.V.
DESCRIPTION:Die Frei­wil­li­gen­agen­tur Bie­le­feld wur­de von der Arbeits­ge­mein­schaft Bie­le­fel­der Wohl­fahrts­ver­bän­de\, der Stadt Bie­le­feld und Bie­le­fel­der Unter­neh­men im Jahr 2006 gegrün­det.Die Frei­wil­li­gen­agen­tur koor­di­niert unab­hän­gig und gemein­wohl­ori­en­tiert Ange­bo­te und Nach­fra­ge für ehren­amt­li­ches Enga­ge­ment. \n\n\n\nWir bera­ten Bürger*innen zu Tätig­keits­fel­dern im frei­wil­li­gen Enga­ge­ment und unter­stüt­zen gemein­nüt­zi­ge Ein­rich­tun­gen und öffent­li­che Insti­tu­tio­nen durch Ver­mitt­lung von Frei­wil­li­gen. \n\n\n\nUnsere Beratungszeiten:\n\n\n\nMitt­woch 15.00 bis 17.00 Uhroder nach indi­vi­du­el­ler Ver­ein­ba­rung im Bera­tungs­bü­ro 1. Eta­ge der Stadt­bi­blio­thek Bie­le­feld
URL:https://freiwilligenagentur-bielefeld.de/veranstaltung/1359/2026-01-28
LOCATION:Stadtbibliothek Bielefeld\, Neumarkt 1\, Bielefeld\, Germany
CATEGORIES:Beratungsangebot FWA
ORGANIZER;CN="Freiwilligenagentur Bielefeld":MAILTO:info@freiwilligenagentur-bielefeld.de
END:VEVENT
END:VCALENDAR